BEGIN:VCALENDAR
VERSION:2.0
PRODID:-//Jubilee - ECPv6.15.20//NONSGML v1.0//EN
CALSCALE:GREGORIAN
METHOD:PUBLISH
X-WR-CALNAME:Jubilee
X-ORIGINAL-URL:https://jubileemd.org
X-WR-CALDESC:Events for Jubilee
REFRESH-INTERVAL;VALUE=DURATION:PT1H
X-Robots-Tag:noindex
X-PUBLISHED-TTL:PT1H
BEGIN:VTIMEZONE
TZID:America/New_York
BEGIN:DAYLIGHT
TZOFFSETFROM:-0500
TZOFFSETTO:-0400
TZNAME:EDT
DTSTART:20240310T070000
END:DAYLIGHT
BEGIN:STANDARD
TZOFFSETFROM:-0400
TZOFFSETTO:-0500
TZNAME:EST
DTSTART:20241103T060000
END:STANDARD
BEGIN:DAYLIGHT
TZOFFSETFROM:-0500
TZOFFSETTO:-0400
TZNAME:EDT
DTSTART:20250309T070000
END:DAYLIGHT
BEGIN:STANDARD
TZOFFSETFROM:-0400
TZOFFSETTO:-0500
TZNAME:EST
DTSTART:20251102T060000
END:STANDARD
BEGIN:DAYLIGHT
TZOFFSETFROM:-0500
TZOFFSETTO:-0400
TZNAME:EDT
DTSTART:20260308T070000
END:DAYLIGHT
BEGIN:STANDARD
TZOFFSETFROM:-0400
TZOFFSETTO:-0500
TZNAME:EST
DTSTART:20261101T060000
END:STANDARD
END:VTIMEZONE
BEGIN:VEVENT
DTSTART;TZID=America/New_York:20250909T110000
DTEND;TZID=America/New_York:20250909T150000
DTSTAMP:20260422T181739
CREATED:20250827T191236Z
LAST-MODIFIED:20250827T193309Z
UID:10008075-1757415600-1757430000@jubileemd.org
SUMMARY:DSP Celebration | Field Day
DESCRIPTION:Jubilee celebrates National DSP Week with special events that honor our frontline workers. Events are open to Jubilee staff. People we support may attend with their on-call staff if they wish. \nJoin us for our popular field day program where we’ll engage in a friendly competition soccer game and scavenger hunt! \nRSVP appreciated for Field Day! \nAttire: Suggest wearing sneakers and athletic clothing. \nDSP Week events are made possible by generous donations to our Employee Recognition Fund\, with special thanks to the families of Priscilla Johnson and Diane Gyi.
URL:https://jubileemd.org/event/dsp-celebration-field-day/
LOCATION:Winding Creek Local Park\, 12326 Dewey Road\, Wheaton\, MD\, 20906\, United States
CATEGORIES:Administration
ATTACH;FMTTYPE=image/jpeg:https://jubileemd.org/wp-content/uploads/2025/08/20240912_150455280_iOS-scaled.jpg
ORGANIZER;CN="Amy Taylor":MAILTO:ataylor@jubileemd.org
END:VEVENT
BEGIN:VEVENT
DTSTART;TZID=America/New_York:20250909T160000
DTEND;TZID=America/New_York:20250909T173000
DTSTAMP:20260422T181739
CREATED:20250605T144037Z
LAST-MODIFIED:20250605T144106Z
UID:10007964-1757433600-1757439000@jubileemd.org
SUMMARY:Core Values In-Person Seminar - Person Centered Plans
DESCRIPTION:Jubilee’s Core Values Seminar series presents an opportunity to explore in depth the values that guide Jubilee’s work supporting adults with intellectual and developmental disabilities. The seminars speak to the “why” behind Jubilee’s work; each session is a deep dive into one value. The seminars are an opportunity to learn and connect and are offered free to all Jubilee employees and the people we support. \nThis month’s Core Values Seminar will be on Person-Centered Plans \nThis seminar will be in-person at the Jubilee office. \nIf parking is an issue\, please park across the street at M&T Bank. \n\n	Notice: JavaScript is required for this content.\nNo Fields Found.
URL:https://jubileemd.org/event/core-values-in-person-seminar-person-centered-plans/
LOCATION:Jubilee Association of Maryland\, 10408 Montgomery Avenue\, Kensington\, 20895\, United States
CATEGORIES:Core Values Series
ORGANIZER;CN="Julia McCune":MAILTO:jmccune@jubileemd.org
END:VEVENT
END:VCALENDAR