BEGIN:VCALENDAR
VERSION:2.0
PRODID:-//Jubilee - ECPv6.15.20//NONSGML v1.0//EN
CALSCALE:GREGORIAN
METHOD:PUBLISH
X-WR-CALNAME:Jubilee
X-ORIGINAL-URL:https://jubileemd.org
X-WR-CALDESC:Events for Jubilee
REFRESH-INTERVAL;VALUE=DURATION:PT1H
X-Robots-Tag:noindex
X-PUBLISHED-TTL:PT1H
BEGIN:VTIMEZONE
TZID:America/New_York
BEGIN:DAYLIGHT
TZOFFSETFROM:-0500
TZOFFSETTO:-0400
TZNAME:EDT
DTSTART:20240310T070000
END:DAYLIGHT
BEGIN:STANDARD
TZOFFSETFROM:-0400
TZOFFSETTO:-0500
TZNAME:EST
DTSTART:20241103T060000
END:STANDARD
BEGIN:DAYLIGHT
TZOFFSETFROM:-0500
TZOFFSETTO:-0400
TZNAME:EDT
DTSTART:20250309T070000
END:DAYLIGHT
BEGIN:STANDARD
TZOFFSETFROM:-0400
TZOFFSETTO:-0500
TZNAME:EST
DTSTART:20251102T060000
END:STANDARD
BEGIN:DAYLIGHT
TZOFFSETFROM:-0500
TZOFFSETTO:-0400
TZNAME:EDT
DTSTART:20260308T070000
END:DAYLIGHT
BEGIN:STANDARD
TZOFFSETFROM:-0400
TZOFFSETTO:-0500
TZNAME:EST
DTSTART:20261101T060000
END:STANDARD
END:VTIMEZONE
BEGIN:VEVENT
DTSTART;TZID=America/New_York:20250915T190000
DTEND;TZID=America/New_York:20250915T203000
DTSTAMP:20260423T111804
CREATED:20250829T191853Z
LAST-MODIFIED:20250902T154501Z
UID:10008080-1757962800-1757968200@jubileemd.org
SUMMARY:MCTransitions Virtual Provider Presentation | Meet Jubilee
DESCRIPTION:Hear directly from Jubilee Admissions Manager Hayley Dutton about applying for residential and housing support services for adults with disabilities on the DDA waiver. \nRegister for this virtual event here.
URL:https://jubileemd.org/event/mctransitions-virtual-provider-presentation-meet-jubilee/
LOCATION:MD
CATEGORIES:Administration
ATTACH;FMTTYPE=image/jpeg:https://jubileemd.org/wp-content/uploads/2025/08/Hayley-at-fair-scaled.jpg
END:VEVENT
END:VCALENDAR