BEGIN:VCALENDAR
VERSION:2.0
PRODID:-//Jubilee - ECPv6.15.20//NONSGML v1.0//EN
CALSCALE:GREGORIAN
METHOD:PUBLISH
X-WR-CALNAME:Jubilee
X-ORIGINAL-URL:https://jubileemd.org
X-WR-CALDESC:Events for Jubilee
REFRESH-INTERVAL;VALUE=DURATION:PT1H
X-Robots-Tag:noindex
X-PUBLISHED-TTL:PT1H
BEGIN:VTIMEZONE
TZID:America/New_York
BEGIN:DAYLIGHT
TZOFFSETFROM:-0500
TZOFFSETTO:-0400
TZNAME:EDT
DTSTART:20240310T070000
END:DAYLIGHT
BEGIN:STANDARD
TZOFFSETFROM:-0400
TZOFFSETTO:-0500
TZNAME:EST
DTSTART:20241103T060000
END:STANDARD
BEGIN:DAYLIGHT
TZOFFSETFROM:-0500
TZOFFSETTO:-0400
TZNAME:EDT
DTSTART:20250309T070000
END:DAYLIGHT
BEGIN:STANDARD
TZOFFSETFROM:-0400
TZOFFSETTO:-0500
TZNAME:EST
DTSTART:20251102T060000
END:STANDARD
BEGIN:DAYLIGHT
TZOFFSETFROM:-0500
TZOFFSETTO:-0400
TZNAME:EDT
DTSTART:20260308T070000
END:DAYLIGHT
BEGIN:STANDARD
TZOFFSETFROM:-0400
TZOFFSETTO:-0500
TZNAME:EST
DTSTART:20261101T060000
END:STANDARD
END:VTIMEZONE
BEGIN:VEVENT
DTSTART;TZID=America/New_York:20251002T093000
DTEND;TZID=America/New_York:20251002T133000
DTSTAMP:20260423T021911
CREATED:20250805T140959Z
LAST-MODIFIED:20251001T174015Z
UID:10008057-1759397400-1759411800@jubileemd.org
SUMMARY:Adult CPR\, First Aid\, AED
DESCRIPTION:Learn how to recognize and respond to medical emergencies. \nCourse length: 4 hours \nRecertification: Required every two years. \nCost: $85.00
URL:https://jubileemd.org/event/adult-cpr-first-aid-aed-16/
LOCATION:The Academy at Jubilee\, 10408 Montgomery Avenue\, Kensington\, MD\, 20895\, United States
CATEGORIES:Academy Courses,Adult CPR, First Aid, and AED
ATTACH;FMTTYPE=image/jpeg:https://jubileemd.org/wp-content/uploads/2024/09/Jubilee-Environmental-13-scaled-1-e1749822396141.jpg
END:VEVENT
BEGIN:VEVENT
DTSTART;TZID=America/New_York:20251002T190000
DTEND;TZID=America/New_York:20251002T200000
DTSTAMP:20260423T021911
CREATED:20250710T162221Z
LAST-MODIFIED:20251208T140131Z
UID:10008010-1759431600-1759435200@jubileemd.org
SUMMARY:Breaking Barriers Charlemos
DESCRIPTION:Join Jubilee’s Breaking Barriers manager Lisa Lorraine for a virtual Spanish-language discussion of disability services and resources. Typically held on the first Thursday of each month\, this discussion series is an opportunity to learn more about disability services and how they may benefit you. \nRegister for this virtual zoom meeting here. \nCharlemos es un evento virtual cada mes para hablar en español de los servicios y recursos disponibles a personas con discapacidades del desarrollo en Maryland. Regístrense usando este enlace. \n 
URL:https://jubileemd.org/event/breaking-barriers-charlemos-3/2025-10-02/
LOCATION:MD
CATEGORIES:Breaking Barriers
ATTACH;FMTTYPE=image/jpeg:https://jubileemd.org/wp-content/uploads/2024/07/Lorraine_Lisa-scaled-1.jpg
ORGANIZER;CN="Lisa Lorraine":MAILTO:llorraine@jubileemd.org
END:VEVENT
BEGIN:VEVENT
DTSTART;TZID=America/New_York:20251002T193000
DTEND;TZID=America/New_York:20251002T213000
DTSTAMP:20260423T021911
CREATED:20250618T144917Z
LAST-MODIFIED:20250618T144917Z
UID:10007984-1759433400-1759440600@jubileemd.org
SUMMARY:Karaoke Night at TGI Fridays
DESCRIPTION:Join your Jubilee friends for karaoke singing and dancing! \nPlease bring money for food and drink. \nThis event is free and accessible to everyone \n\n	Notice: JavaScript is required for this content.\nNo Fields Found.
URL:https://jubileemd.org/event/karaoke-night-at-tgi-fridays-19/
LOCATION:TGI Fridays\, 12281 Tech Road\, Silver Springs\, MD
CATEGORIES:Community Engagement
ATTACH;FMTTYPE=image/jpeg:https://jubileemd.org/wp-content/uploads/2022/11/circle-friends.jpg
ORGANIZER;CN="Corey Coby":MAILTO:ccoby@jubileemd.org
END:VEVENT
END:VCALENDAR