BEGIN:VCALENDAR
VERSION:2.0
PRODID:-//Jubilee - ECPv6.15.20//NONSGML v1.0//EN
CALSCALE:GREGORIAN
METHOD:PUBLISH
X-WR-CALNAME:Jubilee
X-ORIGINAL-URL:https://jubileemd.org
X-WR-CALDESC:Events for Jubilee
REFRESH-INTERVAL;VALUE=DURATION:PT1H
X-Robots-Tag:noindex
X-PUBLISHED-TTL:PT1H
BEGIN:VTIMEZONE
TZID:America/New_York
BEGIN:DAYLIGHT
TZOFFSETFROM:-0500
TZOFFSETTO:-0400
TZNAME:EDT
DTSTART:20240310T070000
END:DAYLIGHT
BEGIN:STANDARD
TZOFFSETFROM:-0400
TZOFFSETTO:-0500
TZNAME:EST
DTSTART:20241103T060000
END:STANDARD
BEGIN:DAYLIGHT
TZOFFSETFROM:-0500
TZOFFSETTO:-0400
TZNAME:EDT
DTSTART:20250309T070000
END:DAYLIGHT
BEGIN:STANDARD
TZOFFSETFROM:-0400
TZOFFSETTO:-0500
TZNAME:EST
DTSTART:20251102T060000
END:STANDARD
BEGIN:DAYLIGHT
TZOFFSETFROM:-0500
TZOFFSETTO:-0400
TZNAME:EDT
DTSTART:20260308T070000
END:DAYLIGHT
BEGIN:STANDARD
TZOFFSETFROM:-0400
TZOFFSETTO:-0500
TZNAME:EST
DTSTART:20261101T060000
END:STANDARD
END:VTIMEZONE
BEGIN:VEVENT
DTSTART;TZID=America/New_York:20251005T140000
DTEND;TZID=America/New_York:20251005T180000
DTSTAMP:20260423T193903
CREATED:20250829T194505Z
LAST-MODIFIED:20250829T194505Z
UID:10008085-1759672800-1759687200@jubileemd.org
SUMMARY:Vietnamese American Services Mid-Autumn Festival
DESCRIPTION:Meet Jubilee’s Breaking Barriers team. Learn how our team can help you navigate disability resources.
URL:https://jubileemd.org/event/vietnamese-american-services-mid-autumn-festival/
LOCATION:Marian Fryer Town Plaza\, 2424 Reedie Drive\, Wheaton\, MD\, 20902\, United States
CATEGORIES:Administration
ATTACH;FMTTYPE=image/jpeg:https://jubileemd.org/wp-content/uploads/2024/01/Lisa-and-Steve-at-health-fair-1.jpg
ORGANIZER;CN="Lisa Lorraine":MAILTO:llorraine@jubileemd.org
END:VEVENT
BEGIN:VEVENT
DTSTART;TZID=America/New_York:20251005T180000
DTEND;TZID=America/New_York:20251005T200000
DTSTAMP:20260423T193903
CREATED:20250715T183348Z
LAST-MODIFIED:20250916T145833Z
UID:10008020-1759687200-1759694400@jubileemd.org
SUMMARY:Art Class
DESCRIPTION:Calling all artists! \nJoin your Jubilee friends for an art class at the Jubilee office. \nThe event is free and accessible to everyone. \n\n	Notice: JavaScript is required for this content.\nNo Fields Found.\n\n    \n\n\n        \n        \n        \n 
URL:https://jubileemd.org/event/art-class-23/
LOCATION:Jubilee Association of Maryland\, 10408 Montgomery Avenue\, Kensington\, 20895\, United States
CATEGORIES:Community Engagement
ATTACH;FMTTYPE=image/jpeg:https://jubileemd.org/wp-content/uploads/2021/07/art-by-Carolyn-Skinner-scaled.jpg
ORGANIZER;CN="Allison Bohn":MAILTO:abohn@jubileemd.org
END:VEVENT
END:VCALENDAR