BEGIN:VCALENDAR
VERSION:2.0
PRODID:-//Jubilee - ECPv6.15.20//NONSGML v1.0//EN
CALSCALE:GREGORIAN
METHOD:PUBLISH
X-WR-CALNAME:Jubilee
X-ORIGINAL-URL:https://jubileemd.org
X-WR-CALDESC:Events for Jubilee
REFRESH-INTERVAL;VALUE=DURATION:PT1H
X-Robots-Tag:noindex
X-PUBLISHED-TTL:PT1H
BEGIN:VTIMEZONE
TZID:America/New_York
BEGIN:DAYLIGHT
TZOFFSETFROM:-0500
TZOFFSETTO:-0400
TZNAME:EDT
DTSTART:20240310T070000
END:DAYLIGHT
BEGIN:STANDARD
TZOFFSETFROM:-0400
TZOFFSETTO:-0500
TZNAME:EST
DTSTART:20241103T060000
END:STANDARD
BEGIN:DAYLIGHT
TZOFFSETFROM:-0500
TZOFFSETTO:-0400
TZNAME:EDT
DTSTART:20250309T070000
END:DAYLIGHT
BEGIN:STANDARD
TZOFFSETFROM:-0400
TZOFFSETTO:-0500
TZNAME:EST
DTSTART:20251102T060000
END:STANDARD
BEGIN:DAYLIGHT
TZOFFSETFROM:-0500
TZOFFSETTO:-0400
TZNAME:EDT
DTSTART:20260308T070000
END:DAYLIGHT
BEGIN:STANDARD
TZOFFSETFROM:-0400
TZOFFSETTO:-0500
TZNAME:EST
DTSTART:20261101T060000
END:STANDARD
END:VTIMEZONE
BEGIN:VEVENT
DTSTART;TZID=America/New_York:20251022T183000
DTEND;TZID=America/New_York:20251022T203000
DTSTAMP:20260422T232100
CREATED:20250829T192806Z
LAST-MODIFIED:20250829T192806Z
UID:10008082-1761157800-1761165000@jubileemd.org
SUMMARY:MCPS Transitioning Youth Fair
DESCRIPTION:Meet Jubilee’s admissions and Breaking Barriers team at a county-wide resource fair and learn how we can help your loved one with disabilities live independently.
URL:https://jubileemd.org/event/mcps-transitioning-youth-fair/
LOCATION:Richard Montgomery High School\, 250 Richard Montgomery Drive\, Rockville\, 20852\, United States
CATEGORIES:Administration
ATTACH;FMTTYPE=image/jpeg:https://jubileemd.org/wp-content/uploads/2025/08/Hayley-at-fair-scaled.jpg
ORGANIZER;CN="Hayley Dutton":MAILTO:admissions@jubileemd.org
END:VEVENT
END:VCALENDAR