BEGIN:VCALENDAR
VERSION:2.0
PRODID:-//Jubilee - ECPv6.15.20//NONSGML v1.0//EN
CALSCALE:GREGORIAN
METHOD:PUBLISH
X-ORIGINAL-URL:https://jubileemd.org
X-WR-CALDESC:Events for Jubilee
REFRESH-INTERVAL;VALUE=DURATION:PT1H
X-Robots-Tag:noindex
X-PUBLISHED-TTL:PT1H
BEGIN:VTIMEZONE
TZID:America/New_York
BEGIN:DAYLIGHT
TZOFFSETFROM:-0500
TZOFFSETTO:-0400
TZNAME:EDT
DTSTART:20240310T070000
END:DAYLIGHT
BEGIN:STANDARD
TZOFFSETFROM:-0400
TZOFFSETTO:-0500
TZNAME:EST
DTSTART:20241103T060000
END:STANDARD
BEGIN:DAYLIGHT
TZOFFSETFROM:-0500
TZOFFSETTO:-0400
TZNAME:EDT
DTSTART:20250309T070000
END:DAYLIGHT
BEGIN:STANDARD
TZOFFSETFROM:-0400
TZOFFSETTO:-0500
TZNAME:EST
DTSTART:20251102T060000
END:STANDARD
BEGIN:DAYLIGHT
TZOFFSETFROM:-0500
TZOFFSETTO:-0400
TZNAME:EDT
DTSTART:20260308T070000
END:DAYLIGHT
BEGIN:STANDARD
TZOFFSETFROM:-0400
TZOFFSETTO:-0500
TZNAME:EST
DTSTART:20261101T060000
END:STANDARD
END:VTIMEZONE
BEGIN:VEVENT
DTSTART;TZID=America/New_York:20251103T160000
DTEND;TZID=America/New_York:20251103T180000
DTSTAMP:20260422T075911
CREATED:20251023T152624Z
LAST-MODIFIED:20251023T152624Z
UID:10008152-1762185600-1762192800@jubileemd.org
SUMMARY:Cooking Class
DESCRIPTION:Join Alison as we learn to cook together. \nThis is not a complete dinner. We will be making one dish. \nPlease reach out to abohn@jubileemd.org if you have any dietary restrictions or needs. \nThis event is accessible to everyone. \n\n	Notice: JavaScript is required for this content.\nNo Fields Found.
URL:https://jubileemd.org/event/cooking-class-12/
LOCATION:MD
CATEGORIES:Community Engagement
ATTACH;FMTTYPE=image/jpeg:https://jubileemd.org/wp-content/uploads/2024/10/Tico-cooking-scaled.jpeg
ORGANIZER;CN="Allison Bohn":MAILTO:abohn@jubileemd.org
END:VEVENT
BEGIN:VEVENT
DTSTART;TZID=America/New_York:20251103T183000
DTEND;TZID=America/New_York:20251103T203000
DTSTAMP:20260422T075911
CREATED:20251023T141201Z
LAST-MODIFIED:20251023T141353Z
UID:10008138-1762194600-1762201800@jubileemd.org
SUMMARY:Cooking Class
DESCRIPTION:Join Alison as we learn to cook together. \nThis is not a complete dinner. We will be making one dish. \nPlease reach out to abohn@jubileemd.org if you have any dietary restrictions or needs. \nThis event is accessible to everyone. \nLocation – Monroe Street – please reach out to abohn@jubileemd.org for details. \n\n	Notice: JavaScript is required for this content.\nNo Fields Found.
URL:https://jubileemd.org/event/cooking-class-3/
LOCATION:MD
CATEGORIES:Community Engagement
ATTACH;FMTTYPE=image/jpeg:https://jubileemd.org/wp-content/uploads/2024/10/Tico-cooking-scaled.jpeg
ORGANIZER;CN="Allison Bohn":MAILTO:abohn@jubileemd.org
END:VEVENT
END:VCALENDAR