BEGIN:VCALENDAR
VERSION:2.0
PRODID:-//Jubilee - ECPv6.15.20//NONSGML v1.0//EN
CALSCALE:GREGORIAN
METHOD:PUBLISH
X-ORIGINAL-URL:https://jubileemd.org
X-WR-CALDESC:Events for Jubilee
REFRESH-INTERVAL;VALUE=DURATION:PT1H
X-Robots-Tag:noindex
X-PUBLISHED-TTL:PT1H
BEGIN:VTIMEZONE
TZID:America/New_York
BEGIN:DAYLIGHT
TZOFFSETFROM:-0500
TZOFFSETTO:-0400
TZNAME:EDT
DTSTART:20240310T070000
END:DAYLIGHT
BEGIN:STANDARD
TZOFFSETFROM:-0400
TZOFFSETTO:-0500
TZNAME:EST
DTSTART:20241103T060000
END:STANDARD
BEGIN:DAYLIGHT
TZOFFSETFROM:-0500
TZOFFSETTO:-0400
TZNAME:EDT
DTSTART:20250309T070000
END:DAYLIGHT
BEGIN:STANDARD
TZOFFSETFROM:-0400
TZOFFSETTO:-0500
TZNAME:EST
DTSTART:20251102T060000
END:STANDARD
BEGIN:DAYLIGHT
TZOFFSETFROM:-0500
TZOFFSETTO:-0400
TZNAME:EDT
DTSTART:20260308T070000
END:DAYLIGHT
BEGIN:STANDARD
TZOFFSETFROM:-0400
TZOFFSETTO:-0500
TZNAME:EST
DTSTART:20261101T060000
END:STANDARD
END:VTIMEZONE
BEGIN:VEVENT
DTSTART;TZID=America/New_York:20251106T110000
DTEND;TZID=America/New_York:20251106T120000
DTSTAMP:20260423T050702
CREATED:20251023T140230Z
LAST-MODIFIED:20251023T140230Z
UID:10008135-1762426800-1762430400@jubileemd.org
SUMMARY:Budgeting 101
DESCRIPTION:Join Allison and your Jubilee friends to learn how to budget your expenses. \nTo begin every class\, we will spend the first few minutes reflecting on the past week. \nThen\, as a group\, we will develop solutions to our obstacles. \nLastly\, we will learn something new. \n\n	Notice: JavaScript is required for this content.\nNo Fields Found.
URL:https://jubileemd.org/event/budgeting-101-11/
LOCATION:Jubilee Association of Maryland\, 10408 Montgomery Avenue\, Kensington\, 20895\, United States
CATEGORIES:Community Engagement
ATTACH;FMTTYPE=image/jpeg:https://jubileemd.org/wp-content/uploads/2025/03/Budgeting.jpg
ORGANIZER;CN="Allison Bohn":MAILTO:abohn@jubileemd.org
END:VEVENT
BEGIN:VEVENT
DTSTART;TZID=America/New_York:20251106T190000
DTEND;TZID=America/New_York:20251106T200000
DTSTAMP:20260423T050702
CREATED:20250710T162221Z
LAST-MODIFIED:20251208T140131Z
UID:10008011-1762455600-1762459200@jubileemd.org
SUMMARY:Breaking Barriers Charlemos
DESCRIPTION:Join Jubilee’s Breaking Barriers manager Lisa Lorraine for a virtual Spanish-language discussion of disability services and resources. Typically held on the first Thursday of each month\, this discussion series is an opportunity to learn more about disability services and how they may benefit you. \nRegister for this virtual zoom meeting here. \nCharlemos es un evento virtual cada mes para hablar en español de los servicios y recursos disponibles a personas con discapacidades del desarrollo en Maryland. Regístrense usando este enlace. \n 
URL:https://jubileemd.org/event/breaking-barriers-charlemos-3/2025-11-06/
LOCATION:MD
CATEGORIES:Breaking Barriers
ATTACH;FMTTYPE=image/jpeg:https://jubileemd.org/wp-content/uploads/2024/07/Lorraine_Lisa-scaled-1.jpg
ORGANIZER;CN="Lisa Lorraine":MAILTO:llorraine@jubileemd.org
END:VEVENT
END:VCALENDAR