BEGIN:VCALENDAR
VERSION:2.0
PRODID:-//Jubilee - ECPv6.15.20//NONSGML v1.0//EN
CALSCALE:GREGORIAN
METHOD:PUBLISH
X-ORIGINAL-URL:https://jubileemd.org
X-WR-CALDESC:Events for Jubilee
REFRESH-INTERVAL;VALUE=DURATION:PT1H
X-Robots-Tag:noindex
X-PUBLISHED-TTL:PT1H
BEGIN:VTIMEZONE
TZID:America/New_York
BEGIN:DAYLIGHT
TZOFFSETFROM:-0500
TZOFFSETTO:-0400
TZNAME:EDT
DTSTART:20240310T070000
END:DAYLIGHT
BEGIN:STANDARD
TZOFFSETFROM:-0400
TZOFFSETTO:-0500
TZNAME:EST
DTSTART:20241103T060000
END:STANDARD
BEGIN:DAYLIGHT
TZOFFSETFROM:-0500
TZOFFSETTO:-0400
TZNAME:EDT
DTSTART:20250309T070000
END:DAYLIGHT
BEGIN:STANDARD
TZOFFSETFROM:-0400
TZOFFSETTO:-0500
TZNAME:EST
DTSTART:20251102T060000
END:STANDARD
BEGIN:DAYLIGHT
TZOFFSETFROM:-0500
TZOFFSETTO:-0400
TZNAME:EDT
DTSTART:20260308T070000
END:DAYLIGHT
BEGIN:STANDARD
TZOFFSETFROM:-0400
TZOFFSETTO:-0500
TZNAME:EST
DTSTART:20261101T060000
END:STANDARD
END:VTIMEZONE
BEGIN:VEVENT
DTSTART;TZID=America/New_York:20251112T093000
DTEND;TZID=America/New_York:20251112T163000
DTSTAMP:20260423T055156
CREATED:20250923T190544Z
LAST-MODIFIED:20251030T160415Z
UID:10008116-1762939800-1762965000@jubileemd.org
SUMMARY:Mandt Technical
DESCRIPTION:Trauma-informed training teaches crisis prevention and de-escalation skills proven to create an environment where everyone can say\, In this place\, and with these people\, I feel safe. \nThis is a two-part course. You may register to take only one part (Relational or Technical) if that is all you need to complete. If you only register for Mandt Technical\, please submit proof that you are current on Mandt Relational and be prepared to take a written test. \nCourse length: Typically 7 hours for Mandt Technical. Lunch is provided. \nRecertification: Required for DSPs every year. \nCost: $150.00
URL:https://jubileemd.org/event/mandt-technical-55/
LOCATION:The Academy at Jubilee\, 10408 Montgomery Avenue\, Kensington\, MD\, 20895\, United States
CATEGORIES:Academy Courses,Mandt Technical
ATTACH;FMTTYPE=image/jpeg:https://jubileemd.org/wp-content/uploads/2024/09/Jubilee-Environmental-6-scaled-1.jpg
END:VEVENT
BEGIN:VEVENT
DTSTART;TZID=America/New_York:20251112T100000
DTEND;TZID=America/New_York:20251112T113000
DTSTAMP:20260423T055156
CREATED:20250801T135228Z
LAST-MODIFIED:20250801T135228Z
UID:10008042-1762941600-1762947000@jubileemd.org
SUMMARY:Core Values In-Person Seminar - Justice
DESCRIPTION:Jubilee’s Core Values Seminar series presents an opportunity to explore in depth the values that guide Jubilee’s work supporting adults with intellectual and developmental disabilities. The seminars speak to the “why” behind Jubilee’s work; each session is a deep dive into one value. The seminars are an opportunity to learn and connect and are offered free to all Jubilee employees and the people we support. \nThis month’s Core Values Seminar will be on Justice. \nThis seminar will be in-person at the Jubilee office. \nIf parking is an issue\, please park across the street at M&T Bank. \n\n	Notice: JavaScript is required for this content.\nNo Fields Found.
URL:https://jubileemd.org/event/core-values-in-person-seminar-justice-2/
LOCATION:Jubilee Association of Maryland\, 10408 Montgomery Avenue\, Kensington\, 20895\, United States
CATEGORIES:Core Values Series
ORGANIZER;CN="Julia McCune":MAILTO:jmccune@jubileemd.org
END:VEVENT
BEGIN:VEVENT
DTSTART;TZID=America/New_York:20251112T123000
DTEND;TZID=America/New_York:20251112T130000
DTSTAMP:20260423T055156
CREATED:20251028T194422Z
LAST-MODIFIED:20251028T194422Z
UID:10008154-1762950600-1762952400@jubileemd.org
SUMMARY:Virtual Jubilee Tour (Free!)
DESCRIPTION:During this free 30-minute virtual tour of Jubilee\, you’ll hear firsthand how Jubilee’s support for adults with disabilities transforms lives. \nThis short tour is a window into the lives of people in your community you may not otherwise meet. \nWill you join us? This tour is an opportunity to consider how you can make a difference in the lives of your community members with intellectual and developmental disabilities. \nRSVP in advance for this free Living Our Best Lives tour to get your personalized zoom link.
URL:https://jubileemd.org/event/virtual-jubilee-tour-free/
LOCATION:Zoom Video Conference
CATEGORIES:Administration
ATTACH;FMTTYPE=image/jpeg:https://jubileemd.org/wp-content/uploads/2024/12/Andrew-Flaherty-with-Guitar-Web-Use.jpg
ORGANIZER;CN="Development at Jubilee":MAILTO:donate@jubileemd.org
END:VEVENT
END:VCALENDAR