BEGIN:VCALENDAR
VERSION:2.0
PRODID:-//Jubilee - ECPv6.15.20//NONSGML v1.0//EN
CALSCALE:GREGORIAN
METHOD:PUBLISH
X-WR-CALNAME:Jubilee
X-ORIGINAL-URL:https://jubileemd.org
X-WR-CALDESC:Events for Jubilee
REFRESH-INTERVAL;VALUE=DURATION:PT1H
X-Robots-Tag:noindex
X-PUBLISHED-TTL:PT1H
BEGIN:VTIMEZONE
TZID:America/New_York
BEGIN:DAYLIGHT
TZOFFSETFROM:-0500
TZOFFSETTO:-0400
TZNAME:EDT
DTSTART:20240310T070000
END:DAYLIGHT
BEGIN:STANDARD
TZOFFSETFROM:-0400
TZOFFSETTO:-0500
TZNAME:EST
DTSTART:20241103T060000
END:STANDARD
BEGIN:DAYLIGHT
TZOFFSETFROM:-0500
TZOFFSETTO:-0400
TZNAME:EDT
DTSTART:20250309T070000
END:DAYLIGHT
BEGIN:STANDARD
TZOFFSETFROM:-0400
TZOFFSETTO:-0500
TZNAME:EST
DTSTART:20251102T060000
END:STANDARD
BEGIN:DAYLIGHT
TZOFFSETFROM:-0500
TZOFFSETTO:-0400
TZNAME:EDT
DTSTART:20260308T070000
END:DAYLIGHT
BEGIN:STANDARD
TZOFFSETFROM:-0400
TZOFFSETTO:-0500
TZNAME:EST
DTSTART:20261101T060000
END:STANDARD
END:VTIMEZONE
BEGIN:VEVENT
DTSTART;TZID=America/New_York:20251114T093000
DTEND;TZID=America/New_York:20251114T120000
DTSTAMP:20260424T064036
CREATED:20251020T154607Z
LAST-MODIFIED:20251023T151214Z
UID:10008131-1763112600-1763121600@jubileemd.org
SUMMARY:Holiday Arts & Craft
DESCRIPTION:Calling all Jubilee artists! Join volunteers from Booz Allen for a fun morning of arts and crafts as we create holiday cards for our community. \nRSVP here to reserve your spot! Open to all people supported by Jubilee. \n 
URL:https://jubileemd.org/event/holiday-arts-craft/
LOCATION:Jubilee Association of Maryland\, 10408 Montgomery Avenue\, Kensington\, 20895\, United States
CATEGORIES:Community Engagement
ATTACH;FMTTYPE=image/jpeg:https://jubileemd.org/wp-content/uploads/2025/06/Elizabeth-Bordley-Painting-Fairy-Wands.jpg
ORGANIZER;CN="Development at Jubilee":MAILTO:donate@jubileemd.org
END:VEVENT
BEGIN:VEVENT
DTSTART;TZID=America/New_York:20251114T180000
DTEND;TZID=America/New_York:20251114T200000
DTSTAMP:20260424T064036
CREATED:20250818T153645Z
LAST-MODIFIED:20251103T195253Z
UID:10008064-1763143200-1763150400@jubileemd.org
SUMMARY:Friendsgiving Dessert Party
DESCRIPTION:Come celebrate friends and family at our Friendsgiving dessert party. \nWe will be serving our holiday favorite desserts. \nYou can also bring your favorite holiday dish or dinner. \nThis event is free and accessible to everyone. \n\n	Notice: JavaScript is required for this content.\nNo Fields Found.
URL:https://jubileemd.org/event/friendsgiving-dessert-party/
LOCATION:Jubilee Association of Maryland\, 10408 Montgomery Avenue\, Kensington\, 20895\, United States
CATEGORIES:Community Engagement
ATTACH;FMTTYPE=image/jpeg:https://jubileemd.org/wp-content/uploads/2024/10/Guy-Talk.jpeg
ORGANIZER;CN="Corey Coby":MAILTO:ccoby@jubileemd.org
END:VEVENT
END:VCALENDAR