BEGIN:VCALENDAR
VERSION:2.0
PRODID:-//Jubilee - ECPv6.15.20//NONSGML v1.0//EN
CALSCALE:GREGORIAN
METHOD:PUBLISH
X-ORIGINAL-URL:https://jubileemd.org
X-WR-CALDESC:Events for Jubilee
REFRESH-INTERVAL;VALUE=DURATION:PT1H
X-Robots-Tag:noindex
X-PUBLISHED-TTL:PT1H
BEGIN:VTIMEZONE
TZID:America/New_York
BEGIN:DAYLIGHT
TZOFFSETFROM:-0500
TZOFFSETTO:-0400
TZNAME:EDT
DTSTART:20250309T070000
END:DAYLIGHT
BEGIN:STANDARD
TZOFFSETFROM:-0400
TZOFFSETTO:-0500
TZNAME:EST
DTSTART:20251102T060000
END:STANDARD
BEGIN:DAYLIGHT
TZOFFSETFROM:-0500
TZOFFSETTO:-0400
TZNAME:EDT
DTSTART:20260308T070000
END:DAYLIGHT
BEGIN:STANDARD
TZOFFSETFROM:-0400
TZOFFSETTO:-0500
TZNAME:EST
DTSTART:20261101T060000
END:STANDARD
BEGIN:DAYLIGHT
TZOFFSETFROM:-0500
TZOFFSETTO:-0400
TZNAME:EDT
DTSTART:20270314T070000
END:DAYLIGHT
BEGIN:STANDARD
TZOFFSETFROM:-0400
TZOFFSETTO:-0500
TZNAME:EST
DTSTART:20271107T060000
END:STANDARD
END:VTIMEZONE
BEGIN:VEVENT
DTSTART;TZID=America/New_York:20260407T173000
DTEND;TZID=America/New_York:20260407T183000
DTSTAMP:20260424T090015
CREATED:20260223T154608Z
LAST-MODIFIED:20260223T200710Z
UID:10008279-1775583000-1775586600@jubileemd.org
SUMMARY:Money Management & Budget Basics: Understanding Needs vs. Wants
DESCRIPTION:Join your Jubilee Friends for a discussion on needs vs. wants. \nWe will understand the difference between “needs” and “wants” in the context of spending money. \nThis event is free and accessible to everyone. \n\n	Notice: JavaScript is required for this content.
URL:https://jubileemd.org/event/money-management-budget-basics-understanding-needs-vs-wants/
LOCATION:Jubilee Association of Maryland\, 10408 Montgomery Avenue\, Kensington\, 20895\, United States
CATEGORIES:Community Engagement
ATTACH;FMTTYPE=image/avif:https://jubileemd.org/wp-content/uploads/2026/02/money-management-financial-plan-concepts-with-text-desk-top-view_254791-2090.avif
ORGANIZER;CN="Abby Elson":MAILTO:aelson@jubileemd.org
END:VEVENT
END:VCALENDAR