BEGIN:VCALENDAR
VERSION:2.0
PRODID:-//Jubilee - ECPv6.15.20//NONSGML v1.0//EN
CALSCALE:GREGORIAN
METHOD:PUBLISH
X-ORIGINAL-URL:https://jubileemd.org
X-WR-CALDESC:Events for Jubilee
REFRESH-INTERVAL;VALUE=DURATION:PT1H
X-Robots-Tag:noindex
X-PUBLISHED-TTL:PT1H
BEGIN:VTIMEZONE
TZID:America/New_York
BEGIN:DAYLIGHT
TZOFFSETFROM:-0500
TZOFFSETTO:-0400
TZNAME:EDT
DTSTART:20250309T070000
END:DAYLIGHT
BEGIN:STANDARD
TZOFFSETFROM:-0400
TZOFFSETTO:-0500
TZNAME:EST
DTSTART:20251102T060000
END:STANDARD
BEGIN:DAYLIGHT
TZOFFSETFROM:-0500
TZOFFSETTO:-0400
TZNAME:EDT
DTSTART:20260308T070000
END:DAYLIGHT
BEGIN:STANDARD
TZOFFSETFROM:-0400
TZOFFSETTO:-0500
TZNAME:EST
DTSTART:20261101T060000
END:STANDARD
BEGIN:DAYLIGHT
TZOFFSETFROM:-0500
TZOFFSETTO:-0400
TZNAME:EDT
DTSTART:20270314T070000
END:DAYLIGHT
BEGIN:STANDARD
TZOFFSETFROM:-0400
TZOFFSETTO:-0500
TZNAME:EST
DTSTART:20271107T060000
END:STANDARD
END:VTIMEZONE
BEGIN:VEVENT
DTSTART;TZID=America/New_York:20260511T093000
DTEND;TZID=America/New_York:20260511T160000
DTSTAMP:20260423T103442
CREATED:20260326T123453Z
LAST-MODIFIED:20260420T193321Z
UID:10008347-1778491800-1778515200@jubileemd.org
SUMMARY:Coach Approach [Day 1 of 2]
DESCRIPTION:Learners develop a mindset that other people are capable and practice a skillset\, including presence\, engaged listening\, and collaborative feedback \nCourse length: 12 hours total\, offered over two days. Lunch is provided on both days. \nRecertification: Not required. \nCost: $250.00 \nNote: Registering for Day 1 of this class will automatically register you for Day 2\, occurring on Tuesday\, May 12\, 2025\, 9:30 am to 4:00 pm.
URL:https://jubileemd.org/event/coach-approach-day-1-of-2/
LOCATION:The Academy at Jubilee\, 10408 Montgomery Avenue\, Kensington\, MD\, 20895\, United States
CATEGORIES:Academy Courses,Coach Approach
ATTACH;FMTTYPE=image/jpeg:https://jubileemd.org/wp-content/uploads/2024/09/Jubilee-Environmental-15-scaled-1.jpg
ORGANIZER;CN="Amy Taylor":MAILTO:ataylor@jubileemd.org
END:VEVENT
BEGIN:VEVENT
DTSTART;TZID=America/New_York:20260511T100000
DTEND;TZID=America/New_York:20260511T160000
DTSTAMP:20260423T103442
CREATED:20260325T222759Z
LAST-MODIFIED:20260325T224208Z
UID:10008335-1778493600-1778515200@jubileemd.org
SUMMARY:Certified Medication Technician Initial Training/MTTP [Day 3 of 4]
DESCRIPTION:DSPs learn how to offer and store medications\, update records\, and observe/report physical or behavioral changes. \nCertified Medication Technicians through the Maryland Board of Nursing must recertify every two years. \nRegister for this class through Day 1 of this course: Click Here for MTTP Initial Registration \nCourse length: 20 hours over 4 days*\n\n*Note: Registering for Day 1 of this class will automatically register you for Days 2\, 3\, and 4\, occurring on Friday\, May 8th\, Monday\, May 11th\, and Tuesday\, May 12th \nCost: $250.00 \nRecertification Eligibility: Maryland Board of Nursing (MBON) Renewal Window is 90 days before your expiration date\, and up to 30 days after your expiration date.
URL:https://jubileemd.org/event/certified-medication-technician-initial-training-mttp-day-3-of-4-4/
LOCATION:The Academy at Jubilee\, 10408 Montgomery Avenue\, Kensington\, MD\, 20895\, United States
CATEGORIES:Academy Courses,CMT
END:VEVENT
END:VCALENDAR