BEGIN:VCALENDAR
VERSION:2.0
PRODID:-//Jubilee - ECPv6.15.20//NONSGML v1.0//EN
CALSCALE:GREGORIAN
METHOD:PUBLISH
X-WR-CALNAME:Jubilee
X-ORIGINAL-URL:https://jubileemd.org
X-WR-CALDESC:Events for Jubilee
REFRESH-INTERVAL;VALUE=DURATION:PT1H
X-Robots-Tag:noindex
X-PUBLISHED-TTL:PT1H
BEGIN:VTIMEZONE
TZID:America/New_York
BEGIN:DAYLIGHT
TZOFFSETFROM:-0500
TZOFFSETTO:-0400
TZNAME:EDT
DTSTART:20250309T070000
END:DAYLIGHT
BEGIN:STANDARD
TZOFFSETFROM:-0400
TZOFFSETTO:-0500
TZNAME:EST
DTSTART:20251102T060000
END:STANDARD
BEGIN:DAYLIGHT
TZOFFSETFROM:-0500
TZOFFSETTO:-0400
TZNAME:EDT
DTSTART:20260308T070000
END:DAYLIGHT
BEGIN:STANDARD
TZOFFSETFROM:-0400
TZOFFSETTO:-0500
TZNAME:EST
DTSTART:20261101T060000
END:STANDARD
BEGIN:DAYLIGHT
TZOFFSETFROM:-0500
TZOFFSETTO:-0400
TZNAME:EDT
DTSTART:20270314T070000
END:DAYLIGHT
BEGIN:STANDARD
TZOFFSETFROM:-0400
TZOFFSETTO:-0500
TZNAME:EST
DTSTART:20271107T060000
END:STANDARD
END:VTIMEZONE
BEGIN:VEVENT
DTSTART;TZID=America/New_York:20260513T093000
DTEND;TZID=America/New_York:20260513T163000
DTSTAMP:20260424T050801
CREATED:20260326T121120Z
LAST-MODIFIED:20260326T121120Z
UID:10008338-1778664600-1778689800@jubileemd.org
SUMMARY:Mandt Technical
DESCRIPTION:Trauma-informed training teaches crisis prevention and de-escalation skills proven to create an environment where everyone can say\, In this place\, and with these people\, I feel safe. \nThis is a two-part course. You may register to take only one part (Relational or Technical) if that is all you need to complete. If you only register for Mandt Technical\, please submit proof that you are current on Mandt Relational and be prepared to take a written test. \nCourse length: Typically 7 hours for Mandt Technical. Lunch is provided. \nRecertification: Required for DSPs every year. \nCost: $150.00
URL:https://jubileemd.org/event/mandt-technical-16/
LOCATION:The Academy at Jubilee\, 10408 Montgomery Avenue\, Kensington\, MD\, 20895\, United States
CATEGORIES:Academy Courses,Mandt Technical
ATTACH;FMTTYPE=image/jpeg:https://jubileemd.org/wp-content/uploads/2024/09/Jubilee-Environmental-6-scaled-1.jpg
END:VEVENT
BEGIN:VEVENT
DTSTART;TZID=America/New_York:20260513T173000
DTEND;TZID=America/New_York:20260513T183000
DTSTAMP:20260424T050801
CREATED:20260403T170142Z
LAST-MODIFIED:20260403T170142Z
UID:10008352-1778693400-1778697000@jubileemd.org
SUMMARY:Doodle Den Art Club
DESCRIPTION:Join your Jubilee friends for the Doodle Den Art Club! \nWe will be working on an art project that you can bring home with you while listening to music. \nYou may also bring your own craft and sit in with the group to chat. \nThis event is free and accessible to everyone. \n\n	Notice: JavaScript is required for this content.
URL:https://jubileemd.org/event/doodle-den-art-club/
LOCATION:Jubilee Association of Maryland\, 10408 Montgomery Avenue\, Kensington\, 20895\, United States
CATEGORIES:Community Engagement
ATTACH;FMTTYPE=image/jpeg:https://jubileemd.org/wp-content/uploads/2021/07/Carolyn-with-her-art.jpg
ORGANIZER;CN="Abby Elson":MAILTO:aelson@jubileemd.org
END:VEVENT
BEGIN:VEVENT
DTSTART;TZID=America/New_York:20260513T183000
DTEND;TZID=America/New_York:20260513T203000
DTSTAMP:20260424T050801
CREATED:20260311T125240Z
LAST-MODIFIED:20260311T125240Z
UID:10008314-1778697000-1778704200@jubileemd.org
SUMMARY:MCPS Transition Unit Fair
DESCRIPTION:Meet Jubilee’s admissions team at the Montgomery County Public School (MCPS) Transitioning Youth Spring Fair. This fair is an opportunity to learn more about disability services in Montgomery County.
URL:https://jubileemd.org/event/mcps-transition-unit-fair/
LOCATION:Gaithersburg High School\, 101 Education Blvd.\, Gaith
CATEGORIES:Administration
ATTACH;FMTTYPE=image/jpeg:https://jubileemd.org/wp-content/uploads/2025/08/Hayley-at-fair-scaled.jpg
ORGANIZER;CN="Hayley Dutton":MAILTO:admissions@jubileemd.org
END:VEVENT
END:VCALENDAR