BEGIN:VCALENDAR
VERSION:2.0
PRODID:-//Jubilee - ECPv6.15.20//NONSGML v1.0//EN
CALSCALE:GREGORIAN
METHOD:PUBLISH
X-WR-CALNAME:Jubilee
X-ORIGINAL-URL:https://jubileemd.org
X-WR-CALDESC:Events for Jubilee
REFRESH-INTERVAL;VALUE=DURATION:PT1H
X-Robots-Tag:noindex
X-PUBLISHED-TTL:PT1H
BEGIN:VTIMEZONE
TZID:America/New_York
BEGIN:DAYLIGHT
TZOFFSETFROM:-0500
TZOFFSETTO:-0400
TZNAME:EDT
DTSTART:20250309T070000
END:DAYLIGHT
BEGIN:STANDARD
TZOFFSETFROM:-0400
TZOFFSETTO:-0500
TZNAME:EST
DTSTART:20251102T060000
END:STANDARD
BEGIN:DAYLIGHT
TZOFFSETFROM:-0500
TZOFFSETTO:-0400
TZNAME:EDT
DTSTART:20260308T070000
END:DAYLIGHT
BEGIN:STANDARD
TZOFFSETFROM:-0400
TZOFFSETTO:-0500
TZNAME:EST
DTSTART:20261101T060000
END:STANDARD
BEGIN:DAYLIGHT
TZOFFSETFROM:-0500
TZOFFSETTO:-0400
TZNAME:EDT
DTSTART:20270314T070000
END:DAYLIGHT
BEGIN:STANDARD
TZOFFSETFROM:-0400
TZOFFSETTO:-0500
TZNAME:EST
DTSTART:20271107T060000
END:STANDARD
END:VTIMEZONE
BEGIN:VEVENT
DTSTART;TZID=America/New_York:20260611T180000
DTEND;TZID=America/New_York:20260611T193000
DTSTAMP:20260422T194617
CREATED:20260318T135520Z
LAST-MODIFIED:20260318T135520Z
UID:10008315-1781200800-1781206200@jubileemd.org
SUMMARY:Salsa at the Square
DESCRIPTION:Join Jubilee as we learn some Salsa dance moves! \nWe will meet up at Rockville Town Square by the stage. \nAll Out Danza will lead a free Salsa class with music and free dance time. \nCome to dance or enjoy a summer night outside. There are many restaurants around the square to pop into for a treat\, if you prefer. \nThis event is free and accessible to everyone. \nParking: Garage A\, 20 Maryland Ave #450\, Rockville\, MD 20850 \n\n	Notice: JavaScript is required for this content.
URL:https://jubileemd.org/event/salsa-at-the-square/
LOCATION:Rockville Town Square\, Rockville\, MD
CATEGORIES:Community Engagement
ATTACH;FMTTYPE=image/jpeg:https://jubileemd.org/wp-content/uploads/2022/10/Dominique-and-Candace-at-employee-ceremony.jpeg
ORGANIZER;CN="Abby Elson":MAILTO:aelson@jubileemd.org
END:VEVENT
END:VCALENDAR