BEGIN:VCALENDAR
VERSION:2.0
PRODID:-//Jubilee - ECPv6.15.20//NONSGML v1.0//EN
CALSCALE:GREGORIAN
METHOD:PUBLISH
X-WR-CALNAME:Jubilee
X-ORIGINAL-URL:https://jubileemd.org
X-WR-CALDESC:Events for Jubilee
REFRESH-INTERVAL;VALUE=DURATION:PT1H
X-Robots-Tag:noindex
X-PUBLISHED-TTL:PT1H
BEGIN:VTIMEZONE
TZID:America/New_York
BEGIN:DAYLIGHT
TZOFFSETFROM:-0500
TZOFFSETTO:-0400
TZNAME:EDT
DTSTART:20250309T070000
END:DAYLIGHT
BEGIN:STANDARD
TZOFFSETFROM:-0400
TZOFFSETTO:-0500
TZNAME:EST
DTSTART:20251102T060000
END:STANDARD
BEGIN:DAYLIGHT
TZOFFSETFROM:-0500
TZOFFSETTO:-0400
TZNAME:EDT
DTSTART:20260308T070000
END:DAYLIGHT
BEGIN:STANDARD
TZOFFSETFROM:-0400
TZOFFSETTO:-0500
TZNAME:EST
DTSTART:20261101T060000
END:STANDARD
BEGIN:DAYLIGHT
TZOFFSETFROM:-0500
TZOFFSETTO:-0400
TZNAME:EDT
DTSTART:20270314T070000
END:DAYLIGHT
BEGIN:STANDARD
TZOFFSETFROM:-0400
TZOFFSETTO:-0500
TZNAME:EST
DTSTART:20271107T060000
END:STANDARD
END:VTIMEZONE
BEGIN:VEVENT
DTSTART;TZID=America/New_York:20260303T173000
DTEND;TZID=America/New_York:20260303T183000
DTSTAMP:20260424T090245
CREATED:20260109T184316Z
LAST-MODIFIED:20260109T184316Z
UID:10008229-1772559000-1772562600@jubileemd.org
SUMMARY:Healthy Relationships: Dating 101 Setting Boundaries
DESCRIPTION:Join your Jubilee Friends for a healthy relationship discussion in a safe space at Jubilee. \nWe will discuss topics such as relationships\, friendships\, and family. \nThis event is free and accessible to everyone. \n\n	Notice: JavaScript is required for this content.
URL:https://jubileemd.org/event/healthy-relationships-dating-101-setting-boundaries/
LOCATION:Jubilee Association of Maryland\, 10408 Montgomery Avenue\, Kensington\, 20895\, United States
CATEGORIES:Community Engagement
ATTACH;FMTTYPE=image/jpeg:https://jubileemd.org/wp-content/uploads/2024/10/Guy-Talk.jpeg
ORGANIZER;CN="Corey Coby":MAILTO:ccoby@jubileemd.org
END:VEVENT
BEGIN:VEVENT
DTSTART;TZID=America/New_York:20260312T193000
DTEND;TZID=America/New_York:20260312T213000
DTSTAMP:20260424T090247
CREATED:20260109T184501Z
LAST-MODIFIED:20260109T184501Z
UID:10008231-1773343800-1773351000@jubileemd.org
SUMMARY:Karaoke Night at TGI Fridays
DESCRIPTION:Join your Jubilee friends for karaoke singing and dancing! \nPlease bring money for food and drink. \nThis event is free and accessible to everyone \n\n	Notice: JavaScript is required for this content.\nThis event has reached it's maximum capacity and can no longer accept registrations. 
URL:https://jubileemd.org/event/karaoke-night-at-tgi-fridays-26/
LOCATION:TGI Fridays\, 12281 Tech Road\, Silver Springs\, MD
CATEGORIES:Community Engagement
ATTACH;FMTTYPE=image/jpeg:https://jubileemd.org/wp-content/uploads/2022/11/circle-friends.jpg
ORGANIZER;CN="Corey Coby":MAILTO:ccoby@jubileemd.org
END:VEVENT
BEGIN:VEVENT
DTSTART;TZID=America/New_York:20260314T093000
DTEND;TZID=America/New_York:20260314T163000
DTSTAMP:20260424T090247
CREATED:20260109T184902Z
LAST-MODIFIED:20260114T201933Z
UID:10008234-1773480600-1773505800@jubileemd.org
SUMMARY:Client Council Retreat
DESCRIPTION:This event is only for people receiving services from Jubilee and the employees supporting them. \nGuest Speakers from Disability Rights will provide a Voter Education Workshop designed for individuals with disabilities. Learn about accessible voting options\, your rights as a voter\, how voter guardianship works\, and how to make sure your voice is heard at the polls. \nThe second half of the day will be a seminar on preparing for and leading your PCP. We’ll share tips on how to lead meetings and prepare agendas so you are the one in control. \nLunch and snacks will be provided. \nCost: $20 \nRegistration is required: Link to Registration Form
URL:https://jubileemd.org/event/client-council-retreat/
LOCATION:Utopia Entertainment\, 5270 Randolph Rd\, Rockville\, MD\, 20852
CATEGORIES:Community Engagement
ATTACH;FMTTYPE=image/jpeg:https://jubileemd.org/wp-content/uploads/2025/09/CRECE-Housewarming-Celebration-big-group-photo-scaled.jpg
ORGANIZER;CN="Julia McCune":MAILTO:jmccune@jubileemd.org
END:VEVENT
BEGIN:VEVENT
DTSTART;TZID=America/New_York:20260317T173000
DTEND;TZID=America/New_York:20260317T183000
DTSTAMP:20260424T090247
CREATED:20260109T184414Z
LAST-MODIFIED:20260109T184414Z
UID:10008230-1773768600-1773772200@jubileemd.org
SUMMARY:Healthy Relationships: Dating 101\, Wrap-Up and Review
DESCRIPTION:Join your Jubilee Friends for a healthy relationship discussion in a safe space at Jubilee. \nWe will discuss topics such as relationships\, friendships\, and family. \nThis event is free and accessible to everyone. \n\n	Notice: JavaScript is required for this content.
URL:https://jubileemd.org/event/healthy-relationships-dating-101-wrap-up-and-review/
LOCATION:Jubilee Association of Maryland\, 10408 Montgomery Avenue\, Kensington\, 20895\, United States
CATEGORIES:Community Engagement
ATTACH;FMTTYPE=image/jpeg:https://jubileemd.org/wp-content/uploads/2024/10/Guy-Talk.jpeg
ORGANIZER;CN="Corey Coby":MAILTO:ccoby@jubileemd.org
END:VEVENT
BEGIN:VEVENT
DTSTART;TZID=America/New_York:20260320T180000
DTEND;TZID=America/New_York:20260320T200000
DTSTAMP:20260424T090247
CREATED:20260113T192308Z
LAST-MODIFIED:20260113T192308Z
UID:10008241-1774029600-1774036800@jubileemd.org
SUMMARY:Movie Night Madness
DESCRIPTION:Come to Movie Night Madness with your Jubilee friends. \nRefreshments will be served. \nThis event is free and accessible to everyone. \n\n	Notice: JavaScript is required for this content.
URL:https://jubileemd.org/event/movie-night-madness-2/
LOCATION:Jubilee Association of Maryland\, 10408 Montgomery Avenue\, Kensington\, 20895\, United States
CATEGORIES:Community Engagement
ATTACH;FMTTYPE=image/jpeg:https://jubileemd.org/wp-content/uploads/2024/10/Movie-Night.jpg
ORGANIZER;CN="Corey Coby":MAILTO:ccoby@jubileemd.org
END:VEVENT
BEGIN:VEVENT
DTSTART;TZID=America/New_York:20260321T120000
DTEND;TZID=America/New_York:20260321T140000
DTSTAMP:20260424T090247
CREATED:20260127T154649Z
LAST-MODIFIED:20260223T202850Z
UID:10008260-1774094400-1774101600@jubileemd.org
SUMMARY:Eid Celebration
DESCRIPTION:Join us in celebrating Eid! \n“Eid” in Arabic means “festival” or “feast\,” and in Islam\, it refers to two major holidays: \nEid al-Fitr (the festival of breaking the fast\, marking the end of Ramadan) and Eid al-Adha (the festival of sacrifice\, coinciding with the Hajj pilgrimage). \nThere will be delicious food\, music\, and a special guest speaker. \n\n	Notice: JavaScript is required for this content.
URL:https://jubileemd.org/event/eid-celebration-2/
LOCATION:MD
CATEGORIES:Community Engagement
ATTACH;FMTTYPE=image/jpeg:https://jubileemd.org/wp-content/uploads/2026/01/istockphoto-1389438413-612x612-1.jpg
ORGANIZER;CN="Corey Coby":MAILTO:ccoby@jubileemd.org
END:VEVENT
BEGIN:VEVENT
DTSTART;TZID=America/New_York:20260324T173000
DTEND;TZID=America/New_York:20260324T183000
DTSTAMP:20260424T090247
CREATED:20260223T154438Z
LAST-MODIFIED:20260223T200721Z
UID:10008278-1774373400-1774377000@jubileemd.org
SUMMARY:Money Management & Budget Basics: How do we use money?
DESCRIPTION:Join your Jubilee Friends for a discussion on how we use money. \nWe will learn to identify bills and coins\, make change with them\, and understand how money works with a debit or credit card. \nThis event is free and accessible to everyone. \n\n	Notice: JavaScript is required for this content.
URL:https://jubileemd.org/event/money-management-budget-basics-how-do-we-use-money/
LOCATION:Jubilee Association of Maryland\, 10408 Montgomery Avenue\, Kensington\, 20895\, United States
CATEGORIES:Community Engagement
ATTACH;FMTTYPE=image/avif:https://jubileemd.org/wp-content/uploads/2026/02/money-management-financial-plan-concepts-with-text-desk-top-view_254791-2090.avif
ORGANIZER;CN="Abby Elson":MAILTO:aelson@jubileemd.org
END:VEVENT
BEGIN:VEVENT
DTSTART;TZID=America/New_York:20260326T193000
DTEND;TZID=America/New_York:20260326T213000
DTSTAMP:20260424T090248
CREATED:20260109T184534Z
LAST-MODIFIED:20260109T184534Z
UID:10008232-1774553400-1774560600@jubileemd.org
SUMMARY:Karaoke Night at TGI Fridays
DESCRIPTION:Join your Jubilee friends for karaoke singing and dancing! \nPlease bring money for food and drink. \nThis event is free and accessible to everyone \n\n	Notice: JavaScript is required for this content.
URL:https://jubileemd.org/event/karaoke-night-at-tgi-fridays-27/
LOCATION:TGI Fridays\, 12281 Tech Road\, Silver Springs\, MD
CATEGORIES:Community Engagement
ATTACH;FMTTYPE=image/jpeg:https://jubileemd.org/wp-content/uploads/2022/11/circle-friends.jpg
ORGANIZER;CN="Corey Coby":MAILTO:ccoby@jubileemd.org
END:VEVENT
BEGIN:VEVENT
DTSTART;TZID=America/New_York:20260329T133000
DTEND;TZID=America/New_York:20260329T150000
DTSTAMP:20260424T090248
CREATED:20251105T154736Z
LAST-MODIFIED:20251105T154736Z
UID:10008161-1774791000-1774796400@jubileemd.org
SUMMARY:Client Council monthly meeting
DESCRIPTION:Open to all people supported by Jubilee\, the monthly Client Council meeting is an opportunity to stay engaged and up to date on important Jubilee news. Mingle with your Jubilee friends\, elected Client Council officials\, and Jubilee leadership. Each meeting will focus on a different topic of interest to our community. \nThe meeting will be held at the Jubilee office in the downstairs classrooms. \n\n	Notice: JavaScript is required for this content.
URL:https://jubileemd.org/event/client-council-monthly-meeting-4/
LOCATION:Jubilee Association of Maryland\, 10408 Montgomery Avenue\, Kensington\, 20895\, United States
CATEGORIES:Community Engagement
ATTACH;FMTTYPE=image/jpeg:https://jubileemd.org/wp-content/uploads/2024/10/Guy-Talk.jpeg
ORGANIZER;CN="Julia McCune":MAILTO:jmccune@jubileemd.org
END:VEVENT
BEGIN:VEVENT
DTSTART;TZID=America/New_York:20260331T173000
DTEND;TZID=America/New_York:20260331T183000
DTSTAMP:20260424T090248
CREATED:20260113T192102Z
LAST-MODIFIED:20260113T192102Z
UID:10008240-1774978200-1774981800@jubileemd.org
SUMMARY:Healthy Relationships 101: Identity
DESCRIPTION:Join your Jubilee Friends for a healthy relationship discussion in a safe space at Jubilee. \nWe will discuss topics such as relationships\, friendships\, and family. \nThis event is free and accessible to everyone. \n\n	Notice: JavaScript is required for this content.
URL:https://jubileemd.org/event/healthy-relationships-101-identity/
LOCATION:Jubilee Association of Maryland\, 10408 Montgomery Avenue\, Kensington\, 20895\, United States
CATEGORIES:Community Engagement
ATTACH;FMTTYPE=image/jpeg:https://jubileemd.org/wp-content/uploads/2024/10/Guy-Talk.jpeg
ORGANIZER;CN="Corey Coby":MAILTO:ccoby@jubileemd.org
END:VEVENT
END:VCALENDAR