BEGIN:VCALENDAR
VERSION:2.0
PRODID:-//Jubilee - ECPv6.15.20//NONSGML v1.0//EN
CALSCALE:GREGORIAN
METHOD:PUBLISH
X-WR-CALNAME:Jubilee
X-ORIGINAL-URL:https://jubileemd.org
X-WR-CALDESC:Events for Jubilee
REFRESH-INTERVAL;VALUE=DURATION:PT1H
X-Robots-Tag:noindex
X-PUBLISHED-TTL:PT1H
BEGIN:VTIMEZONE
TZID:America/New_York
BEGIN:DAYLIGHT
TZOFFSETFROM:-0500
TZOFFSETTO:-0400
TZNAME:EDT
DTSTART:20250309T070000
END:DAYLIGHT
BEGIN:STANDARD
TZOFFSETFROM:-0400
TZOFFSETTO:-0500
TZNAME:EST
DTSTART:20251102T060000
END:STANDARD
BEGIN:DAYLIGHT
TZOFFSETFROM:-0500
TZOFFSETTO:-0400
TZNAME:EDT
DTSTART:20260308T070000
END:DAYLIGHT
BEGIN:STANDARD
TZOFFSETFROM:-0400
TZOFFSETTO:-0500
TZNAME:EST
DTSTART:20261101T060000
END:STANDARD
BEGIN:DAYLIGHT
TZOFFSETFROM:-0500
TZOFFSETTO:-0400
TZNAME:EDT
DTSTART:20270314T070000
END:DAYLIGHT
BEGIN:STANDARD
TZOFFSETFROM:-0400
TZOFFSETTO:-0500
TZNAME:EST
DTSTART:20271107T060000
END:STANDARD
END:VTIMEZONE
BEGIN:VEVENT
DTSTART;TZID=America/New_York:20260501T180000
DTEND;TZID=America/New_York:20260501T200000
DTSTAMP:20260424T133622
CREATED:20260127T155520Z
LAST-MODIFIED:20260127T155520Z
UID:10008271-1777658400-1777665600@jubileemd.org
SUMMARY:Movie Night Madness
DESCRIPTION:Come to Movie Night Madness with your Jubilee friends. \nRefreshments will be served. \nThis event is free and accessible to everyone. \n\n	Notice: JavaScript is required for this content.
URL:https://jubileemd.org/event/movie-night-madness-4/
LOCATION:Jubilee Association of Maryland\, 10408 Montgomery Avenue\, Kensington\, 20895\, United States
CATEGORIES:Community Engagement
ATTACH;FMTTYPE=image/jpeg:https://jubileemd.org/wp-content/uploads/2024/10/Movie-Night.jpg
ORGANIZER;CN="Corey Coby":MAILTO:ccoby@jubileemd.org
END:VEVENT
BEGIN:VEVENT
DTSTART;TZID=America/New_York:20260503T103000
DTEND;TZID=America/New_York:20260503T233000
DTSTAMP:20260424T133622
CREATED:20260324T195713Z
LAST-MODIFIED:20260324T195713Z
UID:10008326-1777804200-1777851000@jubileemd.org
SUMMARY:Fiber Arts
DESCRIPTION:Come join our fiber arts group! \nWhether you knit\, crochet\, weave\, or just want to hang out\, all skill levels are welcome. \nCome relax\, listen to music\, and enjoy some creative time together in a friendly space. \nBring your current project and connect with fellow Jubilee creatives. \nThis event is free and accessible to everyone. \n\n	Notice: JavaScript is required for this content.
URL:https://jubileemd.org/event/fiber-arts/
LOCATION:Jubilee Association of Maryland\, 10408 Montgomery Avenue\, Kensington\, 20895\, United States
CATEGORIES:Community Engagement
ATTACH;FMTTYPE=image/png:https://jubileemd.org/wp-content/uploads/2023/10/posting-34.png
ORGANIZER;CN="Abby Elson":MAILTO:aelson@jubileemd.org
END:VEVENT
BEGIN:VEVENT
DTSTART;TZID=America/New_York:20260504T163000
DTEND;TZID=America/New_York:20260504T200000
DTSTAMP:20260424T133622
CREATED:20260324T200114Z
LAST-MODIFIED:20260324T200114Z
UID:10008327-1777912200-1777924800@jubileemd.org
SUMMARY:Gamers the Gathering at Gaithersburg Library
DESCRIPTION:Whether you’re new to tabletop games or are looking for people to play with\, join others in a relaxed evening of gaming at the Gaithersburg Library. Arrive anytime between 4:30 and 7 pm. The event ends at 8 pm. \nThere will be a variety of card games and board games\, including different Eurogames\, strategy games\, and party games. Have a game you’d like to share? Feel free to bring your own from home to play with others. \nThe group meets in Meeting Room 3 on the 2nd floor. \nThis event is free and accessible to everyone. \n\n	Notice: JavaScript is required for this content.
URL:https://jubileemd.org/event/gamers-the-gathering-at-gaithersburg-library/
LOCATION:Gaithersburg Library\, 18330 Montgomery Village Ave\, Gaithersburg\, MD
CATEGORIES:Community Engagement
ATTACH;FMTTYPE=image/jpeg:https://jubileemd.org/wp-content/uploads/2025/03/Scott-Drive-guys-on-deck.jpg
ORGANIZER;CN="Abby Elson":MAILTO:aelson@jubileemd.org
END:VEVENT
BEGIN:VEVENT
DTSTART;TZID=America/New_York:20260505T173000
DTEND;TZID=America/New_York:20260505T183000
DTSTAMP:20260424T133622
CREATED:20260223T154919Z
LAST-MODIFIED:20260223T200618Z
UID:10008281-1778002200-1778005800@jubileemd.org
SUMMARY:Money Management & Budget Basics: Creating a Reasonable Budget
DESCRIPTION:Join your Jubilee Friends for a discussion on how to create a budget. \nWe will learn how to build an attainable budget with a template based on income and other factors. \nThis event is free and accessible to everyone. \n\n	Notice: JavaScript is required for this content.
URL:https://jubileemd.org/event/money-management-budget-basics-creating-a-reasonable-budget/
LOCATION:Jubilee Association of Maryland\, 10408 Montgomery Avenue\, Kensington\, 20895\, United States
CATEGORIES:Community Engagement
ATTACH;FMTTYPE=image/avif:https://jubileemd.org/wp-content/uploads/2026/02/money-management-financial-plan-concepts-with-text-desk-top-view_254791-2090.avif
ORGANIZER;CN="Abby Elson":MAILTO:aelson@jubileemd.org
END:VEVENT
BEGIN:VEVENT
DTSTART;TZID=America/New_York:20260507T193000
DTEND;TZID=America/New_York:20260507T213000
DTSTAMP:20260424T133622
CREATED:20260127T155208Z
LAST-MODIFIED:20260127T155208Z
UID:10008267-1778182200-1778189400@jubileemd.org
SUMMARY:Karaoke Night at TGI Fridays
DESCRIPTION:Join your Jubilee friends for karaoke singing and dancing! \nPlease bring money for food and drink. \nThis event is free and accessible to everyone \n\n	Notice: JavaScript is required for this content.
URL:https://jubileemd.org/event/karaoke-night-at-tgi-fridays-29/
LOCATION:TGI Fridays\, 12281 Tech Road\, Silver Springs\, MD
CATEGORIES:Community Engagement
ATTACH;FMTTYPE=image/jpeg:https://jubileemd.org/wp-content/uploads/2022/11/circle-friends.jpg
ORGANIZER;CN="Corey Coby":MAILTO:ccoby@jubileemd.org
END:VEVENT
BEGIN:VEVENT
DTSTART;TZID=America/New_York:20260512T173000
DTEND;TZID=America/New_York:20260512T183000
DTSTAMP:20260424T133623
CREATED:20260127T154917Z
LAST-MODIFIED:20260127T154917Z
UID:10008263-1778607000-1778610600@jubileemd.org
SUMMARY:Healthy Relationships 101: Letting Go Toxic Relationships
DESCRIPTION:Join your Jubilee Friends for a healthy relationship discussion in a safe space at Jubilee. \nWe will discuss topics such as relationships\, friendships\, and family. \nThis event is free and accessible to everyone. \n\n	Notice: JavaScript is required for this content.
URL:https://jubileemd.org/event/healthy-relationships-101-letting-go-toxic-relationships/
LOCATION:Jubilee Association of Maryland\, 10408 Montgomery Avenue\, Kensington\, 20895\, United States
CATEGORIES:Community Engagement
ATTACH;FMTTYPE=image/jpeg:https://jubileemd.org/wp-content/uploads/2024/10/Guy-Talk.jpeg
ORGANIZER;CN="Corey Coby":MAILTO:ccoby@jubileemd.org
END:VEVENT
BEGIN:VEVENT
DTSTART;TZID=America/New_York:20260513T173000
DTEND;TZID=America/New_York:20260513T183000
DTSTAMP:20260424T133623
CREATED:20260403T170142Z
LAST-MODIFIED:20260403T170142Z
UID:10008352-1778693400-1778697000@jubileemd.org
SUMMARY:Doodle Den Art Club
DESCRIPTION:Join your Jubilee friends for the Doodle Den Art Club! \nWe will be working on an art project that you can bring home with you while listening to music. \nYou may also bring your own craft and sit in with the group to chat. \nThis event is free and accessible to everyone. \n\n	Notice: JavaScript is required for this content.
URL:https://jubileemd.org/event/doodle-den-art-club/
LOCATION:Jubilee Association of Maryland\, 10408 Montgomery Avenue\, Kensington\, 20895\, United States
CATEGORIES:Community Engagement
ATTACH;FMTTYPE=image/jpeg:https://jubileemd.org/wp-content/uploads/2021/07/Carolyn-with-her-art.jpg
ORGANIZER;CN="Abby Elson":MAILTO:aelson@jubileemd.org
END:VEVENT
BEGIN:VEVENT
DTSTART;TZID=America/New_York:20260517T133000
DTEND;TZID=America/New_York:20260517T150000
DTSTAMP:20260424T133623
CREATED:20251105T154906Z
LAST-MODIFIED:20260324T182728Z
UID:10008163-1779024600-1779030000@jubileemd.org
SUMMARY:Client Council monthly meeting
DESCRIPTION:Open to all people supported by Jubilee\, the monthly Client Council meeting is an opportunity to stay engaged and up to date on important Jubilee news. Mingle with your Jubilee friends\, elected Client Council officials\, and Jubilee leadership. Each meeting will focus on a different topic of interest to our community. \nThe meeting will be held at the Jubilee office in the downstairs classrooms. \n\n	Notice: JavaScript is required for this content.
URL:https://jubileemd.org/event/client-council-monthly-meeting-6/
LOCATION:Jubilee Association of Maryland\, 10408 Montgomery Avenue\, Kensington\, 20895\, United States
CATEGORIES:Community Engagement
ATTACH;FMTTYPE=image/jpeg:https://jubileemd.org/wp-content/uploads/2024/10/Guy-Talk.jpeg
ORGANIZER;CN="Julia McCune":MAILTO:jmccune@jubileemd.org
END:VEVENT
BEGIN:VEVENT
DTSTART;TZID=America/New_York:20260519T173000
DTEND;TZID=America/New_York:20260519T183000
DTSTAMP:20260424T133623
CREATED:20260223T155031Z
LAST-MODIFIED:20260223T200554Z
UID:10008282-1779211800-1779215400@jubileemd.org
SUMMARY:Money Management & Budget Basics: Sticking to your Budget
DESCRIPTION:Join your Jubilee Friends for a discussion on how to stick to your budget. \nWe will learn how to compare prices to stick to a budget while striving for longer-term savings goals. \nThis event is free and accessible to everyone. \n\n	Notice: JavaScript is required for this content.
URL:https://jubileemd.org/event/money-management-budget-basics-sticking-to-your-budget/
LOCATION:Jubilee Association of Maryland\, 10408 Montgomery Avenue\, Kensington\, 20895\, United States
CATEGORIES:Community Engagement
ATTACH;FMTTYPE=image/avif:https://jubileemd.org/wp-content/uploads/2026/02/money-management-financial-plan-concepts-with-text-desk-top-view_254791-2090.avif
ORGANIZER;CN="Abby Elson":MAILTO:aelson@jubileemd.org
END:VEVENT
BEGIN:VEVENT
DTSTART;TZID=America/New_York:20260520T180000
DTEND;TZID=America/New_York:20260520T200000
DTSTAMP:20260424T133623
CREATED:20260320T151224Z
LAST-MODIFIED:20260320T160552Z
UID:10008317-1779300000-1779307200@jubileemd.org
SUMMARY:Bingo Night at Quincy's Potomac
DESCRIPTION:Join your Jubilee friends for Bingo Night at Quincy’s Bar and Grill! Jubilee will gather at 6:30 to get seated and eat dinner. \nBingo will begin at 7 pm. \nBring money for dinner and a drink. \nThis event is free and accessible to everyone. \n\n	Notice: JavaScript is required for this content.
URL:https://jubileemd.org/event/bingo-night-at-quincys-potomac/
LOCATION:Quincy’s Bar & Grill\, 1093 Seven Locks Road\, Potomac\, MD
CATEGORIES:Community Engagement
ATTACH;FMTTYPE=image/jpeg:https://jubileemd.org/wp-content/uploads/2025/03/Image-16-1.jpg
ORGANIZER;CN="Abby Elson":MAILTO:aelson@jubileemd.org
END:VEVENT
BEGIN:VEVENT
DTSTART;TZID=America/New_York:20260521T193000
DTEND;TZID=America/New_York:20260521T213000
DTSTAMP:20260424T133623
CREATED:20260127T155239Z
LAST-MODIFIED:20260127T155239Z
UID:10008268-1779391800-1779399000@jubileemd.org
SUMMARY:Karaoke Night at TGI Fridays
DESCRIPTION:Join your Jubilee friends for karaoke singing and dancing! \nPlease bring money for food and drink. \nThis event is free and accessible to everyone \n\n	Notice: JavaScript is required for this content.
URL:https://jubileemd.org/event/karaoke-night-at-tgi-fridays-30/
LOCATION:TGI Fridays\, 12281 Tech Road\, Silver Springs\, MD
CATEGORIES:Community Engagement
ATTACH;FMTTYPE=image/jpeg:https://jubileemd.org/wp-content/uploads/2022/11/circle-friends.jpg
ORGANIZER;CN="Corey Coby":MAILTO:ccoby@jubileemd.org
END:VEVENT
BEGIN:VEVENT
DTSTART;TZID=America/New_York:20260526T173000
DTEND;TZID=America/New_York:20260526T183000
DTSTAMP:20260424T133623
CREATED:20260127T155003Z
LAST-MODIFIED:20260127T155003Z
UID:10008264-1779816600-1779820200@jubileemd.org
SUMMARY:Healthy Relationships 101:  Natural Supports
DESCRIPTION:Join your Jubilee Friends for a healthy relationship discussion in a safe space at Jubilee. \nWe will discuss topics such as relationships\, friendships\, and family. \nThis event is free and accessible to everyone. \n\n	Notice: JavaScript is required for this content.
URL:https://jubileemd.org/event/healthy-relationships-101-natural-supports/
LOCATION:Jubilee Association of Maryland\, 10408 Montgomery Avenue\, Kensington\, 20895\, United States
CATEGORIES:Community Engagement
ATTACH;FMTTYPE=image/jpeg:https://jubileemd.org/wp-content/uploads/2024/10/Guy-Talk.jpeg
ORGANIZER;CN="Corey Coby":MAILTO:ccoby@jubileemd.org
END:VEVENT
BEGIN:VEVENT
DTSTART;TZID=America/New_York:20260527T173000
DTEND;TZID=America/New_York:20260527T183000
DTSTAMP:20260424T133624
CREATED:20260403T170213Z
LAST-MODIFIED:20260403T170213Z
UID:10008353-1779903000-1779906600@jubileemd.org
SUMMARY:Doodle Den Art Club
DESCRIPTION:Join your Jubilee friends for the Doodle Den Art Club! \nWe will be working on an art project that you can bring home with you while listening to music. \nYou may also bring your own craft and sit in with the group to chat. \nThis event is free and accessible to everyone. \n\n	Notice: JavaScript is required for this content.
URL:https://jubileemd.org/event/doodle-den-art-club-4/
LOCATION:Jubilee Association of Maryland\, 10408 Montgomery Avenue\, Kensington\, 20895\, United States
CATEGORIES:Community Engagement
ATTACH;FMTTYPE=image/jpeg:https://jubileemd.org/wp-content/uploads/2021/07/Carolyn-with-her-art.jpg
ORGANIZER;CN="Abby Elson":MAILTO:aelson@jubileemd.org
END:VEVENT
BEGIN:VEVENT
DTSTART;TZID=America/New_York:20260531T143000
DTEND;TZID=America/New_York:20260531T160000
DTSTAMP:20260424T133624
CREATED:20260324T204142Z
LAST-MODIFIED:20260324T204142Z
UID:10008328-1780237800-1780243200@jubileemd.org
SUMMARY:ArtStream Silver Spring Company Show
DESCRIPTION:Join Jubilee to attend the ArtStream Silver Spring performances of The Beach Play and All Aboard! \nThere are many people from the Jubilee community acting in these shows. \nThe show begins at 2:30\, but it is recommended you arrive at 2:00 pm to gather and find your seats. \nTickets cost $10. \nIt is HIGHLY RECOMMENDED that you buy tickets online before the show as the performance may sell out. Tickets can be purchased here: https://secure.qgiv.com/for/art-stream/event/silverspringperformances2026/ \nPlease contact the Community Engagement team for assistance purchasing tickets. \n\n	Notice: JavaScript is required for this content.
URL:https://jubileemd.org/event/artstream-silver-spring-company-show/
LOCATION:Silver Springs Blackbox Theatre\, 8641 Colesville Rd\, Silver Springs\, MD
CATEGORIES:Community Engagement
ATTACH;FMTTYPE=image/jpeg:https://jubileemd.org/wp-content/uploads/2023/04/PIXELBLOOM-Timeless-Butterflies-1-_-ARTECHOUSE-Studio-5-scaled-1.jpg
ORGANIZER;CN="Abby Elson":MAILTO:aelson@jubileemd.org
END:VEVENT
END:VCALENDAR