BEGIN:VCALENDAR
VERSION:2.0
PRODID:-//Jubilee - ECPv6.15.20//NONSGML v1.0//EN
CALSCALE:GREGORIAN
METHOD:PUBLISH
X-WR-CALNAME:Jubilee
X-ORIGINAL-URL:https://jubileemd.org
X-WR-CALDESC:Events for Jubilee
REFRESH-INTERVAL;VALUE=DURATION:PT1H
X-Robots-Tag:noindex
X-PUBLISHED-TTL:PT1H
BEGIN:VTIMEZONE
TZID:America/New_York
BEGIN:DAYLIGHT
TZOFFSETFROM:-0500
TZOFFSETTO:-0400
TZNAME:EDT
DTSTART:20250309T070000
END:DAYLIGHT
BEGIN:STANDARD
TZOFFSETFROM:-0400
TZOFFSETTO:-0500
TZNAME:EST
DTSTART:20251102T060000
END:STANDARD
BEGIN:DAYLIGHT
TZOFFSETFROM:-0500
TZOFFSETTO:-0400
TZNAME:EDT
DTSTART:20260308T070000
END:DAYLIGHT
BEGIN:STANDARD
TZOFFSETFROM:-0400
TZOFFSETTO:-0500
TZNAME:EST
DTSTART:20261101T060000
END:STANDARD
BEGIN:DAYLIGHT
TZOFFSETFROM:-0500
TZOFFSETTO:-0400
TZNAME:EDT
DTSTART:20270314T070000
END:DAYLIGHT
BEGIN:STANDARD
TZOFFSETFROM:-0400
TZOFFSETTO:-0500
TZNAME:EST
DTSTART:20271107T060000
END:STANDARD
END:VTIMEZONE
BEGIN:VEVENT
DTSTART;TZID=America/New_York:20260519T173000
DTEND;TZID=America/New_York:20260519T183000
DTSTAMP:20260425T080459
CREATED:20260223T155031Z
LAST-MODIFIED:20260223T200554Z
UID:10008282-1779211800-1779215400@jubileemd.org
SUMMARY:Money Management & Budget Basics: Sticking to your Budget
DESCRIPTION:Join your Jubilee Friends for a discussion on how to stick to your budget. \nWe will learn how to compare prices to stick to a budget while striving for longer-term savings goals. \nThis event is free and accessible to everyone. \n\n	Notice: JavaScript is required for this content.
URL:https://jubileemd.org/event/money-management-budget-basics-sticking-to-your-budget/
LOCATION:Jubilee Association of Maryland\, 10408 Montgomery Avenue\, Kensington\, 20895\, United States
CATEGORIES:Community Engagement
ATTACH;FMTTYPE=image/avif:https://jubileemd.org/wp-content/uploads/2026/02/money-management-financial-plan-concepts-with-text-desk-top-view_254791-2090.avif
ORGANIZER;CN="Abby Elson":MAILTO:aelson@jubileemd.org
END:VEVENT
END:VCALENDAR