BEGIN:VCALENDAR
VERSION:2.0
PRODID:-//Jubilee - ECPv6.15.20//NONSGML v1.0//EN
CALSCALE:GREGORIAN
METHOD:PUBLISH
X-WR-CALNAME:Jubilee
X-ORIGINAL-URL:https://jubileemd.org
X-WR-CALDESC:Events for Jubilee
REFRESH-INTERVAL;VALUE=DURATION:PT1H
X-Robots-Tag:noindex
X-PUBLISHED-TTL:PT1H
BEGIN:VTIMEZONE
TZID:America/New_York
BEGIN:DAYLIGHT
TZOFFSETFROM:-0500
TZOFFSETTO:-0400
TZNAME:EDT
DTSTART:20250309T070000
END:DAYLIGHT
BEGIN:STANDARD
TZOFFSETFROM:-0400
TZOFFSETTO:-0500
TZNAME:EST
DTSTART:20251102T060000
END:STANDARD
BEGIN:DAYLIGHT
TZOFFSETFROM:-0500
TZOFFSETTO:-0400
TZNAME:EDT
DTSTART:20260308T070000
END:DAYLIGHT
BEGIN:STANDARD
TZOFFSETFROM:-0400
TZOFFSETTO:-0500
TZNAME:EST
DTSTART:20261101T060000
END:STANDARD
BEGIN:DAYLIGHT
TZOFFSETFROM:-0500
TZOFFSETTO:-0400
TZNAME:EDT
DTSTART:20270314T070000
END:DAYLIGHT
BEGIN:STANDARD
TZOFFSETFROM:-0400
TZOFFSETTO:-0500
TZNAME:EST
DTSTART:20271107T060000
END:STANDARD
END:VTIMEZONE
BEGIN:VEVENT
DTSTART;TZID=America/New_York:20260412T133000
DTEND;TZID=America/New_York:20260412T150000
DTSTAMP:20260425T093033
CREATED:20260223T200242Z
LAST-MODIFIED:20260326T195350Z
UID:10008290-1776000600-1776006000@jubileemd.org
SUMMARY:Sundae Funday: Abby's Welcome Party
DESCRIPTION:Join the Community Engagement team’s newest member\, Abby Elson\, for an ice cream social to welcome her to Jubilee! Come meet Abby over one of her favorite treats. \nPlease bring $6-$10 for ice cream. \nThis event is accessible to everyone \n\n	Notice: JavaScript is required for this content.\nThis event has reached it's maximum capacity and can no longer accept registrations. 
URL:https://jubileemd.org/event/abbyswelcomeparty/
LOCATION:Mimi’s Handmade Ice Cream\, 12274 Rockville Pike\, Ste E\, Rockville\, Maryland
CATEGORIES:Community Engagement
ATTACH;FMTTYPE=image/png:https://jubileemd.org/wp-content/uploads/2022/05/ice-cream-social_orig.png
ORGANIZER;CN="Abby Elson":MAILTO:aelson@jubileemd.org
END:VEVENT
BEGIN:VEVENT
DTSTART;TZID=America/New_York:20260414T173000
DTEND;TZID=America/New_York:20260414T183000
DTSTAMP:20260425T093033
CREATED:20260127T154749Z
LAST-MODIFIED:20260127T154749Z
UID:10008261-1776187800-1776191400@jubileemd.org
SUMMARY:Healthy Relationships 101: Intimacy
DESCRIPTION:Join your Jubilee Friends for a healthy relationship discussion in a safe space at Jubilee. \nWe will discuss topics such as relationships\, friendships\, and family. \nThis event is free and accessible to everyone. \n\n	Notice: JavaScript is required for this content.
URL:https://jubileemd.org/event/healthy-relationships-101-intimacy/
LOCATION:Jubilee Association of Maryland\, 10408 Montgomery Avenue\, Kensington\, 20895\, United States
CATEGORIES:Community Engagement
ATTACH;FMTTYPE=image/jpeg:https://jubileemd.org/wp-content/uploads/2024/10/Guy-Talk.jpeg
ORGANIZER;CN="Corey Coby":MAILTO:ccoby@jubileemd.org
END:VEVENT
BEGIN:VEVENT
DTSTART;TZID=America/New_York:20260415T173000
DTEND;TZID=America/New_York:20260415T183000
DTSTAMP:20260425T093034
CREATED:20260305T170919Z
LAST-MODIFIED:20260305T170919Z
UID:10008303-1776274200-1776277800@jubileemd.org
SUMMARY:Doodle Den Art Club
DESCRIPTION:Join your Jubilee friends for the Doodle Den Art Club! \nWe will be working on an art project that you can bring home with you while listening to music. \nYou may also bring your own craft and sit in with the group to chat. \nThis event is free and accessible to everyone. \n\n	Notice: JavaScript is required for this content.
URL:https://jubileemd.org/event/doodle-den-art-club-2/
LOCATION:Jubilee Association of Maryland\, 10408 Montgomery Avenue\, Kensington\, 20895\, United States
CATEGORIES:Community Engagement
ATTACH;FMTTYPE=image/jpeg:https://jubileemd.org/wp-content/uploads/2021/07/Carolyn-with-her-art.jpg
ORGANIZER;CN="Abby Elson":MAILTO:aelson@jubileemd.org
END:VEVENT
BEGIN:VEVENT
DTSTART;TZID=America/New_York:20260417T180000
DTEND;TZID=America/New_York:20260417T200000
DTSTAMP:20260425T093034
CREATED:20260127T155443Z
LAST-MODIFIED:20260127T155443Z
UID:10008270-1776448800-1776456000@jubileemd.org
SUMMARY:Movie Night Madness
DESCRIPTION:Come to Movie Night Madness with your Jubilee friends. \nRefreshments will be served. \nThis event is free and accessible to everyone. \n\n	Notice: JavaScript is required for this content.
URL:https://jubileemd.org/event/movie-night-madness-3/
LOCATION:Jubilee Association of Maryland\, 10408 Montgomery Avenue\, Kensington\, 20895\, United States
CATEGORIES:Community Engagement
ATTACH;FMTTYPE=image/jpeg:https://jubileemd.org/wp-content/uploads/2024/10/Movie-Night.jpg
ORGANIZER;CN="Corey Coby":MAILTO:ccoby@jubileemd.org
END:VEVENT
END:VCALENDAR