BEGIN:VCALENDAR
VERSION:2.0
PRODID:-//Jubilee - ECPv6.15.20//NONSGML v1.0//EN
CALSCALE:GREGORIAN
METHOD:PUBLISH
X-ORIGINAL-URL:https://jubileemd.org
X-WR-CALDESC:Events for Jubilee
REFRESH-INTERVAL;VALUE=DURATION:PT1H
X-Robots-Tag:noindex
X-PUBLISHED-TTL:PT1H
BEGIN:VTIMEZONE
TZID:America/New_York
BEGIN:DAYLIGHT
TZOFFSETFROM:-0500
TZOFFSETTO:-0400
TZNAME:EDT
DTSTART:20250309T070000
END:DAYLIGHT
BEGIN:STANDARD
TZOFFSETFROM:-0400
TZOFFSETTO:-0500
TZNAME:EST
DTSTART:20251102T060000
END:STANDARD
BEGIN:DAYLIGHT
TZOFFSETFROM:-0500
TZOFFSETTO:-0400
TZNAME:EDT
DTSTART:20260308T070000
END:DAYLIGHT
BEGIN:STANDARD
TZOFFSETFROM:-0400
TZOFFSETTO:-0500
TZNAME:EST
DTSTART:20261101T060000
END:STANDARD
BEGIN:DAYLIGHT
TZOFFSETFROM:-0500
TZOFFSETTO:-0400
TZNAME:EDT
DTSTART:20270314T070000
END:DAYLIGHT
BEGIN:STANDARD
TZOFFSETFROM:-0400
TZOFFSETTO:-0500
TZNAME:EST
DTSTART:20271107T060000
END:STANDARD
END:VTIMEZONE
BEGIN:VEVENT
DTSTART;TZID=America/New_York:20260502T093000
DTEND;TZID=America/New_York:20260502T133000
DTSTAMP:20260423T062409
CREATED:20260325T224713Z
LAST-MODIFIED:20260325T224713Z
UID:10008337-1777714200-1777728600@jubileemd.org
SUMMARY:Adult CPR\, First Aid\, AED
DESCRIPTION:Learn how to recognize and respond to medical emergencies. \nCourse length: 4 hours \nRecertification: Required every two years. \nCost: $85.00
URL:https://jubileemd.org/event/adult-cpr-first-aid-aed-26/
LOCATION:The Academy at Jubilee\, 10408 Montgomery Avenue\, Kensington\, MD\, 20895\, United States
CATEGORIES:Academy Courses,Adult CPR, First Aid, and AED
ATTACH;FMTTYPE=image/jpeg:https://jubileemd.org/wp-content/uploads/2024/09/Jubilee-Environmental-13-scaled-1-e1749822396141.jpg
END:VEVENT
END:VCALENDAR