BEGIN:VCALENDAR
VERSION:2.0
PRODID:-//Jubilee - ECPv6.15.20//NONSGML v1.0//EN
CALSCALE:GREGORIAN
METHOD:PUBLISH
X-ORIGINAL-URL:https://jubileemd.org
X-WR-CALDESC:Events for Jubilee
REFRESH-INTERVAL;VALUE=DURATION:PT1H
X-Robots-Tag:noindex
X-PUBLISHED-TTL:PT1H
BEGIN:VTIMEZONE
TZID:America/New_York
BEGIN:DAYLIGHT
TZOFFSETFROM:-0500
TZOFFSETTO:-0400
TZNAME:EDT
DTSTART:20250309T070000
END:DAYLIGHT
BEGIN:STANDARD
TZOFFSETFROM:-0400
TZOFFSETTO:-0500
TZNAME:EST
DTSTART:20251102T060000
END:STANDARD
BEGIN:DAYLIGHT
TZOFFSETFROM:-0500
TZOFFSETTO:-0400
TZNAME:EDT
DTSTART:20260308T070000
END:DAYLIGHT
BEGIN:STANDARD
TZOFFSETFROM:-0400
TZOFFSETTO:-0500
TZNAME:EST
DTSTART:20261101T060000
END:STANDARD
BEGIN:DAYLIGHT
TZOFFSETFROM:-0500
TZOFFSETTO:-0400
TZNAME:EDT
DTSTART:20270314T070000
END:DAYLIGHT
BEGIN:STANDARD
TZOFFSETFROM:-0400
TZOFFSETTO:-0500
TZNAME:EST
DTSTART:20271107T060000
END:STANDARD
END:VTIMEZONE
BEGIN:VEVENT
DTSTART;TZID=America/New_York:20260107T100000
DTEND;TZID=America/New_York:20260107T160000
DTSTAMP:20260425T144211
CREATED:20251216T194249Z
LAST-MODIFIED:20251216T194249Z
UID:10008194-1767780000-1767801600@jubileemd.org
SUMMARY:Certified Medication Technician Refresher Training
DESCRIPTION:DSPs learn how to offer and store medications\, update records\, and observe/report physical or behavioral changes. \nCertified Medication Technicians through the Maryland Board of Nursing must recertify every two years. \nCourse length: 5 hours \nRecertification Eligibility: Maryland Board of Nursing (MBON) Renewal Window is 90 days before your expiration date\, and up to 30 days after your expiration date. \nPlease be sure to check you are in your renewal window before registering for this class.
URL:https://jubileemd.org/event/certified-medication-technician-refresher-training-6/
LOCATION:MD
CATEGORIES:Academy Courses,CMT
END:VEVENT
BEGIN:VEVENT
DTSTART;TZID=America/New_York:20260108T100000
DTEND;TZID=America/New_York:20260108T160000
DTSTAMP:20260425T144211
CREATED:20251216T191611Z
LAST-MODIFIED:20251216T192731Z
UID:10008190-1767866400-1767888000@jubileemd.org
SUMMARY:Certified Medication Technician Initial Training/MTTP [Day 1 of 4]
DESCRIPTION:DSPs learn how to offer and store medications\, update records\, and observe/report physical or behavioral changes. \nCertified Medication Technicians through the Maryland Board of Nursing must recertify every two years. \nCourse length: 20 hours over 4 days*\n\n*Note: Registering for Day 1 of this class will automatically register you for Days 2\, 3\, and 4\, occurring on Friday\, January 9\, Monday\, January 12\, and Tuesday\, January 13\, 10 am to 4 pm each day. \nCost: $250.00 \nRecertification Eligibility: Maryland Board of Nursing (MBON) Renewal Window is 90 days before your expiration date\, and up to 30 days after your expiration date.
URL:https://jubileemd.org/event/cmtijan25/
LOCATION:The Academy at Jubilee\, 10408 Montgomery Avenue\, Kensington\, MD\, 20895\, United States
CATEGORIES:Academy Courses,CMT
END:VEVENT
BEGIN:VEVENT
DTSTART;TZID=America/New_York:20260109T100000
DTEND;TZID=America/New_York:20260109T160000
DTSTAMP:20260425T144211
CREATED:20251216T192317Z
LAST-MODIFIED:20251216T192626Z
UID:10008191-1767952800-1767974400@jubileemd.org
SUMMARY:Certified Medication Technician Initial Training/MTTP [Day 2 of 4]
DESCRIPTION:DSPs learn how to offer and store medications\, update records\, and observe/report physical or behavioral changes. \nCertified Medication Technicians through the Maryland Board of Nursing must recertify every two years. \nRegister for this class through Day 1 of this course: Click Here for MTTP Initial Registration \nCourse length: 20 hours over 4 days*\n\n*Note: Registering for Day 1 of this class will automatically register you for Days 2\, 3\, and 4\, occurring on Friday\, January 9\, Monday\, January 12\, and Tuesday\, January 13\, 10 am to 4 pm each day. \nCost: $250.00 \nRecertification Eligibility: Maryland Board of Nursing (MBON) Renewal Window is 90 days before your expiration date\, and up to 30 days after your expiration date.
URL:https://jubileemd.org/event/certified-medication-technician-initial-training-mttp-day-2-of-4/
LOCATION:The Academy at Jubilee\, 10408 Montgomery Avenue\, Kensington\, MD\, 20895\, United States
CATEGORIES:Academy Courses,CMT
END:VEVENT
BEGIN:VEVENT
DTSTART;TZID=America/New_York:20260110T123000
DTEND;TZID=America/New_York:20260110T173000
DTSTAMP:20260425T144211
CREATED:20251121T202627Z
LAST-MODIFIED:20251121T202627Z
UID:10008169-1768048200-1768066200@jubileemd.org
SUMMARY:Certified Medication Technician Refresher Training
DESCRIPTION:DSPs learn how to offer and store medications\, update records\, and observe/report physical or behavioral changes. \nCertified Medication Technicians through the Maryland Board of Nursing must recertify every two years. \nCourse length: 5 hours \nRecertification Eligibility: Maryland Board of Nursing (MBON) Renewal Window is 90 days before your expiration date\, and up to 30 days after your expiration date. \nPlease be sure to check you are in your renewal window before registering for this class.
URL:https://jubileemd.org/event/certified-medication-technician-refresher-training-5/
LOCATION:MD
CATEGORIES:Academy Courses,CMT
END:VEVENT
BEGIN:VEVENT
DTSTART;TZID=America/New_York:20260112T100000
DTEND;TZID=America/New_York:20260112T160000
DTSTAMP:20260425T144211
CREATED:20251216T192349Z
LAST-MODIFIED:20251216T192538Z
UID:10008192-1768212000-1768233600@jubileemd.org
SUMMARY:Certified Medication Technician Initial Training/MTTP [Day 3 of 4]
DESCRIPTION:DSPs learn how to offer and store medications\, update records\, and observe/report physical or behavioral changes. \nCertified Medication Technicians through the Maryland Board of Nursing must recertify every two years. \nRegister for this class through Day 1 of this course: Click Here for MTTP Initial Registration \nCourse length: 20 hours over 4 days*\n\n*Note: Registering for Day 1 of this class will automatically register you for Days 2\, 3\, and 4\, occurring on Friday\, January 9\, Monday\, January 12\, and Tuesday\, January 13\, 10 am to 4 pm each day. \nCost: $250.00 \nRecertification Eligibility: Maryland Board of Nursing (MBON) Renewal Window is 90 days before your expiration date\, and up to 30 days after your expiration date.
URL:https://jubileemd.org/event/certified-medication-technician-initial-training-mttp-day-3-of-4/
LOCATION:The Academy at Jubilee\, 10408 Montgomery Avenue\, Kensington\, MD\, 20895\, United States
CATEGORIES:Academy Courses,CMT
END:VEVENT
BEGIN:VEVENT
DTSTART;TZID=America/New_York:20260113T100000
DTEND;TZID=America/New_York:20260113T160000
DTSTAMP:20260425T144211
CREATED:20251216T192418Z
LAST-MODIFIED:20251216T192504Z
UID:10008193-1768298400-1768320000@jubileemd.org
SUMMARY:Certified Medication Technician Initial Training/MTTP [Day 4 of 4]
DESCRIPTION:DSPs learn how to offer and store medications\, update records\, and observe/report physical or behavioral changes. \nCertified Medication Technicians through the Maryland Board of Nursing must recertify every two years. \nRegister for this class through Day 1 of this course: Click Here for MTTP Initial Registration \nCourse length: 20 hours over 4 days*\n\n*Note: Registering for Day 1 of this class will automatically register you for Days 2\, 3\, and 4\, occurring on Friday\, January 9\, Monday\, January 12\, and Tuesday\, January 13\, 10 am to 4 pm each day. \nCost: $250.00 \nRecertification Eligibility: Maryland Board of Nursing (MBON) Renewal Window is 90 days before your expiration date\, and up to 30 days after your expiration date.
URL:https://jubileemd.org/event/certified-medication-technician-initial-training-mttp-day-4-of-4/
LOCATION:The Academy at Jubilee\, 10408 Montgomery Avenue\, Kensington\, MD\, 20895\, United States
CATEGORIES:Academy Courses,CMT
END:VEVENT
END:VCALENDAR