BEGIN:VCALENDAR
VERSION:2.0
PRODID:-//Jubilee - ECPv6.15.20//NONSGML v1.0//EN
CALSCALE:GREGORIAN
METHOD:PUBLISH
X-WR-CALNAME:Jubilee
X-ORIGINAL-URL:https://jubileemd.org
X-WR-CALDESC:Events for Jubilee
REFRESH-INTERVAL;VALUE=DURATION:PT1H
X-Robots-Tag:noindex
X-PUBLISHED-TTL:PT1H
BEGIN:VTIMEZONE
TZID:America/New_York
BEGIN:DAYLIGHT
TZOFFSETFROM:-0500
TZOFFSETTO:-0400
TZNAME:EDT
DTSTART:20250309T070000
END:DAYLIGHT
BEGIN:STANDARD
TZOFFSETFROM:-0400
TZOFFSETTO:-0500
TZNAME:EST
DTSTART:20251102T060000
END:STANDARD
BEGIN:DAYLIGHT
TZOFFSETFROM:-0500
TZOFFSETTO:-0400
TZNAME:EDT
DTSTART:20260308T070000
END:DAYLIGHT
BEGIN:STANDARD
TZOFFSETFROM:-0400
TZOFFSETTO:-0500
TZNAME:EST
DTSTART:20261101T060000
END:STANDARD
BEGIN:DAYLIGHT
TZOFFSETFROM:-0500
TZOFFSETTO:-0400
TZNAME:EDT
DTSTART:20270314T070000
END:DAYLIGHT
BEGIN:STANDARD
TZOFFSETFROM:-0400
TZOFFSETTO:-0500
TZNAME:EST
DTSTART:20271107T060000
END:STANDARD
END:VTIMEZONE
BEGIN:VEVENT
DTSTART;TZID=America/New_York:20260413T093000
DTEND;TZID=America/New_York:20260413T133000
DTSTAMP:20260423T200222
CREATED:20260302T193903Z
LAST-MODIFIED:20260302T194012Z
UID:10008294-1776072600-1776087000@jubileemd.org
SUMMARY:Adult CPR\, First Aid\, AED
DESCRIPTION:Learn how to recognize and respond to medical emergencies. \nCourse length: 4 hours \nRecertification: Required every two years. \nCost: $85.00
URL:https://jubileemd.org/event/adult-cpr-first-aid-aed-6/
LOCATION:The Academy at Jubilee\, 10408 Montgomery Avenue\, Kensington\, MD\, 20895\, United States
CATEGORIES:Academy Courses,Adult CPR, First Aid, and AED
ATTACH;FMTTYPE=image/jpeg:https://jubileemd.org/wp-content/uploads/2024/09/Jubilee-Environmental-13-scaled-1-e1749822396141.jpg
END:VEVENT
BEGIN:VEVENT
DTSTART;TZID=America/New_York:20260413T100000
DTEND;TZID=America/New_York:20260413T160000
DTSTAMP:20260423T200222
CREATED:20260305T195645Z
LAST-MODIFIED:20260319T145622Z
UID:10008310-1776074400-1776096000@jubileemd.org
SUMMARY:Certified Medication Technician Refresher Training
DESCRIPTION:DSPs learn how to offer and store medications\, update records\, and observe/report physical or behavioral changes. \nCertified Medication Technicians through the Maryland Board of Nursing must recertify every two years. \nCourse length: 5 hours \nRecertification Eligibility: Maryland Board of Nursing (MBON) Renewal Window is 90 days before your expiration date\, and up to 30 days after your expiration date. \nPlease be sure to check you are in your renewal window before registering for this class.
URL:https://jubileemd.org/event/certified-medication-technician-refresher-training-12/
LOCATION:MD
CATEGORIES:Academy Courses,CMT
END:VEVENT
END:VCALENDAR