BEGIN:VCALENDAR
VERSION:2.0
PRODID:-//Jubilee - ECPv6.15.20//NONSGML v1.0//EN
CALSCALE:GREGORIAN
METHOD:PUBLISH
X-WR-CALNAME:Jubilee
X-ORIGINAL-URL:https://jubileemd.org
X-WR-CALDESC:Events for Jubilee
REFRESH-INTERVAL;VALUE=DURATION:PT1H
X-Robots-Tag:noindex
X-PUBLISHED-TTL:PT1H
BEGIN:VTIMEZONE
TZID:America/New_York
BEGIN:DAYLIGHT
TZOFFSETFROM:-0500
TZOFFSETTO:-0400
TZNAME:EDT
DTSTART:20240310T070000
END:DAYLIGHT
BEGIN:STANDARD
TZOFFSETFROM:-0400
TZOFFSETTO:-0500
TZNAME:EST
DTSTART:20241103T060000
END:STANDARD
BEGIN:DAYLIGHT
TZOFFSETFROM:-0500
TZOFFSETTO:-0400
TZNAME:EDT
DTSTART:20250309T070000
END:DAYLIGHT
BEGIN:STANDARD
TZOFFSETFROM:-0400
TZOFFSETTO:-0500
TZNAME:EST
DTSTART:20251102T060000
END:STANDARD
BEGIN:DAYLIGHT
TZOFFSETFROM:-0500
TZOFFSETTO:-0400
TZNAME:EDT
DTSTART:20260308T070000
END:DAYLIGHT
BEGIN:STANDARD
TZOFFSETFROM:-0400
TZOFFSETTO:-0500
TZNAME:EST
DTSTART:20261101T060000
END:STANDARD
BEGIN:DAYLIGHT
TZOFFSETFROM:-0500
TZOFFSETTO:-0400
TZNAME:EDT
DTSTART:20270314T070000
END:DAYLIGHT
BEGIN:STANDARD
TZOFFSETFROM:-0400
TZOFFSETTO:-0500
TZNAME:EST
DTSTART:20271107T060000
END:STANDARD
END:VTIMEZONE
BEGIN:VEVENT
DTSTART;TZID=America/New_York:20260423T093000
DTEND;TZID=America/New_York:20260423T163000
DTSTAMP:20260425T210946
CREATED:20260302T194635Z
LAST-MODIFIED:20260302T194635Z
UID:10008299-1776936600-1776961800@jubileemd.org
SUMMARY:Mandt Relational
DESCRIPTION:Trauma-informed training teaches crisis prevention and de-escalation skills proven to create an environment where everyone can say\, “In this place\, and with these people\, I feel safe.” \nThis is a two-part course. You may register to take only one part (Relational or Technical) if that is all you need to complete. \nCourse length: Typically 7 hours for Mandt Relational. Lunch is provided each day of training. \nRecertification: Required for DSPs every year. \nCost: $150.00
URL:https://jubileemd.org/event/mandt-relational-30/
LOCATION:The Academy at Jubilee\, 10408 Montgomery Avenue\, Kensington\, MD\, 20895\, United States
CATEGORIES:Academy Courses,Mandt Relational
ATTACH;FMTTYPE=image/jpeg:https://jubileemd.org/wp-content/uploads/2024/09/Jubilee-Environmental-6-scaled-1.jpg
END:VEVENT
BEGIN:VEVENT
DTSTART;TZID=America/New_York:20260421T093000
DTEND;TZID=America/New_York:20260421T163000
DTSTAMP:20260425T210946
CREATED:20260302T194553Z
LAST-MODIFIED:20260302T194553Z
UID:10008298-1776763800-1776789000@jubileemd.org
SUMMARY:Mandt Relational
DESCRIPTION:Trauma-informed training teaches crisis prevention and de-escalation skills proven to create an environment where everyone can say\, “In this place\, and with these people\, I feel safe.” \nThis is a two-part course. You may register to take only one part (Relational or Technical) if that is all you need to complete. \nCourse length: Typically 7 hours for Mandt Relational. Lunch is provided each day of training. \nRecertification: Required for DSPs every year. \nCost: $150.00
URL:https://jubileemd.org/event/mandt-relational-29/
LOCATION:The Academy at Jubilee\, 10408 Montgomery Avenue\, Kensington\, MD\, 20895\, United States
CATEGORIES:Academy Courses,Mandt Relational
ATTACH;FMTTYPE=image/jpeg:https://jubileemd.org/wp-content/uploads/2024/09/Jubilee-Environmental-6-scaled-1.jpg
END:VEVENT
BEGIN:VEVENT
DTSTART;TZID=America/New_York:20260416T093000
DTEND;TZID=America/New_York:20260416T163000
DTSTAMP:20260425T210946
CREATED:20260302T194445Z
LAST-MODIFIED:20260302T194445Z
UID:10008297-1776331800-1776357000@jubileemd.org
SUMMARY:Mandt Relational
DESCRIPTION:Trauma-informed training teaches crisis prevention and de-escalation skills proven to create an environment where everyone can say\, “In this place\, and with these people\, I feel safe.” \nThis is a two-part course. You may register to take only one part (Relational or Technical) if that is all you need to complete. \nCourse length: Typically 7 hours for Mandt Relational. Lunch is provided each day of training. \nRecertification: Required for DSPs every year. \nCost: $150.00
URL:https://jubileemd.org/event/mandt-relational-28/
LOCATION:The Academy at Jubilee\, 10408 Montgomery Avenue\, Kensington\, MD\, 20895\, United States
CATEGORIES:Academy Courses,Mandt Relational
ATTACH;FMTTYPE=image/jpeg:https://jubileemd.org/wp-content/uploads/2024/09/Jubilee-Environmental-6-scaled-1.jpg
END:VEVENT
BEGIN:VEVENT
DTSTART;TZID=America/New_York:20260411T093000
DTEND;TZID=America/New_York:20260411T163000
DTSTAMP:20260425T210946
CREATED:20260302T194357Z
LAST-MODIFIED:20260302T194357Z
UID:10008296-1775899800-1775925000@jubileemd.org
SUMMARY:Mandt Relational
DESCRIPTION:Trauma-informed training teaches crisis prevention and de-escalation skills proven to create an environment where everyone can say\, “In this place\, and with these people\, I feel safe.” \nThis is a two-part course. You may register to take only one part (Relational or Technical) if that is all you need to complete. \nCourse length: Typically 7 hours for Mandt Relational. Lunch is provided each day of training. \nRecertification: Required for DSPs every year. \nCost: $150.00
URL:https://jubileemd.org/event/mandt-relational-4/
LOCATION:The Academy at Jubilee\, 10408 Montgomery Avenue\, Kensington\, MD\, 20895\, United States
CATEGORIES:Academy Courses,Mandt Relational
ATTACH;FMTTYPE=image/jpeg:https://jubileemd.org/wp-content/uploads/2024/09/Jubilee-Environmental-6-scaled-1.jpg
ORGANIZER;CN="Melanie Moore":MAILTO:academy@jubileemd.org
END:VEVENT
BEGIN:VEVENT
DTSTART;TZID=America/New_York:20260408T093000
DTEND;TZID=America/New_York:20260408T163000
DTSTAMP:20260425T210946
CREATED:20260325T135457Z
LAST-MODIFIED:20260325T135457Z
UID:10008330-1775640600-1775665800@jubileemd.org
SUMMARY:Mandt Relational
DESCRIPTION:Trauma-informed training teaches crisis prevention and de-escalation skills proven to create an environment where everyone can say\, “In this place\, and with these people\, I feel safe.” \nThis is a two-part course. You may register to take only one part (Relational or Technical) if that is all you need to complete. \nCourse length: Typically 7 hours for Mandt Relational. Lunch is provided each day of training. \nRecertification: Required for DSPs every year. \nCost: $150.00
URL:https://jubileemd.org/event/mandt-relational-5/
LOCATION:The Academy at Jubilee\, 10408 Montgomery Avenue\, Kensington\, MD\, 20895\, United States
CATEGORIES:Academy Courses,Mandt Relational
ATTACH;FMTTYPE=image/jpeg:https://jubileemd.org/wp-content/uploads/2024/09/Jubilee-Environmental-6-scaled-1.jpg
ORGANIZER;CN="Melanie Moore":MAILTO:academy@jubileemd.org
END:VEVENT
BEGIN:VEVENT
DTSTART;TZID=America/New_York:20260326T093000
DTEND;TZID=America/New_York:20260326T163000
DTSTAMP:20260425T210946
CREATED:20260120T172243Z
LAST-MODIFIED:20260120T172243Z
UID:10008247-1774517400-1774542600@jubileemd.org
SUMMARY:Mandt Relational
DESCRIPTION:Trauma-informed training teaches crisis prevention and de-escalation skills proven to create an environment where everyone can say\, “In this place\, and with these people\, I feel safe.” \nThis is a two-part course. You may register to take only one part (Relational or Technical) if that is all you need to complete. \nCourse length: Typically 7 hours for Mandt Relational. Lunch is provided each day of training. \nRecertification: Required for DSPs every year. \nCost: $150.00
URL:https://jubileemd.org/event/mandt-relational-27/
LOCATION:The Academy at Jubilee\, 10408 Montgomery Avenue\, Kensington\, MD\, 20895\, United States
CATEGORIES:Academy Courses,Mandt Relational
ATTACH;FMTTYPE=image/jpeg:https://jubileemd.org/wp-content/uploads/2024/09/Jubilee-Environmental-6-scaled-1.jpg
END:VEVENT
BEGIN:VEVENT
DTSTART;TZID=America/New_York:20260316T093000
DTEND;TZID=America/New_York:20260316T163000
DTSTAMP:20260425T210946
CREATED:20260120T172010Z
LAST-MODIFIED:20260120T172010Z
UID:10008246-1773653400-1773678600@jubileemd.org
SUMMARY:Mandt Relational
DESCRIPTION:Trauma-informed training teaches crisis prevention and de-escalation skills proven to create an environment where everyone can say\, “In this place\, and with these people\, I feel safe.” \nThis is a two-part course. You may register to take only one part (Relational or Technical) if that is all you need to complete. \nCourse length: Typically 7 hours for Mandt Relational. Lunch is provided each day of training. \nRecertification: Required for DSPs every year. \nCost: $150.00
URL:https://jubileemd.org/event/mandt-relational-26/
LOCATION:The Academy at Jubilee\, 10408 Montgomery Avenue\, Kensington\, MD\, 20895\, United States
CATEGORIES:Academy Courses,Mandt Relational
ATTACH;FMTTYPE=image/jpeg:https://jubileemd.org/wp-content/uploads/2024/09/Jubilee-Environmental-6-scaled-1.jpg
END:VEVENT
BEGIN:VEVENT
DTSTART;TZID=America/New_York:20260302T093000
DTEND;TZID=America/New_York:20260302T163000
DTSTAMP:20260425T210946
CREATED:20260120T170927Z
LAST-MODIFIED:20260120T170927Z
UID:10008245-1772443800-1772469000@jubileemd.org
SUMMARY:Mandt Relational
DESCRIPTION:Trauma-informed training teaches crisis prevention and de-escalation skills proven to create an environment where everyone can say\, “In this place\, and with these people\, I feel safe.” \nThis is a two-part course. You may register to take only one part (Relational or Technical) if that is all you need to complete. \nCourse length: Typically 7 hours for Mandt Relational. Lunch is provided each day of training. \nRecertification: Required for DSPs every year. \nCost: $150.00
URL:https://jubileemd.org/event/mandt-relational-6/
LOCATION:The Academy at Jubilee\, 10408 Montgomery Avenue\, Kensington\, MD\, 20895\, United States
CATEGORIES:Academy Courses,Mandt Relational
ATTACH;FMTTYPE=image/jpeg:https://jubileemd.org/wp-content/uploads/2024/09/Jubilee-Environmental-6-scaled-1.jpg
END:VEVENT
BEGIN:VEVENT
DTSTART;TZID=America/New_York:20260225T093000
DTEND;TZID=America/New_York:20260225T163000
DTSTAMP:20260425T210946
CREATED:20251224T130056Z
LAST-MODIFIED:20251224T130056Z
UID:10008206-1772011800-1772037000@jubileemd.org
SUMMARY:Mandt Relational
DESCRIPTION:Trauma-informed training teaches crisis prevention and de-escalation skills proven to create an environment where everyone can say\, “In this place\, and with these people\, I feel safe.” \nThis is a two-part course. You may register to take only one part (Relational or Technical) if that is all you need to complete. \nCourse length: Typically 7 hours for Mandt Relational. Lunch is provided each day of training. \nRecertification: Required for DSPs every year. \nCost: $150.00
URL:https://jubileemd.org/event/mandt-relational-24/
LOCATION:The Academy at Jubilee\, 10408 Montgomery Avenue\, Kensington\, MD\, 20895\, United States
CATEGORIES:Academy Courses,Mandt Relational
ATTACH;FMTTYPE=image/jpeg:https://jubileemd.org/wp-content/uploads/2024/09/Jubilee-Environmental-6-scaled-1.jpg
END:VEVENT
BEGIN:VEVENT
DTSTART;TZID=America/New_York:20260207T093000
DTEND;TZID=America/New_York:20260207T163000
DTSTAMP:20260425T210946
CREATED:20251224T130232Z
LAST-MODIFIED:20251224T130232Z
UID:10008207-1770456600-1770481800@jubileemd.org
SUMMARY:Mandt Relational
DESCRIPTION:Trauma-informed training teaches crisis prevention and de-escalation skills proven to create an environment where everyone can say\, “In this place\, and with these people\, I feel safe.” \nThis is a two-part course. You may register to take only one part (Relational or Technical) if that is all you need to complete. \nCourse length: Typically 7 hours for Mandt Relational. Lunch is provided each day of training. \nRecertification: Required for DSPs every year. \nCost: $150.00
URL:https://jubileemd.org/event/mandt-relational-25/
LOCATION:The Academy at Jubilee\, 10408 Montgomery Avenue\, Kensington\, MD\, 20895\, United States
CATEGORIES:Academy Courses,Mandt Relational
ATTACH;FMTTYPE=image/jpeg:https://jubileemd.org/wp-content/uploads/2024/09/Jubilee-Environmental-6-scaled-1.jpg
END:VEVENT
BEGIN:VEVENT
DTSTART;TZID=America/New_York:20260205T093000
DTEND;TZID=America/New_York:20260205T163000
DTSTAMP:20260425T210946
CREATED:20251224T125738Z
LAST-MODIFIED:20260106T205616Z
UID:10008204-1770283800-1770309000@jubileemd.org
SUMMARY:Mandt Relational
DESCRIPTION:Trauma-informed training teaches crisis prevention and de-escalation skills proven to create an environment where everyone can say\, “In this place\, and with these people\, I feel safe.” \nThis is a two-part course. You may register to take only one part (Relational or Technical) if that is all you need to complete. \nCourse length: Typically 7 hours for Mandt Relational. Lunch is provided each day of training. \nRecertification: Required for DSPs every year. \nCost: $150.00
URL:https://jubileemd.org/event/mandt-relational/
LOCATION:The Academy at Jubilee\, 10408 Montgomery Avenue\, Kensington\, MD\, 20895\, United States
CATEGORIES:Academy Courses,Mandt Relational
ATTACH;FMTTYPE=image/jpeg:https://jubileemd.org/wp-content/uploads/2024/09/Jubilee-Environmental-6-scaled-1.jpg
END:VEVENT
BEGIN:VEVENT
DTSTART;TZID=America/New_York:20260122T093000
DTEND;TZID=America/New_York:20260122T163000
DTSTAMP:20260425T210946
CREATED:20251121T202844Z
LAST-MODIFIED:20251121T202844Z
UID:10008171-1769074200-1769099400@jubileemd.org
SUMMARY:Mandt Relational
DESCRIPTION:Trauma-informed training teaches crisis prevention and de-escalation skills proven to create an environment where everyone can say\, “In this place\, and with these people\, I feel safe.” \nThis is a two-part course. You may register to take only one part (Relational or Technical) if that is all you need to complete. \nCourse length: Typically 7 hours for Mandt Relational. Lunch is provided each day of training. \nRecertification: Required for DSPs every year. \nCost: $150.00
URL:https://jubileemd.org/event/mandt-relational-3/
LOCATION:The Academy at Jubilee\, 10408 Montgomery Avenue\, Kensington\, MD\, 20895\, United States
CATEGORIES:Academy Courses,Mandt Relational
ATTACH;FMTTYPE=image/jpeg:https://jubileemd.org/wp-content/uploads/2024/09/Jubilee-Environmental-6-scaled-1.jpg
END:VEVENT
BEGIN:VEVENT
DTSTART;TZID=America/New_York:20260108T093000
DTEND;TZID=America/New_York:20260108T163000
DTSTAMP:20260425T210946
CREATED:20251121T202758Z
LAST-MODIFIED:20260106T205321Z
UID:10008170-1767864600-1767889800@jubileemd.org
SUMMARY:Mandt Relational
DESCRIPTION:Trauma-informed training teaches crisis prevention and de-escalation skills proven to create an environment where everyone can say\, “In this place\, and with these people\, I feel safe.” \nThis is a two-part course. You may register to take only one part (Relational or Technical) if that is all you need to complete. \nCourse length: Typically 7 hours for Mandt Relational. Lunch is provided each day of training. \nRecertification: Required for DSPs every year. \nCost: $150.00
URL:https://jubileemd.org/event/mandt-relational-2/
LOCATION:The Academy at Jubilee\, 10408 Montgomery Avenue\, Kensington\, MD\, 20895\, United States
CATEGORIES:Academy Courses,Mandt Relational
ATTACH;FMTTYPE=image/jpeg:https://jubileemd.org/wp-content/uploads/2024/09/Jubilee-Environmental-6-scaled-1.jpg
END:VEVENT
BEGIN:VEVENT
DTSTART;TZID=America/New_York:20251209T093000
DTEND;TZID=America/New_York:20251209T163000
DTSTAMP:20260425T210946
CREATED:20250923T185947Z
LAST-MODIFIED:20250923T185947Z
UID:10008115-1765272600-1765297800@jubileemd.org
SUMMARY:Mandt Relational
DESCRIPTION:Trauma-informed training teaches crisis prevention and de-escalation skills proven to create an environment where everyone can say\, “In this place\, and with these people\, I feel safe.” \nThis is a two-part course. You may register to take only one part (Relational or Technical) if that is all you need to complete. \nCourse length: Typically 7 hours for Mandt Relational. Lunch is provided each day of training. \nRecertification: Required for DSPs every year. \nCost: $150.00
URL:https://jubileemd.org/event/mandt-relational-23/
LOCATION:The Academy at Jubilee\, 10408 Montgomery Avenue\, Kensington\, MD\, 20895\, United States
CATEGORIES:Academy Courses,Mandt Relational
ATTACH;FMTTYPE=image/jpeg:https://jubileemd.org/wp-content/uploads/2024/09/Jubilee-Environmental-6-scaled-1.jpg
END:VEVENT
BEGIN:VEVENT
DTSTART;TZID=America/New_York:20251201T093000
DTEND;TZID=America/New_York:20251201T163000
DTSTAMP:20260425T210946
CREATED:20250923T185701Z
LAST-MODIFIED:20250923T185701Z
UID:10008114-1764581400-1764606600@jubileemd.org
SUMMARY:Mandt Relational
DESCRIPTION:Trauma-informed training teaches crisis prevention and de-escalation skills proven to create an environment where everyone can say\, “In this place\, and with these people\, I feel safe.” \nThis is a two-part course. You may register to take only one part (Relational or Technical) if that is all you need to complete. \nCourse length: Typically 7 hours for Mandt Relational. Lunch is provided each day of training. \nRecertification: Required for DSPs every year. \nCost: $150.00
URL:https://jubileemd.org/event/mandt-relational-22/
LOCATION:The Academy at Jubilee\, 10408 Montgomery Avenue\, Kensington\, MD\, 20895\, United States
CATEGORIES:Academy Courses,Mandt Relational
ATTACH;FMTTYPE=image/jpeg:https://jubileemd.org/wp-content/uploads/2024/09/Jubilee-Environmental-6-scaled-1.jpg
END:VEVENT
BEGIN:VEVENT
DTSTART;TZID=America/New_York:20251111T093000
DTEND;TZID=America/New_York:20251111T163000
DTSTAMP:20260425T210946
CREATED:20250923T185604Z
LAST-MODIFIED:20250923T185604Z
UID:10008113-1762853400-1762878600@jubileemd.org
SUMMARY:Mandt Relational
DESCRIPTION:Trauma-informed training teaches crisis prevention and de-escalation skills proven to create an environment where everyone can say\, “In this place\, and with these people\, I feel safe.” \nThis is a two-part course. You may register to take only one part (Relational or Technical) if that is all you need to complete. \nCourse length: Typically 7 hours for Mandt Relational. Lunch is provided each day of training. \nRecertification: Required for DSPs every year. \nCost: $150.00
URL:https://jubileemd.org/event/mandt-relational-21/
LOCATION:The Academy at Jubilee\, 10408 Montgomery Avenue\, Kensington\, MD\, 20895\, United States
CATEGORIES:Academy Courses,Mandt Relational
ATTACH;FMTTYPE=image/jpeg:https://jubileemd.org/wp-content/uploads/2024/09/Jubilee-Environmental-6-scaled-1.jpg
END:VEVENT
BEGIN:VEVENT
DTSTART;TZID=America/New_York:20251108T093000
DTEND;TZID=America/New_York:20251108T163000
DTSTAMP:20260425T210946
CREATED:20250923T185514Z
LAST-MODIFIED:20250923T185514Z
UID:10008112-1762594200-1762619400@jubileemd.org
SUMMARY:Mandt Relational
DESCRIPTION:Trauma-informed training teaches crisis prevention and de-escalation skills proven to create an environment where everyone can say\, “In this place\, and with these people\, I feel safe.” \nThis is a two-part course. You may register to take only one part (Relational or Technical) if that is all you need to complete. \nCourse length: Typically 7 hours for Mandt Relational. Lunch is provided each day of training. \nRecertification: Required for DSPs every year. \nCost: $150.00
URL:https://jubileemd.org/event/mandt-relational-20/
LOCATION:The Academy at Jubilee\, 10408 Montgomery Avenue\, Kensington\, MD\, 20895\, United States
CATEGORIES:Academy Courses,Mandt Relational
ATTACH;FMTTYPE=image/jpeg:https://jubileemd.org/wp-content/uploads/2024/09/Jubilee-Environmental-6-scaled-1.jpg
END:VEVENT
END:VCALENDAR