BEGIN:VCALENDAR
VERSION:2.0
PRODID:-//Jubilee - ECPv6.15.20//NONSGML v1.0//EN
CALSCALE:GREGORIAN
METHOD:PUBLISH
X-WR-CALNAME:Jubilee
X-ORIGINAL-URL:https://jubileemd.org
X-WR-CALDESC:Events for Jubilee
REFRESH-INTERVAL;VALUE=DURATION:PT1H
X-Robots-Tag:noindex
X-PUBLISHED-TTL:PT1H
BEGIN:VTIMEZONE
TZID:America/New_York
BEGIN:DAYLIGHT
TZOFFSETFROM:-0500
TZOFFSETTO:-0400
TZNAME:EDT
DTSTART:20250309T070000
END:DAYLIGHT
BEGIN:STANDARD
TZOFFSETFROM:-0400
TZOFFSETTO:-0500
TZNAME:EST
DTSTART:20251102T060000
END:STANDARD
BEGIN:DAYLIGHT
TZOFFSETFROM:-0500
TZOFFSETTO:-0400
TZNAME:EDT
DTSTART:20260308T070000
END:DAYLIGHT
BEGIN:STANDARD
TZOFFSETFROM:-0400
TZOFFSETTO:-0500
TZNAME:EST
DTSTART:20261101T060000
END:STANDARD
BEGIN:DAYLIGHT
TZOFFSETFROM:-0500
TZOFFSETTO:-0400
TZNAME:EDT
DTSTART:20270314T070000
END:DAYLIGHT
BEGIN:STANDARD
TZOFFSETFROM:-0400
TZOFFSETTO:-0500
TZNAME:EST
DTSTART:20271107T060000
END:STANDARD
END:VTIMEZONE
BEGIN:VEVENT
DTSTART;TZID=America/New_York:20260413T093000
DTEND;TZID=America/New_York:20260413T133000
DTSTAMP:20260424T072159
CREATED:20260302T193903Z
LAST-MODIFIED:20260302T194012Z
UID:10008294-1776072600-1776087000@jubileemd.org
SUMMARY:Adult CPR\, First Aid\, AED
DESCRIPTION:Learn how to recognize and respond to medical emergencies. \nCourse length: 4 hours \nRecertification: Required every two years. \nCost: $85.00
URL:https://jubileemd.org/event/adult-cpr-first-aid-aed-6/
LOCATION:The Academy at Jubilee\, 10408 Montgomery Avenue\, Kensington\, MD\, 20895\, United States
CATEGORIES:Academy Courses,Adult CPR, First Aid, and AED
ATTACH;FMTTYPE=image/jpeg:https://jubileemd.org/wp-content/uploads/2024/09/Jubilee-Environmental-13-scaled-1-e1749822396141.jpg
END:VEVENT
BEGIN:VEVENT
DTSTART;TZID=America/New_York:20260413T100000
DTEND;TZID=America/New_York:20260413T160000
DTSTAMP:20260424T072159
CREATED:20260305T195645Z
LAST-MODIFIED:20260319T145622Z
UID:10008310-1776074400-1776096000@jubileemd.org
SUMMARY:Certified Medication Technician Refresher Training
DESCRIPTION:DSPs learn how to offer and store medications\, update records\, and observe/report physical or behavioral changes. \nCertified Medication Technicians through the Maryland Board of Nursing must recertify every two years. \nCourse length: 5 hours \nRecertification Eligibility: Maryland Board of Nursing (MBON) Renewal Window is 90 days before your expiration date\, and up to 30 days after your expiration date. \nPlease be sure to check you are in your renewal window before registering for this class.
URL:https://jubileemd.org/event/certified-medication-technician-refresher-training-12/
LOCATION:MD
CATEGORIES:Academy Courses,CMT
END:VEVENT
BEGIN:VEVENT
DTSTART;TZID=America/New_York:20260414T093000
DTEND;TZID=America/New_York:20260414T133000
DTSTAMP:20260424T072159
CREATED:20260302T194051Z
LAST-MODIFIED:20260302T194224Z
UID:10008295-1776159000-1776173400@jubileemd.org
SUMMARY:Adult CPR\, First Aid\, AED
DESCRIPTION:Learn how to recognize and respond to medical emergencies. \nCourse length: 4 hours \nRecertification: Required every two years. \nCost: $85.00
URL:https://jubileemd.org/event/adult-cpr-first-aid-aed-11/
LOCATION:The Academy at Jubilee\, 10408 Montgomery Avenue\, Kensington\, MD\, 20895\, United States
CATEGORIES:Academy Courses,Adult CPR, First Aid, and AED
ATTACH;FMTTYPE=image/jpeg:https://jubileemd.org/wp-content/uploads/2024/09/Jubilee-Environmental-13-scaled-1-e1749822396141.jpg
END:VEVENT
BEGIN:VEVENT
DTSTART;TZID=America/New_York:20260416T093000
DTEND;TZID=America/New_York:20260416T163000
DTSTAMP:20260424T072159
CREATED:20260302T194445Z
LAST-MODIFIED:20260302T194445Z
UID:10008297-1776331800-1776357000@jubileemd.org
SUMMARY:Mandt Relational
DESCRIPTION:Trauma-informed training teaches crisis prevention and de-escalation skills proven to create an environment where everyone can say\, “In this place\, and with these people\, I feel safe.” \nThis is a two-part course. You may register to take only one part (Relational or Technical) if that is all you need to complete. \nCourse length: Typically 7 hours for Mandt Relational. Lunch is provided each day of training. \nRecertification: Required for DSPs every year. \nCost: $150.00
URL:https://jubileemd.org/event/mandt-relational-28/
LOCATION:The Academy at Jubilee\, 10408 Montgomery Avenue\, Kensington\, MD\, 20895\, United States
CATEGORIES:Academy Courses,Mandt Relational
ATTACH;FMTTYPE=image/jpeg:https://jubileemd.org/wp-content/uploads/2024/09/Jubilee-Environmental-6-scaled-1.jpg
END:VEVENT
BEGIN:VEVENT
DTSTART;TZID=America/New_York:20260417T093000
DTEND;TZID=America/New_York:20260417T163000
DTSTAMP:20260424T072159
CREATED:20260305T172049Z
LAST-MODIFIED:20260305T172049Z
UID:10008305-1776418200-1776443400@jubileemd.org
SUMMARY:Mandt Technical
DESCRIPTION:Trauma-informed training teaches crisis prevention and de-escalation skills proven to create an environment where everyone can say\, In this place\, and with these people\, I feel safe. \nThis is a two-part course. You may register to take only one part (Relational or Technical) if that is all you need to complete. If you only register for Mandt Technical\, please submit proof that you are current on Mandt Relational and be prepared to take a written test. \nCourse length: Typically 7 hours for Mandt Technical. Lunch is provided. \nRecertification: Required for DSPs every year. \nCost: $150.00
URL:https://jubileemd.org/event/mandt-technical-11/
LOCATION:The Academy at Jubilee\, 10408 Montgomery Avenue\, Kensington\, MD\, 20895\, United States
CATEGORIES:Academy Courses,Mandt Technical
ATTACH;FMTTYPE=image/jpeg:https://jubileemd.org/wp-content/uploads/2024/09/Jubilee-Environmental-6-scaled-1.jpg
END:VEVENT
BEGIN:VEVENT
DTSTART;TZID=America/New_York:20260418T093000
DTEND;TZID=America/New_York:20260418T163000
DTSTAMP:20260424T072159
CREATED:20260305T172148Z
LAST-MODIFIED:20260305T172148Z
UID:10008306-1776504600-1776529800@jubileemd.org
SUMMARY:Mandt Technical
DESCRIPTION:Trauma-informed training teaches crisis prevention and de-escalation skills proven to create an environment where everyone can say\, In this place\, and with these people\, I feel safe. \nThis is a two-part course. You may register to take only one part (Relational or Technical) if that is all you need to complete. If you only register for Mandt Technical\, please submit proof that you are current on Mandt Relational and be prepared to take a written test. \nCourse length: Typically 7 hours for Mandt Technical. Lunch is provided. \nRecertification: Required for DSPs every year. \nCost: $150.00
URL:https://jubileemd.org/event/mandt-technical-12/
LOCATION:The Academy at Jubilee\, 10408 Montgomery Avenue\, Kensington\, MD\, 20895\, United States
CATEGORIES:Academy Courses,Mandt Technical
ATTACH;FMTTYPE=image/jpeg:https://jubileemd.org/wp-content/uploads/2024/09/Jubilee-Environmental-6-scaled-1.jpg
END:VEVENT
BEGIN:VEVENT
DTSTART;TZID=America/New_York:20260418T110000
DTEND;TZID=America/New_York:20260418T160000
DTSTAMP:20260424T072159
CREATED:20260305T195531Z
LAST-MODIFIED:20260305T195531Z
UID:10008309-1776510000-1776528000@jubileemd.org
SUMMARY:Certified Medication Technician Refresher Training
DESCRIPTION:DSPs learn how to offer and store medications\, update records\, and observe/report physical or behavioral changes. \nCertified Medication Technicians through the Maryland Board of Nursing must recertify every two years. \nCourse length: 5 hours \nRecertification Eligibility: Maryland Board of Nursing (MBON) Renewal Window is 90 days before your expiration date\, and up to 30 days after your expiration date. \nPlease be sure to check you are in your renewal window before registering for this class.
URL:https://jubileemd.org/event/certified-medication-technician-refresher-training-11/
LOCATION:MD
CATEGORIES:Academy Courses,CMT
END:VEVENT
END:VCALENDAR