BEGIN:VCALENDAR
VERSION:2.0
PRODID:-//Jubilee - ECPv6.15.20//NONSGML v1.0//EN
CALSCALE:GREGORIAN
METHOD:PUBLISH
X-ORIGINAL-URL:https://jubileemd.org
X-WR-CALDESC:Events for Jubilee
REFRESH-INTERVAL;VALUE=DURATION:PT1H
X-Robots-Tag:noindex
X-PUBLISHED-TTL:PT1H
BEGIN:VTIMEZONE
TZID:America/New_York
BEGIN:DAYLIGHT
TZOFFSETFROM:-0500
TZOFFSETTO:-0400
TZNAME:EDT
DTSTART:20250309T070000
END:DAYLIGHT
BEGIN:STANDARD
TZOFFSETFROM:-0400
TZOFFSETTO:-0500
TZNAME:EST
DTSTART:20251102T060000
END:STANDARD
BEGIN:DAYLIGHT
TZOFFSETFROM:-0500
TZOFFSETTO:-0400
TZNAME:EDT
DTSTART:20260308T070000
END:DAYLIGHT
BEGIN:STANDARD
TZOFFSETFROM:-0400
TZOFFSETTO:-0500
TZNAME:EST
DTSTART:20261101T060000
END:STANDARD
BEGIN:DAYLIGHT
TZOFFSETFROM:-0500
TZOFFSETTO:-0400
TZNAME:EDT
DTSTART:20270314T070000
END:DAYLIGHT
BEGIN:STANDARD
TZOFFSETFROM:-0400
TZOFFSETTO:-0500
TZNAME:EST
DTSTART:20271107T060000
END:STANDARD
END:VTIMEZONE
BEGIN:VEVENT
DTSTART;TZID=America/New_York:20260702T193000
DTEND;TZID=America/New_York:20260702T213000
DTSTAMP:20260424T073510
CREATED:20260403T170704Z
LAST-MODIFIED:20260403T170704Z
UID:10008359-1783020600-1783027800@jubileemd.org
SUMMARY:Karaoke Night at TGI Fridays
DESCRIPTION:Join your Jubilee friends for karaoke singing and dancing! \nPlease bring money for food and drink. \nThis event is free and accessible to everyone \n\n	Notice: JavaScript is required for this content.
URL:https://jubileemd.org/event/karaoke-night-at-tgi-fridays-8/
LOCATION:TGI Fridays\, 12281 Tech Road\, Silver Springs\, MD
CATEGORIES:Community Engagement
ATTACH;FMTTYPE=image/jpeg:https://jubileemd.org/wp-content/uploads/2022/11/circle-friends.jpg
ORGANIZER;CN="Corey Coby":MAILTO:ccoby@jubileemd.org
END:VEVENT
BEGIN:VEVENT
DTSTART;VALUE=DATE:20260703
DTEND;VALUE=DATE:20260704
DTSTAMP:20260424T073510
CREATED:20260106T173648Z
LAST-MODIFIED:20260106T183150Z
UID:10008223-1783036800-1783123199@jubileemd.org
SUMMARY:Office Closed | Independence Day
DESCRIPTION:
URL:https://jubileemd.org/event/office-closed-independence-day/
LOCATION:MD
CATEGORIES:Administration
END:VEVENT
BEGIN:VEVENT
DTSTART;TZID=America/New_York:20260716T193000
DTEND;TZID=America/New_York:20260716T213000
DTSTAMP:20260424T073510
CREATED:20260403T170733Z
LAST-MODIFIED:20260403T170733Z
UID:10008360-1784230200-1784237400@jubileemd.org
SUMMARY:Karaoke Night at TGI Fridays
DESCRIPTION:Join your Jubilee friends for karaoke singing and dancing! \nPlease bring money for food and drink. \nThis event is free and accessible to everyone \n\n	Notice: JavaScript is required for this content.
URL:https://jubileemd.org/event/karaoke-night-at-tgi-fridays-32/
LOCATION:TGI Fridays\, 12281 Tech Road\, Silver Springs\, MD
CATEGORIES:Community Engagement
ATTACH;FMTTYPE=image/jpeg:https://jubileemd.org/wp-content/uploads/2022/11/circle-friends.jpg
ORGANIZER;CN="Corey Coby":MAILTO:ccoby@jubileemd.org
END:VEVENT
BEGIN:VEVENT
DTSTART;TZID=America/New_York:20260721T173000
DTEND;TZID=America/New_York:20260721T183000
DTSTAMP:20260424T073510
CREATED:20260403T170413Z
LAST-MODIFIED:20260403T170413Z
UID:10008355-1784655000-1784658600@jubileemd.org
SUMMARY:Healthy Relationships 101: Sexuality and Health
DESCRIPTION:Join your Jubilee Friends for a healthy relationship discussion in a safe space at Jubilee. \nWe will discuss topics such as relationships\, friendships\, and family. \nThis event is free and accessible to everyone. \n\n	Notice: JavaScript is required for this content.
URL:https://jubileemd.org/event/healthy-relationships-101-sexuality-and-health-2/
LOCATION:Jubilee Association of Maryland\, 10408 Montgomery Avenue\, Kensington\, 20895\, United States
CATEGORIES:Community Engagement
ATTACH;FMTTYPE=image/jpeg:https://jubileemd.org/wp-content/uploads/2024/10/Guy-Talk.jpeg
ORGANIZER;CN="Corey Coby":MAILTO:ccoby@jubileemd.org
END:VEVENT
BEGIN:VEVENT
DTSTART;VALUE=DATE:20260726
DTEND;VALUE=DATE:20260730
DTSTAMP:20260424T073510
CREATED:20260109T184543Z
LAST-MODIFIED:20260114T202932Z
UID:10008233-1785024000-1785369599@jubileemd.org
SUMMARY:Ocean City Vacation
DESCRIPTION:
URL:https://jubileemd.org/event/ocean-city-vacation/
LOCATION:MD
CATEGORIES:Community Engagement
END:VEVENT
END:VCALENDAR