BEGIN:VCALENDAR
VERSION:2.0
PRODID:-//Jubilee - ECPv6.15.20//NONSGML v1.0//EN
CALSCALE:GREGORIAN
METHOD:PUBLISH
X-WR-CALNAME:Jubilee
X-ORIGINAL-URL:https://jubileemd.org
X-WR-CALDESC:Events for Jubilee
REFRESH-INTERVAL;VALUE=DURATION:PT1H
X-Robots-Tag:noindex
X-PUBLISHED-TTL:PT1H
BEGIN:VTIMEZONE
TZID:America/New_York
BEGIN:DAYLIGHT
TZOFFSETFROM:-0500
TZOFFSETTO:-0400
TZNAME:EDT
DTSTART:20240310T070000
END:DAYLIGHT
BEGIN:STANDARD
TZOFFSETFROM:-0400
TZOFFSETTO:-0500
TZNAME:EST
DTSTART:20241103T060000
END:STANDARD
BEGIN:DAYLIGHT
TZOFFSETFROM:-0500
TZOFFSETTO:-0400
TZNAME:EDT
DTSTART:20250309T070000
END:DAYLIGHT
BEGIN:STANDARD
TZOFFSETFROM:-0400
TZOFFSETTO:-0500
TZNAME:EST
DTSTART:20251102T060000
END:STANDARD
BEGIN:DAYLIGHT
TZOFFSETFROM:-0500
TZOFFSETTO:-0400
TZNAME:EDT
DTSTART:20260308T070000
END:DAYLIGHT
BEGIN:STANDARD
TZOFFSETFROM:-0400
TZOFFSETTO:-0500
TZNAME:EST
DTSTART:20261101T060000
END:STANDARD
END:VTIMEZONE
BEGIN:VEVENT
DTSTART;VALUE=DATE:20250921
DTEND;VALUE=DATE:20250925
DTSTAMP:20260422T183254
CREATED:20250325T202722Z
LAST-MODIFIED:20250618T152419Z
UID:10007912-1758412800-1758758399@jubileemd.org
SUMMARY:Ocean City
DESCRIPTION:Jubilee’s annual summer vacation for people receiving our services. For details on how to register\, please contact Jenni Clemons at jclemons@jubileemd.org
URL:https://jubileemd.org/event/ocean-city-2/
LOCATION:MD
CATEGORIES:Community Engagement
END:VEVENT
BEGIN:VEVENT
DTSTART;TZID=America/New_York:20250924T183000
DTEND;TZID=America/New_York:20250924T193000
DTSTAMP:20260422T183254
CREATED:20250829T192527Z
LAST-MODIFIED:20250829T192527Z
UID:10008081-1758738600-1758742200@jubileemd.org
SUMMARY:Virtual Community Service Provider Information Night | Meet Jubilee
DESCRIPTION:Meet Jubilee’s admissions and Breaking Barriers team at this virtual event and learn how we can help your loved one with disabilities live independently. \nHosted by the MoCo Non-public Coalition for Transitioning Youth with High Support Needs. 
URL:https://jubileemd.org/event/virtual-community-service-provider-information-night-meet-jubilee/
LOCATION:MD
CATEGORIES:Administration
ATTACH;FMTTYPE=image/jpeg:https://jubileemd.org/wp-content/uploads/2025/08/Hayley-at-fair-scaled.jpg
ORGANIZER;CN="Hayley Dutton":MAILTO:admissions@jubileemd.org
END:VEVENT
BEGIN:VEVENT
DTSTART;TZID=America/New_York:20250926T170000
DTEND;TZID=America/New_York:20250926T180000
DTSTAMP:20260422T183254
CREATED:20250715T183907Z
LAST-MODIFIED:20250715T183907Z
UID:10008026-1758906000-1758909600@jubileemd.org
SUMMARY:Budgeting 101
DESCRIPTION:Join Allison and your Jubilee friends to learn how to budget your expenses. \nTo begin every class\, we will spend the first few minutes reflecting on this past week. \nThen\, as a group\, we will develop solutions to our obstacles. \nLastly\, we will learn something new. \n\n	Notice: JavaScript is required for this content.\nNo Fields Found.
URL:https://jubileemd.org/event/budgeting-101-7/
LOCATION:Jubilee Association of Maryland\, 10408 Montgomery Avenue\, Kensington\, 20895\, United States
CATEGORIES:Community Engagement
ATTACH;FMTTYPE=image/jpeg:https://jubileemd.org/wp-content/uploads/2025/03/Budgeting.jpg
ORGANIZER;CN="Allison Bohn":MAILTO:abohn@jubileemd.org
END:VEVENT
BEGIN:VEVENT
DTSTART;TZID=America/New_York:20250927T180000
DTEND;TZID=America/New_York:20250927T200000
DTSTAMP:20260422T183254
CREATED:20250924T134003Z
LAST-MODIFIED:20250925T131412Z
UID:10008124-1758996000-1759003200@jubileemd.org
SUMMARY:Game Night
DESCRIPTION:Join your Jubilee friends for pizza and outdoor games. \nThe event is free and accessible to everyone. \n\n	Notice: JavaScript is required for this content.\nNo Fields Found.
URL:https://jubileemd.org/event/game-night/
LOCATION:Jubilee Association of Maryland\, 10408 Montgomery Avenue\, Kensington\, 20895\, United States
CATEGORIES:Community Engagement
ATTACH;FMTTYPE=image/jpeg:https://jubileemd.org/wp-content/uploads/2024/08/Jubilee-11.7.22-16.jpg
ORGANIZER;CN="Allison Bohn":MAILTO:abohn@jubileemd.org
END:VEVENT
END:VCALENDAR