BEGIN:VCALENDAR
VERSION:2.0
PRODID:-//Jubilee - ECPv6.15.20//NONSGML v1.0//EN
CALSCALE:GREGORIAN
METHOD:PUBLISH
X-WR-CALNAME:Jubilee
X-ORIGINAL-URL:https://jubileemd.org
X-WR-CALDESC:Events for Jubilee
REFRESH-INTERVAL;VALUE=DURATION:PT1H
X-Robots-Tag:noindex
X-PUBLISHED-TTL:PT1H
BEGIN:VTIMEZONE
TZID:America/New_York
BEGIN:DAYLIGHT
TZOFFSETFROM:-0500
TZOFFSETTO:-0400
TZNAME:EDT
DTSTART:20240310T070000
END:DAYLIGHT
BEGIN:STANDARD
TZOFFSETFROM:-0400
TZOFFSETTO:-0500
TZNAME:EST
DTSTART:20241103T060000
END:STANDARD
BEGIN:DAYLIGHT
TZOFFSETFROM:-0500
TZOFFSETTO:-0400
TZNAME:EDT
DTSTART:20250309T070000
END:DAYLIGHT
BEGIN:STANDARD
TZOFFSETFROM:-0400
TZOFFSETTO:-0500
TZNAME:EST
DTSTART:20251102T060000
END:STANDARD
BEGIN:DAYLIGHT
TZOFFSETFROM:-0500
TZOFFSETTO:-0400
TZNAME:EDT
DTSTART:20260308T070000
END:DAYLIGHT
BEGIN:STANDARD
TZOFFSETFROM:-0400
TZOFFSETTO:-0500
TZNAME:EST
DTSTART:20261101T060000
END:STANDARD
END:VTIMEZONE
BEGIN:VEVENT
DTSTART;TZID=America/New_York:20250928T133000
DTEND;TZID=America/New_York:20250928T150000
DTSTAMP:20260422T181157
CREATED:20250722T194653Z
LAST-MODIFIED:20250722T194653Z
UID:10008039-1759066200-1759071600@jubileemd.org
SUMMARY:Client Council monthly meeting
DESCRIPTION:Open to all people supported by Jubilee\, the monthly Client Council meeting is an opportunity to stay engaged and up-to-date on important Jubilee news. Mingle with your Jubilee friends and elected Client Council officials and Jubilee leadership. Each meeting will focus on a different topic of interest to our community. \nThe meeting will be held at the Jubilee office in the downstairs classrooms. \n\n	Notice: JavaScript is required for this content.\nNo Fields Found.
URL:https://jubileemd.org/event/client-council-monthly-meeting-15/
LOCATION:Jubilee Association of Maryland\, 10408 Montgomery Avenue\, Kensington\, 20895\, United States
CATEGORIES:Community Engagement
ATTACH;FMTTYPE=image/jpeg:https://jubileemd.org/wp-content/uploads/2024/10/Guy-Talk.jpeg
ORGANIZER;CN="Julia McCune":MAILTO:jmccune@jubileemd.org
END:VEVENT
BEGIN:VEVENT
DTSTART;TZID=America/New_York:20250928T180000
DTEND;TZID=America/New_York:20250928T200000
DTSTAMP:20260422T181157
CREATED:20250715T183315Z
LAST-MODIFIED:20250916T152833Z
UID:10008019-1759082400-1759089600@jubileemd.org
SUMMARY:Art Class
DESCRIPTION:Calling all artists! \nJoin your Jubilee friends for an art class at the Jubilee office. \nThe event is free and accessible to everyone. \n\n	Notice: JavaScript is required for this content.\nNo Fields Found.
URL:https://jubileemd.org/event/art-class-22/
LOCATION:Jubilee Association of Maryland\, 10408 Montgomery Avenue\, Kensington\, 20895\, United States
CATEGORIES:Community Engagement
ATTACH;FMTTYPE=image/jpeg:https://jubileemd.org/wp-content/uploads/2021/07/art-by-Carolyn-Skinner-scaled.jpg
ORGANIZER;CN="Allison Bohn":MAILTO:abohn@jubileemd.org
END:VEVENT
BEGIN:VEVENT
DTSTART;TZID=America/New_York:20250930T093000
DTEND;TZID=America/New_York:20250930T163000
DTSTAMP:20260422T181157
CREATED:20250805T130544Z
LAST-MODIFIED:20250905T133022Z
UID:10008056-1759224600-1759249800@jubileemd.org
SUMMARY:Mandt Technical
DESCRIPTION:Trauma-informed training teaches crisis prevention and de-escalation skills proven to create an environment where everyone can say\, In this place\, and with these people\, I feel safe. \nThis is a two-part course. You may register to take only one part (Relational or Technical) if that is all you need to complete. If you only register for Mandt Technical\, please submit proof that you are current on Mandt Relational and be prepared to take a written test. \nCourse length: Typically 7 hours for Mandt Technical. Lunch is provided. \nRecertification: Required for DSPs every year. \nCost: $150.00
URL:https://jubileemd.org/event/mandt-technical-51/
LOCATION:The Academy at Jubilee\, 10408 Montgomery Avenue\, Kensington\, MD\, 20895\, United States
CATEGORIES:Academy Courses,Mandt Technical
ATTACH;FMTTYPE=image/jpeg:https://jubileemd.org/wp-content/uploads/2024/09/Jubilee-Environmental-6-scaled-1.jpg
END:VEVENT
BEGIN:VEVENT
DTSTART;TZID=America/New_York:20251001T103000
DTEND;TZID=America/New_York:20251001T120000
DTSTAMP:20260422T181157
CREATED:20250916T135016Z
LAST-MODIFIED:20250916T145257Z
UID:10008090-1759314600-1759320000@jubileemd.org
SUMMARY:Art Class
DESCRIPTION:Calling all artists! \nJoin your Jubilee friends for an art class at the Jubilee office. \nThe event is free and accessible to everyone. \n\n	Notice: JavaScript is required for this content.\nNo Fields Found.\n\n    \n\n\n        \n        \n        \n 
URL:https://jubileemd.org/event/art-class-6/
LOCATION:Jubilee Association of Maryland\, 10408 Montgomery Avenue\, Kensington\, 20895\, United States
CATEGORIES:Community Engagement
ATTACH;FMTTYPE=image/jpeg:https://jubileemd.org/wp-content/uploads/2021/07/art-by-Carolyn-Skinner-scaled.jpg
ORGANIZER;CN="Allison Bohn":MAILTO:abohn@jubileemd.org
END:VEVENT
BEGIN:VEVENT
DTSTART;TZID=America/New_York:20251002T093000
DTEND;TZID=America/New_York:20251002T133000
DTSTAMP:20260422T181157
CREATED:20250805T140959Z
LAST-MODIFIED:20251001T174015Z
UID:10008057-1759397400-1759411800@jubileemd.org
SUMMARY:Adult CPR\, First Aid\, AED
DESCRIPTION:Learn how to recognize and respond to medical emergencies. \nCourse length: 4 hours \nRecertification: Required every two years. \nCost: $85.00
URL:https://jubileemd.org/event/adult-cpr-first-aid-aed-16/
LOCATION:The Academy at Jubilee\, 10408 Montgomery Avenue\, Kensington\, MD\, 20895\, United States
CATEGORIES:Academy Courses,Adult CPR, First Aid, and AED
ATTACH;FMTTYPE=image/jpeg:https://jubileemd.org/wp-content/uploads/2024/09/Jubilee-Environmental-13-scaled-1-e1749822396141.jpg
END:VEVENT
BEGIN:VEVENT
DTSTART;TZID=America/New_York:20251002T190000
DTEND;TZID=America/New_York:20251002T200000
DTSTAMP:20260422T181157
CREATED:20250710T162221Z
LAST-MODIFIED:20251208T140131Z
UID:10008010-1759431600-1759435200@jubileemd.org
SUMMARY:Breaking Barriers Charlemos
DESCRIPTION:Join Jubilee’s Breaking Barriers manager Lisa Lorraine for a virtual Spanish-language discussion of disability services and resources. Typically held on the first Thursday of each month\, this discussion series is an opportunity to learn more about disability services and how they may benefit you. \nRegister for this virtual zoom meeting here. \nCharlemos es un evento virtual cada mes para hablar en español de los servicios y recursos disponibles a personas con discapacidades del desarrollo en Maryland. Regístrense usando este enlace. \n 
URL:https://jubileemd.org/event/breaking-barriers-charlemos-3/2025-10-02/
LOCATION:MD
CATEGORIES:Breaking Barriers
ATTACH;FMTTYPE=image/jpeg:https://jubileemd.org/wp-content/uploads/2024/07/Lorraine_Lisa-scaled-1.jpg
ORGANIZER;CN="Lisa Lorraine":MAILTO:llorraine@jubileemd.org
END:VEVENT
BEGIN:VEVENT
DTSTART;TZID=America/New_York:20251002T193000
DTEND;TZID=America/New_York:20251002T213000
DTSTAMP:20260422T181157
CREATED:20250618T144917Z
LAST-MODIFIED:20250618T144917Z
UID:10007984-1759433400-1759440600@jubileemd.org
SUMMARY:Karaoke Night at TGI Fridays
DESCRIPTION:Join your Jubilee friends for karaoke singing and dancing! \nPlease bring money for food and drink. \nThis event is free and accessible to everyone \n\n	Notice: JavaScript is required for this content.\nNo Fields Found.
URL:https://jubileemd.org/event/karaoke-night-at-tgi-fridays-19/
LOCATION:TGI Fridays\, 12281 Tech Road\, Silver Springs\, MD
CATEGORIES:Community Engagement
ATTACH;FMTTYPE=image/jpeg:https://jubileemd.org/wp-content/uploads/2022/11/circle-friends.jpg
ORGANIZER;CN="Corey Coby":MAILTO:ccoby@jubileemd.org
END:VEVENT
BEGIN:VEVENT
DTSTART;TZID=America/New_York:20251003T183000
DTEND;TZID=America/New_York:20251003T193000
DTSTAMP:20260422T181157
CREATED:20250916T150413Z
LAST-MODIFIED:20250916T150413Z
UID:10008094-1759516200-1759519800@jubileemd.org
SUMMARY:Budgeting 101
DESCRIPTION:Join Allison and your Jubilee friends to learn how to budget your expenses. \nTo begin every class\, we will spend the first few minutes reflecting on this past week. \nThen\, as a group\, we will develop solutions to our obstacles. \nLastly\, we will learn something new. \n\n	Notice: JavaScript is required for this content.\nNo Fields Found.
URL:https://jubileemd.org/event/budgeting-101-9/
LOCATION:Jubilee Association of Maryland\, 10408 Montgomery Avenue\, Kensington\, 20895\, United States
CATEGORIES:Community Engagement
ATTACH;FMTTYPE=image/jpeg:https://jubileemd.org/wp-content/uploads/2025/03/Budgeting.jpg
ORGANIZER;CN="Allison Bohn":MAILTO:abohn@jubileemd.org
END:VEVENT
END:VCALENDAR