BEGIN:VCALENDAR
VERSION:2.0
PRODID:-//Jubilee - ECPv6.15.20//NONSGML v1.0//EN
CALSCALE:GREGORIAN
METHOD:PUBLISH
X-WR-CALNAME:Jubilee
X-ORIGINAL-URL:https://jubileemd.org
X-WR-CALDESC:Events for Jubilee
REFRESH-INTERVAL;VALUE=DURATION:PT1H
X-Robots-Tag:noindex
X-PUBLISHED-TTL:PT1H
BEGIN:VTIMEZONE
TZID:America/New_York
BEGIN:DAYLIGHT
TZOFFSETFROM:-0500
TZOFFSETTO:-0400
TZNAME:EDT
DTSTART:20240310T070000
END:DAYLIGHT
BEGIN:STANDARD
TZOFFSETFROM:-0400
TZOFFSETTO:-0500
TZNAME:EST
DTSTART:20241103T060000
END:STANDARD
BEGIN:DAYLIGHT
TZOFFSETFROM:-0500
TZOFFSETTO:-0400
TZNAME:EDT
DTSTART:20250309T070000
END:DAYLIGHT
BEGIN:STANDARD
TZOFFSETFROM:-0400
TZOFFSETTO:-0500
TZNAME:EST
DTSTART:20251102T060000
END:STANDARD
BEGIN:DAYLIGHT
TZOFFSETFROM:-0500
TZOFFSETTO:-0400
TZNAME:EDT
DTSTART:20260308T070000
END:DAYLIGHT
BEGIN:STANDARD
TZOFFSETFROM:-0400
TZOFFSETTO:-0500
TZNAME:EST
DTSTART:20261101T060000
END:STANDARD
END:VTIMEZONE
BEGIN:VEVENT
DTSTART;TZID=America/New_York:20251013T093000
DTEND;TZID=America/New_York:20251013T133000
DTSTAMP:20260423T035616
CREATED:20250805T145304Z
LAST-MODIFIED:20251001T173511Z
UID:10008063-1760347800-1760362200@jubileemd.org
SUMMARY:Adult CPR\, First Aid\, AED
DESCRIPTION:Learn how to recognize and respond to medical emergencies. \nCourse length: 4 hours \nRecertification: Required every two years. \nCost: $85.00
URL:https://jubileemd.org/event/adult-cpr-first-aid-aed-17/
LOCATION:The Academy at Jubilee\, 10408 Montgomery Avenue\, Kensington\, MD\, 20895\, United States
CATEGORIES:Academy Courses,Adult CPR, First Aid, and AED
ATTACH;FMTTYPE=image/jpeg:https://jubileemd.org/wp-content/uploads/2024/09/Jubilee-Environmental-13-scaled-1-e1749822396141.jpg
END:VEVENT
BEGIN:VEVENT
DTSTART;TZID=America/New_York:20251013T183000
DTEND;TZID=America/New_York:20251013T203000
DTSTAMP:20260423T035616
CREATED:20250916T153451Z
LAST-MODIFIED:20250916T153528Z
UID:10008097-1760380200-1760387400@jubileemd.org
SUMMARY:Cooking Class
DESCRIPTION:Join Alison as we learn to cook together. \nThis is not a complete dinner. We will be making one dish. \nPlease reach out to abohn@jubileemd.org if you have any dietary restrictions or needs. \nWe will meet at Main Street and walk over together. \nThere is a parking fee associated with this event. \nThis event is accessible to everyone. \n\n	Notice: JavaScript is required for this content.\nNo Fields Found.
URL:https://jubileemd.org/event/in-person-cooking-2/
LOCATION:Main Street\, 50 Monroe Place\, Rockville\, MD\, 20850\, United States
CATEGORIES:Community Engagement
ATTACH;FMTTYPE=image/jpeg:https://jubileemd.org/wp-content/uploads/2024/10/Tico-cooking-scaled.jpeg
ORGANIZER;CN="Allison Bohn":MAILTO:abohn@jubileemd.org
END:VEVENT
BEGIN:VEVENT
DTSTART;TZID=America/New_York:20251014T113000
DTEND;TZID=America/New_York:20251014T130000
DTSTAMP:20260423T035616
CREATED:20250618T145249Z
LAST-MODIFIED:20250618T145249Z
UID:10007988-1760441400-1760446800@jubileemd.org
SUMMARY:Wheaton Regional Park with Lunch & Stroll
DESCRIPTION:Join your Jubilee friends for lunch and a stroll through the park. \nPlease bring your lunch and drink. \nAfter lunch\, we take a stroll around the park. \n\n	Notice: JavaScript is required for this content.\nNo Fields Found.
URL:https://jubileemd.org/event/wheaton-regional-park-with-lunch-stroll-5/
LOCATION:Wheaton Regional Park\, 2000 Shorefield Road\, Silver Springs\, MD
CATEGORIES:Community Engagement
ATTACH;FMTTYPE=image/jpeg:https://jubileemd.org/wp-content/uploads/2025/03/Wheaton-Regional-Park.jpg
ORGANIZER;CN="Corey Coby":MAILTO:ccoby@jubileemd.org
END:VEVENT
BEGIN:VEVENT
DTSTART;TZID=America/New_York:20251016T193000
DTEND;TZID=America/New_York:20251016T213000
DTSTAMP:20260423T035616
CREATED:20250618T144949Z
LAST-MODIFIED:20250618T144949Z
UID:10007985-1760643000-1760650200@jubileemd.org
SUMMARY:Karaoke Night at TGI Fridays
DESCRIPTION:Join your Jubilee friends for karaoke singing and dancing! \nPlease bring money for food and drink. \nThis event is free and accessible to everyone \n\n	Notice: JavaScript is required for this content.\nNo Fields Found.
URL:https://jubileemd.org/event/karaoke-night-at-tgi-fridays-20/
LOCATION:TGI Fridays\, 12281 Tech Road\, Silver Springs\, MD
CATEGORIES:Community Engagement
ATTACH;FMTTYPE=image/jpeg:https://jubileemd.org/wp-content/uploads/2022/11/circle-friends.jpg
ORGANIZER;CN="Corey Coby":MAILTO:ccoby@jubileemd.org
END:VEVENT
BEGIN:VEVENT
DTSTART;TZID=America/New_York:20251017T183000
DTEND;TZID=America/New_York:20251017T193000
DTSTAMP:20260423T035616
CREATED:20250916T144351Z
LAST-MODIFIED:20250916T144433Z
UID:10008091-1760725800-1760729400@jubileemd.org
SUMMARY:Budgeting 101
DESCRIPTION:Join Allison and your Jubilee friends to learn how to budget your expenses. \nTo begin every class\, we will spend the first few minutes reflecting on this past week. \nThen\, as a group\, we will develop solutions to our obstacles. \nLastly\, we will learn something new. \n\n	Notice: JavaScript is required for this content.\nNo Fields Found.
URL:https://jubileemd.org/event/budgeting-101-6/
LOCATION:Jubilee Association of Maryland\, 10408 Montgomery Avenue\, Kensington\, 20895\, United States
CATEGORIES:Community Engagement
ATTACH;FMTTYPE=image/jpeg:https://jubileemd.org/wp-content/uploads/2025/03/Budgeting.jpg
ORGANIZER;CN="Allison Bohn":MAILTO:abohn@jubileemd.org
END:VEVENT
END:VCALENDAR