BEGIN:VCALENDAR
VERSION:2.0
PRODID:-//Jubilee - ECPv6.15.20//NONSGML v1.0//EN
CALSCALE:GREGORIAN
METHOD:PUBLISH
X-WR-CALNAME:Jubilee
X-ORIGINAL-URL:https://jubileemd.org
X-WR-CALDESC:Events for Jubilee
REFRESH-INTERVAL;VALUE=DURATION:PT1H
X-Robots-Tag:noindex
X-PUBLISHED-TTL:PT1H
BEGIN:VTIMEZONE
TZID:America/New_York
BEGIN:DAYLIGHT
TZOFFSETFROM:-0500
TZOFFSETTO:-0400
TZNAME:EDT
DTSTART:20240310T070000
END:DAYLIGHT
BEGIN:STANDARD
TZOFFSETFROM:-0400
TZOFFSETTO:-0500
TZNAME:EST
DTSTART:20241103T060000
END:STANDARD
BEGIN:DAYLIGHT
TZOFFSETFROM:-0500
TZOFFSETTO:-0400
TZNAME:EDT
DTSTART:20250309T070000
END:DAYLIGHT
BEGIN:STANDARD
TZOFFSETFROM:-0400
TZOFFSETTO:-0500
TZNAME:EST
DTSTART:20251102T060000
END:STANDARD
BEGIN:DAYLIGHT
TZOFFSETFROM:-0500
TZOFFSETTO:-0400
TZNAME:EDT
DTSTART:20260308T070000
END:DAYLIGHT
BEGIN:STANDARD
TZOFFSETFROM:-0400
TZOFFSETTO:-0500
TZNAME:EST
DTSTART:20261101T060000
END:STANDARD
END:VTIMEZONE
BEGIN:VEVENT
DTSTART;TZID=America/New_York:20251019T123000
DTEND;TZID=America/New_York:20251019T140000
DTSTAMP:20260423T033108
CREATED:20250722T194735Z
LAST-MODIFIED:20250924T190923Z
UID:10008040-1760877000-1760882400@jubileemd.org
SUMMARY:Client Council Meeting | New Time
DESCRIPTION:Open to all people supported by Jubilee\, the monthly Client Council meeting is an opportunity to stay engaged and up-to-date on important Jubilee news. The meeting will be held in the first floor classrooms. Please note the time change for the October meeting\, now scheduled for 12:30 p.m. The October meeting is an opportunity to hear directly from candidates for Client Council office about why they want to be elected.  Here are your candidates for office: \nCandidates for President: \n\nElaine Carney\nCindy Ring\nDavid McCormack\nBen Collins\nKitty O’Connell\nAlex Rivas\nJoan Plotkin\n\nCandidates for Vice President: \n\nMary Newberg\nSue Murray\n\nCandidates for Secretary: \n\nMary Jo Wybierala\nAmy Sabol\n\nCandidates for Activities Officer: \n\nSarah Glenner\nMatt Starr\n\nCandidates for Activity Planning Committee: \n\nKirsten Davidson\n\n\n	Notice: JavaScript is required for this content.\nNo Fields Found.
URL:https://jubileemd.org/event/client-council-monthly-meeting-16/
LOCATION:Jubilee Association of Maryland\, 10408 Montgomery Avenue\, Kensington\, 20895\, United States
CATEGORIES:Community Engagement
ATTACH;FMTTYPE=image/jpeg:https://jubileemd.org/wp-content/uploads/2024/10/Guy-Talk.jpeg
ORGANIZER;CN="Julia McCune":MAILTO:jmccune@jubileemd.org
END:VEVENT
BEGIN:VEVENT
DTSTART;TZID=America/New_York:20251019T183000
DTEND;TZID=America/New_York:20251019T200000
DTSTAMP:20260423T033108
CREATED:20250916T134429Z
LAST-MODIFIED:20250916T145354Z
UID:10008089-1760898600-1760904000@jubileemd.org
SUMMARY:Art Class
DESCRIPTION:Calling all artists! \nJoin your Jubilee friends for an art class at the Jubilee office. \nThe event is free and accessible to everyone. \n\n	Notice: JavaScript is required for this content.\nNo Fields Found.\n\n    \n\n\n        \n        \n        \n 
URL:https://jubileemd.org/event/art-class-5/
LOCATION:Jubilee Association of Maryland\, 10408 Montgomery Avenue\, Kensington\, 20895\, United States
CATEGORIES:Community Engagement
ATTACH;FMTTYPE=image/jpeg:https://jubileemd.org/wp-content/uploads/2021/07/art-by-Carolyn-Skinner-scaled.jpg
ORGANIZER;CN="Allison Bohn":MAILTO:abohn@jubileemd.org
END:VEVENT
BEGIN:VEVENT
DTSTART;TZID=America/New_York:20251020T103000
DTEND;TZID=America/New_York:20251020T120000
DTSTAMP:20260423T033108
CREATED:20250916T153139Z
LAST-MODIFIED:20250916T153139Z
UID:10008095-1760956200-1760961600@jubileemd.org
SUMMARY:Budgeting 101
DESCRIPTION:Join Allison and your Jubilee friends to learn how to budget your expenses. \nTo begin every class\, we will spend the first few minutes reflecting on this past week. \nThen\, as a group\, we will develop solutions to our obstacles. \nLastly\, we will learn something new. \n\n	Notice: JavaScript is required for this content.\nNo Fields Found.
URL:https://jubileemd.org/event/budgeting-101-10/
LOCATION:Jubilee Association of Maryland\, 10408 Montgomery Avenue\, Kensington\, 20895\, United States
CATEGORIES:Community Engagement
ATTACH;FMTTYPE=image/jpeg:https://jubileemd.org/wp-content/uploads/2025/03/Budgeting.jpg
ORGANIZER;CN="Allison Bohn":MAILTO:abohn@jubileemd.org
END:VEVENT
BEGIN:VEVENT
DTSTART;TZID=America/New_York:20251020T183000
DTEND;TZID=America/New_York:20251020T203000
DTSTAMP:20260423T033108
CREATED:20250916T153650Z
LAST-MODIFIED:20250916T153650Z
UID:10008098-1760985000-1760992200@jubileemd.org
SUMMARY:Cooking Class
DESCRIPTION:Join Alison as we learn to cook together. \nThis is not a complete dinner. We will be making one dish. \nPlease reach out to abohn@jubileemd.org if you have any dietary restrictions or needs. \nWe will meet at Main Street and walk over together. \nThere is a parking fee associated with this event. \nThis event is accessible to everyone. \n\n	Notice: JavaScript is required for this content.\nNo Fields Found.
URL:https://jubileemd.org/event/cooking-class/
LOCATION:Main Street\, 50 Monroe Place\, Rockville\, MD\, 20850\, United States
CATEGORIES:Community Engagement
ATTACH;FMTTYPE=image/jpeg:https://jubileemd.org/wp-content/uploads/2024/10/Tico-cooking-scaled.jpeg
ORGANIZER;CN="Allison Bohn":MAILTO:abohn@jubileemd.org
END:VEVENT
BEGIN:VEVENT
DTSTART;TZID=America/New_York:20251021T173000
DTEND;TZID=America/New_York:20251021T183000
DTSTAMP:20260423T033109
CREATED:20250618T143946Z
LAST-MODIFIED:20250618T143946Z
UID:10007983-1761067800-1761071400@jubileemd.org
SUMMARY:Healthy Relationships
DESCRIPTION:Join your Jubilee Friends for a healthy relationship discussion in a safe space at Jubilee. \nWe will discuss topics such as relationships\, friendships\, and family. \nThis event is free and accessible to everyone. \n\n	Notice: JavaScript is required for this content.\nNo Fields Found.
URL:https://jubileemd.org/event/healthy-relationships-16/
LOCATION:Jubilee Association of Maryland\, 10408 Montgomery Avenue\, Kensington\, 20895\, United States
CATEGORIES:Community Engagement
ATTACH;FMTTYPE=image/jpeg:https://jubileemd.org/wp-content/uploads/2024/10/Guy-Talk.jpeg
ORGANIZER;CN="Corey Coby":MAILTO:ccoby@jubileemd.org
END:VEVENT
BEGIN:VEVENT
DTSTART;TZID=America/New_York:20251022T183000
DTEND;TZID=America/New_York:20251022T203000
DTSTAMP:20260423T033109
CREATED:20250829T192806Z
LAST-MODIFIED:20250829T192806Z
UID:10008082-1761157800-1761165000@jubileemd.org
SUMMARY:MCPS Transitioning Youth Fair
DESCRIPTION:Meet Jubilee’s admissions and Breaking Barriers team at a county-wide resource fair and learn how we can help your loved one with disabilities live independently.
URL:https://jubileemd.org/event/mcps-transitioning-youth-fair/
LOCATION:Richard Montgomery High School\, 250 Richard Montgomery Drive\, Rockville\, 20852\, United States
CATEGORIES:Administration
ATTACH;FMTTYPE=image/jpeg:https://jubileemd.org/wp-content/uploads/2025/08/Hayley-at-fair-scaled.jpg
ORGANIZER;CN="Hayley Dutton":MAILTO:admissions@jubileemd.org
END:VEVENT
BEGIN:VEVENT
DTSTART;TZID=America/New_York:20251024T173000
DTEND;TZID=America/New_York:20251024T193000
DTSTAMP:20260423T033109
CREATED:20250916T154231Z
LAST-MODIFIED:20251022T173718Z
UID:10008100-1761327000-1761334200@jubileemd.org
SUMMARY:Halloween Party
DESCRIPTION:Get ready for some spooktacular fun at Jubilee’s Halloween party! \nJoin us for Halloween games\, prizes\, and pizza. \nDress up in your Halloween costume! \nThis event is free and accessible to everyone. \nRegistration for this event is now closed.
URL:https://jubileemd.org/event/halloween-party/
LOCATION:Casey Community Center\, 810 South Frederick Avenue\, Gaithersburg\, MD
CATEGORIES:Community Engagement
ATTACH;FMTTYPE=image/jpeg:https://jubileemd.org/wp-content/uploads/2022/10/Dominique-and-Candace-at-employee-ceremony.jpeg
ORGANIZER;CN="Allison Bohn":MAILTO:abohn@jubileemd.org
END:VEVENT
END:VCALENDAR