BEGIN:VCALENDAR
VERSION:2.0
PRODID:-//Jubilee - ECPv6.15.20//NONSGML v1.0//EN
CALSCALE:GREGORIAN
METHOD:PUBLISH
X-WR-CALNAME:Jubilee
X-ORIGINAL-URL:https://jubileemd.org
X-WR-CALDESC:Events for Jubilee
REFRESH-INTERVAL;VALUE=DURATION:PT1H
X-Robots-Tag:noindex
X-PUBLISHED-TTL:PT1H
BEGIN:VTIMEZONE
TZID:America/New_York
BEGIN:DAYLIGHT
TZOFFSETFROM:-0500
TZOFFSETTO:-0400
TZNAME:EDT
DTSTART:20240310T070000
END:DAYLIGHT
BEGIN:STANDARD
TZOFFSETFROM:-0400
TZOFFSETTO:-0500
TZNAME:EST
DTSTART:20241103T060000
END:STANDARD
BEGIN:DAYLIGHT
TZOFFSETFROM:-0500
TZOFFSETTO:-0400
TZNAME:EDT
DTSTART:20250309T070000
END:DAYLIGHT
BEGIN:STANDARD
TZOFFSETFROM:-0400
TZOFFSETTO:-0500
TZNAME:EST
DTSTART:20251102T060000
END:STANDARD
BEGIN:DAYLIGHT
TZOFFSETFROM:-0500
TZOFFSETTO:-0400
TZNAME:EDT
DTSTART:20260308T070000
END:DAYLIGHT
BEGIN:STANDARD
TZOFFSETFROM:-0400
TZOFFSETTO:-0500
TZNAME:EST
DTSTART:20261101T060000
END:STANDARD
END:VTIMEZONE
BEGIN:VEVENT
DTSTART;TZID=America/New_York:20251116T140000
DTEND;TZID=America/New_York:20251116T170000
DTSTAMP:20260422T183219
CREATED:20251020T153955Z
LAST-MODIFIED:20251020T153955Z
UID:10008130-1763301600-1763312400@jubileemd.org
SUMMARY:Art Sale Fundraiser
DESCRIPTION:Shop fine art\, photography\, and jewelry at local artist Denise Brown’s open house or visit her online store. A portion of sales will be donated to Jubilee to support our work to help adults with intellectual and developmental disabilities live their best lives.
URL:https://jubileemd.org/event/art-sale-fundraiser/
LOCATION:Denise Marie Fine Arts Gallery\, 4000 52nd Street\, Bladensburg\, MD\, 20710\, United States
CATEGORIES:Uncategorized
ATTACH;FMTTYPE=image/png:https://jubileemd.org/wp-content/uploads/2025/10/Denise-Brown-Art-Fundraiser-2025-IG-1.png
ORGANIZER;CN="Development at Jubilee":MAILTO:donate@jubileemd.org
END:VEVENT
BEGIN:VEVENT
DTSTART;TZID=America/New_York:20251116T190000
DTEND;TZID=America/New_York:20251116T200000
DTSTAMP:20260422T183219
CREATED:20251023T140321Z
LAST-MODIFIED:20251023T140321Z
UID:10008136-1763319600-1763323200@jubileemd.org
SUMMARY:Budgeting 101
DESCRIPTION:Join Allison and your Jubilee friends to learn how to budget your expenses. \nTo begin every class\, we will spend the first few minutes reflecting on this past week. \nThen\, as a group\, we will develop solutions to our obstacles. \nLastly\, we will learn something new. \n\n	Notice: JavaScript is required for this content.\nNo Fields Found.
URL:https://jubileemd.org/event/budgeting-101-12/
LOCATION:Jubilee Association of Maryland\, 10408 Montgomery Avenue\, Kensington\, 20895\, United States
CATEGORIES:Community Engagement
ATTACH;FMTTYPE=image/jpeg:https://jubileemd.org/wp-content/uploads/2025/03/Budgeting.jpg
ORGANIZER;CN="Allison Bohn":MAILTO:abohn@jubileemd.org
END:VEVENT
BEGIN:VEVENT
DTSTART;TZID=America/New_York:20251117T160000
DTEND;TZID=America/New_York:20251117T180000
DTSTAMP:20260422T183219
CREATED:20251023T141927Z
LAST-MODIFIED:20251023T141927Z
UID:10008139-1763395200-1763402400@jubileemd.org
SUMMARY:Cooking Class
DESCRIPTION:Join Alison as we learn to cook together. \nThis is not a complete dinner. We will be making one dish. \nPlease reach out to abohn@jubileemd.org if you have any dietary restrictions or needs. \nThis event is accessible to everyone. \nLocation –  Parkside Landing Apartments\, Monroe Street\, Rockville\, MD\, USA. \nPlease reach out to abohn@jubileemd.org for the exact location. \n\n	Notice: JavaScript is required for this content.\nNo Fields Found.
URL:https://jubileemd.org/event/cooking-class-9/
LOCATION:Parkside Landing\, 735 Monroe St\, Rockville\, MD\, 20850
CATEGORIES:Community Engagement
ATTACH;FMTTYPE=image/jpeg:https://jubileemd.org/wp-content/uploads/2024/10/Tico-cooking-scaled.jpeg
ORGANIZER;CN="Allison Bohn":MAILTO:abohn@jubileemd.org
END:VEVENT
BEGIN:VEVENT
DTSTART;TZID=America/New_York:20251117T183000
DTEND;TZID=America/New_York:20251117T203000
DTSTAMP:20260422T183219
CREATED:20251023T141527Z
LAST-MODIFIED:20251023T141527Z
UID:10008141-1763404200-1763411400@jubileemd.org
SUMMARY:Cooking Class
DESCRIPTION:Join Alison as we learn to cook together. \nThis is not a complete dinner. We will be making one dish. \nPlease reach out to abohn@jubileemd.org if you have any dietary restrictions or needs. \nThis event is accessible to everyone. \nLocation – Monroe Street – please reach out to abohn@jubileemd.org for details. \n\n	Notice: JavaScript is required for this content.\nNo Fields Found.
URL:https://jubileemd.org/event/cooking-class-5/
LOCATION:MD
CATEGORIES:Community Engagement
ATTACH;FMTTYPE=image/jpeg:https://jubileemd.org/wp-content/uploads/2024/10/Tico-cooking-scaled.jpeg
ORGANIZER;CN="Allison Bohn":MAILTO:abohn@jubileemd.org
END:VEVENT
BEGIN:VEVENT
DTSTART;TZID=America/New_York:20251118T110000
DTEND;TZID=America/New_York:20251118T130000
DTSTAMP:20260422T183219
CREATED:20251023T142652Z
LAST-MODIFIED:20251023T142652Z
UID:10008150-1763463600-1763470800@jubileemd.org
SUMMARY:Look Good. Feel Good
DESCRIPTION:Join your Jubilee friends for games\, listening to music\, and eating pizza. \nThis event is free and accessible to everyone. \n\n	Notice: JavaScript is required for this content.\nNo Fields Found.
URL:https://jubileemd.org/event/look-good-feel-good-2/
LOCATION:Jubilee Association of Maryland\, 10408 Montgomery Avenue\, Kensington\, 20895\, United States
CATEGORIES:Community Engagement
ATTACH;FMTTYPE=image/png:https://jubileemd.org/wp-content/uploads/2024/02/James-left.png
ORGANIZER;CN="Allison Bohn":MAILTO:abohn@jubileemd.org
END:VEVENT
BEGIN:VEVENT
DTSTART;TZID=America/New_York:20251118T173000
DTEND;TZID=America/New_York:20251118T183000
DTSTAMP:20260422T183219
CREATED:20250818T153924Z
LAST-MODIFIED:20250818T153924Z
UID:10008066-1763487000-1763490600@jubileemd.org
SUMMARY:Healthy Relationships
DESCRIPTION:Join your Jubilee Friends for a healthy relationship discussion in a safe space at Jubilee. \nWe will discuss topics such as relationships\, friendships\, and family. \nThis event is free and accessible to everyone. \n\n	Notice: JavaScript is required for this content.\nNo Fields Found.
URL:https://jubileemd.org/event/healthy-relationships-2/
LOCATION:Jubilee Association of Maryland\, 10408 Montgomery Avenue\, Kensington\, 20895\, United States
CATEGORIES:Community Engagement
ATTACH;FMTTYPE=image/jpeg:https://jubileemd.org/wp-content/uploads/2024/10/Guy-Talk.jpeg
ORGANIZER;CN="Corey Coby":MAILTO:ccoby@jubileemd.org
END:VEVENT
BEGIN:VEVENT
DTSTART;TZID=America/New_York:20251120T093000
DTEND;TZID=America/New_York:20251120T133000
DTSTAMP:20260422T183219
CREATED:20250923T184150Z
LAST-MODIFIED:20250923T184150Z
UID:10008103-1763631000-1763645400@jubileemd.org
SUMMARY:Adult CPR\, First Aid\, AED
DESCRIPTION:Learn how to recognize and respond to medical emergencies. \nCourse length: 4 hours \nRecertification: Required every two years. \nCost: $85.00
URL:https://jubileemd.org/event/adult-cpr-first-aid-aed-19/
LOCATION:The Academy at Jubilee\, 10408 Montgomery Avenue\, Kensington\, MD\, 20895\, United States
CATEGORIES:Academy Courses,Adult CPR, First Aid, and AED
ATTACH;FMTTYPE=image/jpeg:https://jubileemd.org/wp-content/uploads/2024/09/Jubilee-Environmental-13-scaled-1-e1749822396141.jpg
END:VEVENT
BEGIN:VEVENT
DTSTART;TZID=America/New_York:20251120T193000
DTEND;TZID=America/New_York:20251120T213000
DTSTAMP:20260422T183219
CREATED:20250818T154150Z
LAST-MODIFIED:20250818T154150Z
UID:10008069-1763667000-1763674200@jubileemd.org
SUMMARY:Karaoke Night at TGI Fridays
DESCRIPTION:Join your Jubilee friends for karaoke singing and dancing! \nPlease bring money for food and drink. \nThis event is free and accessible to everyone \n\n	Notice: JavaScript is required for this content.\nNo Fields Found.
URL:https://jubileemd.org/event/karaoke-night-at-tgi-fridays/
LOCATION:TGI Fridays\, 12281 Tech Road\, Silver Springs\, MD
CATEGORIES:Community Engagement
ATTACH;FMTTYPE=image/jpeg:https://jubileemd.org/wp-content/uploads/2022/11/circle-friends.jpg
ORGANIZER;CN="Corey Coby":MAILTO:ccoby@jubileemd.org
END:VEVENT
END:VCALENDAR