BEGIN:VCALENDAR
VERSION:2.0
PRODID:-//Jubilee - ECPv6.15.20//NONSGML v1.0//EN
CALSCALE:GREGORIAN
METHOD:PUBLISH
X-ORIGINAL-URL:https://jubileemd.org
X-WR-CALDESC:Events for Jubilee
REFRESH-INTERVAL;VALUE=DURATION:PT1H
X-Robots-Tag:noindex
X-PUBLISHED-TTL:PT1H
BEGIN:VTIMEZONE
TZID:America/New_York
BEGIN:DAYLIGHT
TZOFFSETFROM:-0500
TZOFFSETTO:-0400
TZNAME:EDT
DTSTART:20250309T070000
END:DAYLIGHT
BEGIN:STANDARD
TZOFFSETFROM:-0400
TZOFFSETTO:-0500
TZNAME:EST
DTSTART:20251102T060000
END:STANDARD
BEGIN:DAYLIGHT
TZOFFSETFROM:-0500
TZOFFSETTO:-0400
TZNAME:EDT
DTSTART:20260308T070000
END:DAYLIGHT
BEGIN:STANDARD
TZOFFSETFROM:-0400
TZOFFSETTO:-0500
TZNAME:EST
DTSTART:20261101T060000
END:STANDARD
BEGIN:DAYLIGHT
TZOFFSETFROM:-0500
TZOFFSETTO:-0400
TZNAME:EDT
DTSTART:20270314T070000
END:DAYLIGHT
BEGIN:STANDARD
TZOFFSETFROM:-0400
TZOFFSETTO:-0500
TZNAME:EST
DTSTART:20271107T060000
END:STANDARD
END:VTIMEZONE
BEGIN:VEVENT
DTSTART;TZID=America/New_York:20260503T103000
DTEND;TZID=America/New_York:20260503T233000
DTSTAMP:20260424T042523
CREATED:20260324T195713Z
LAST-MODIFIED:20260324T195713Z
UID:10008326-1777804200-1777851000@jubileemd.org
SUMMARY:Fiber Arts
DESCRIPTION:Come join our fiber arts group! \nWhether you knit\, crochet\, weave\, or just want to hang out\, all skill levels are welcome. \nCome relax\, listen to music\, and enjoy some creative time together in a friendly space. \nBring your current project and connect with fellow Jubilee creatives. \nThis event is free and accessible to everyone. \n\n	Notice: JavaScript is required for this content.
URL:https://jubileemd.org/event/fiber-arts/
LOCATION:Jubilee Association of Maryland\, 10408 Montgomery Avenue\, Kensington\, 20895\, United States
CATEGORIES:Community Engagement
ATTACH;FMTTYPE=image/png:https://jubileemd.org/wp-content/uploads/2023/10/posting-34.png
ORGANIZER;CN="Abby Elson":MAILTO:aelson@jubileemd.org
END:VEVENT
BEGIN:VEVENT
DTSTART;TZID=America/New_York:20260504T163000
DTEND;TZID=America/New_York:20260504T200000
DTSTAMP:20260424T042523
CREATED:20260324T200114Z
LAST-MODIFIED:20260324T200114Z
UID:10008327-1777912200-1777924800@jubileemd.org
SUMMARY:Gamers the Gathering at Gaithersburg Library
DESCRIPTION:Whether you’re new to tabletop games or are looking for people to play with\, join others in a relaxed evening of gaming at the Gaithersburg Library. Arrive anytime between 4:30 and 7 pm. The event ends at 8 pm. \nThere will be a variety of card games and board games\, including different Eurogames\, strategy games\, and party games. Have a game you’d like to share? Feel free to bring your own from home to play with others. \nThe group meets in Meeting Room 3 on the 2nd floor. \nThis event is free and accessible to everyone. \n\n	Notice: JavaScript is required for this content.
URL:https://jubileemd.org/event/gamers-the-gathering-at-gaithersburg-library/
LOCATION:Gaithersburg Library\, 18330 Montgomery Village Ave\, Gaithersburg\, MD
CATEGORIES:Community Engagement
ATTACH;FMTTYPE=image/jpeg:https://jubileemd.org/wp-content/uploads/2025/03/Scott-Drive-guys-on-deck.jpg
ORGANIZER;CN="Abby Elson":MAILTO:aelson@jubileemd.org
END:VEVENT
BEGIN:VEVENT
DTSTART;TZID=America/New_York:20260505T173000
DTEND;TZID=America/New_York:20260505T183000
DTSTAMP:20260424T042523
CREATED:20260223T154919Z
LAST-MODIFIED:20260223T200618Z
UID:10008281-1778002200-1778005800@jubileemd.org
SUMMARY:Money Management & Budget Basics: Creating a Reasonable Budget
DESCRIPTION:Join your Jubilee Friends for a discussion on how to create a budget. \nWe will learn how to build an attainable budget with a template based on income and other factors. \nThis event is free and accessible to everyone. \n\n	Notice: JavaScript is required for this content.
URL:https://jubileemd.org/event/money-management-budget-basics-creating-a-reasonable-budget/
LOCATION:Jubilee Association of Maryland\, 10408 Montgomery Avenue\, Kensington\, 20895\, United States
CATEGORIES:Community Engagement
ATTACH;FMTTYPE=image/avif:https://jubileemd.org/wp-content/uploads/2026/02/money-management-financial-plan-concepts-with-text-desk-top-view_254791-2090.avif
ORGANIZER;CN="Abby Elson":MAILTO:aelson@jubileemd.org
END:VEVENT
BEGIN:VEVENT
DTSTART;TZID=America/New_York:20260507T100000
DTEND;TZID=America/New_York:20260507T160000
DTSTAMP:20260424T042523
CREATED:20260325T222356Z
LAST-MODIFIED:20260325T222619Z
UID:10008333-1778148000-1778169600@jubileemd.org
SUMMARY:Certified Medication Technician Initial Training/MTTP [Day 1 of 4]
DESCRIPTION:DSPs learn how to offer and store medications\, update records\, and observe/report physical or behavioral changes. \nCertified Medication Technicians through the Maryland Board of Nursing must recertify every two years. \nCourse length: 20 hours over 4 days*\n\n*Note: Registering for Day 1 of this class will automatically register you for Days 2\, 3\, and 4\, occurring on Friday\, March 6th\, Monday\, March 9th\, and Tuesday\, March 10th\, 10 am to 4 pm each day. \nCost: $250.00 \nRecertification Eligibility: Maryland Board of Nursing (MBON) Renewal Window is 90 days before your expiration date\, and up to 30 days after your expiration date.
URL:https://jubileemd.org/event/certified-medication-technician-initial-training-may2026/
LOCATION:The Academy at Jubilee\, 10408 Montgomery Avenue\, Kensington\, MD\, 20895\, United States
CATEGORIES:Academy Courses,CMT
END:VEVENT
BEGIN:VEVENT
DTSTART;TZID=America/New_York:20260507T193000
DTEND;TZID=America/New_York:20260507T213000
DTSTAMP:20260424T042523
CREATED:20260127T155208Z
LAST-MODIFIED:20260127T155208Z
UID:10008267-1778182200-1778189400@jubileemd.org
SUMMARY:Karaoke Night at TGI Fridays
DESCRIPTION:Join your Jubilee friends for karaoke singing and dancing! \nPlease bring money for food and drink. \nThis event is free and accessible to everyone \n\n	Notice: JavaScript is required for this content.
URL:https://jubileemd.org/event/karaoke-night-at-tgi-fridays-29/
LOCATION:TGI Fridays\, 12281 Tech Road\, Silver Springs\, MD
CATEGORIES:Community Engagement
ATTACH;FMTTYPE=image/jpeg:https://jubileemd.org/wp-content/uploads/2022/11/circle-friends.jpg
ORGANIZER;CN="Corey Coby":MAILTO:ccoby@jubileemd.org
END:VEVENT
BEGIN:VEVENT
DTSTART;TZID=America/New_York:20260508T100000
DTEND;TZID=America/New_York:20260508T160000
DTSTAMP:20260424T042523
CREATED:20260325T222607Z
LAST-MODIFIED:20260325T224051Z
UID:10008334-1778234400-1778256000@jubileemd.org
SUMMARY:Certified Medication Technician Initial Training/MTTP [Day 2 of 4]
DESCRIPTION:DSPs learn how to offer and store medications\, update records\, and observe/report physical or behavioral changes. \nCertified Medication Technicians through the Maryland Board of Nursing must recertify every two years. \nRegister for this class through Day 1 of this course: Click Here for MTTP Initial Registration \nCourse length: 20 hours over 4 days*\n\n*Note: Registering for Day 1 of this class will automatically register you for Days 2\, 3\, and 4\, occurring on Friday\, May 8th\, Monday\, May 11th\, and Tuesday\, May 12th \nCost: $250.00 \nRecertification Eligibility: Maryland Board of Nursing (MBON) Renewal Window is 90 days before your expiration date\, and up to 30 days after your expiration date.
URL:https://jubileemd.org/event/certified-medication-technician-initial-training-mttp-day-2-of-4-4/
LOCATION:The Academy at Jubilee\, 10408 Montgomery Avenue\, Kensington\, MD\, 20895\, United States
CATEGORIES:Academy Courses,CMT
END:VEVENT
END:VCALENDAR