BEGIN:VCALENDAR
VERSION:2.0
PRODID:-//Jubilee - ECPv6.15.20//NONSGML v1.0//EN
CALSCALE:GREGORIAN
METHOD:PUBLISH
X-WR-CALNAME:Jubilee
X-ORIGINAL-URL:https://jubileemd.org
X-WR-CALDESC:Events for Jubilee
REFRESH-INTERVAL;VALUE=DURATION:PT1H
X-Robots-Tag:noindex
X-PUBLISHED-TTL:PT1H
BEGIN:VTIMEZONE
TZID:America/New_York
BEGIN:DAYLIGHT
TZOFFSETFROM:-0500
TZOFFSETTO:-0400
TZNAME:EDT
DTSTART:20240310T070000
END:DAYLIGHT
BEGIN:STANDARD
TZOFFSETFROM:-0400
TZOFFSETTO:-0500
TZNAME:EST
DTSTART:20241103T060000
END:STANDARD
BEGIN:DAYLIGHT
TZOFFSETFROM:-0500
TZOFFSETTO:-0400
TZNAME:EDT
DTSTART:20250309T070000
END:DAYLIGHT
BEGIN:STANDARD
TZOFFSETFROM:-0400
TZOFFSETTO:-0500
TZNAME:EST
DTSTART:20251102T060000
END:STANDARD
BEGIN:DAYLIGHT
TZOFFSETFROM:-0500
TZOFFSETTO:-0400
TZNAME:EDT
DTSTART:20260308T070000
END:DAYLIGHT
BEGIN:STANDARD
TZOFFSETFROM:-0400
TZOFFSETTO:-0500
TZNAME:EST
DTSTART:20261101T060000
END:STANDARD
BEGIN:DAYLIGHT
TZOFFSETFROM:-0500
TZOFFSETTO:-0400
TZNAME:EDT
DTSTART:20270314T070000
END:DAYLIGHT
BEGIN:STANDARD
TZOFFSETFROM:-0400
TZOFFSETTO:-0500
TZNAME:EST
DTSTART:20271107T060000
END:STANDARD
END:VTIMEZONE
BEGIN:VEVENT
DTSTART;TZID=America/New_York:20260412T130000
DTEND;TZID=America/New_York:20260412T160000
DTSTAMP:20260423T223401
CREATED:20260218T203311Z
LAST-MODIFIED:20260311T124717Z
UID:10008277-1775998800-1776009600@jubileemd.org
SUMMARY:Joan Karasik Resource Fair
DESCRIPTION:Meet Jubilee’s Admissions Manager\, and other service providers\, at the Joan Karasik Resource Fair for Teens and Adults with Disabilities. This annual event is hosted by the Transition Work Group\, which includes adult service providers\, government and school staff\, and family members. The Transition Work Group aims to help young people with disabilities move from school into active\, meaningful adult lives in the community. \nNo advance registration required.
URL:https://jubileemd.org/event/road-to-independence-resource-fair/
LOCATION:Montgomery College Rockville\, 51 Manakee Street\, Rockville\, MD\, United States
CATEGORIES:Administration
ATTACH;FMTTYPE=image/jpeg:https://jubileemd.org/wp-content/uploads/2025/08/Hayley-at-fair-scaled.jpg
ORGANIZER;CN="Hayley Dutton":MAILTO:admissions@jubileemd.org
END:VEVENT
BEGIN:VEVENT
DTSTART;TZID=America/New_York:20251203T180000
DTEND;TZID=America/New_York:20251203T193000
DTSTAMP:20260423T223401
CREATED:20251006T160608Z
LAST-MODIFIED:20251006T182543Z
UID:10008127-1764784800-1764790200@jubileemd.org
SUMMARY:Admissions Webinar | Journey to Independent Living
DESCRIPTION:Join Jubilee’s Admissions team for an education session on how adults with intellectual and developmental disabilities can live independently with support from Jubilee. We’ll explain how Housing Support Services help people find apartments and homes in Montgomery County\, and how our Residential Support Services provide ongoing help at home to people living on their own. In addition to learning from our expert staff\, you’ll hear directly from people receiving services from Jubilee about their lives\, and have an opportunity to ask questions.  \nPlease RSVP here for this unique opportunity to hear how you (or your loved one) can envision a brighter and more independent future!  \nThis is a virtual session held via Zoom. \n  \n 
URL:https://jubileemd.org/event/admissions-webinar-journey-to-independent-living/
CATEGORIES:Administration
ATTACH;FMTTYPE=image/jpeg:https://jubileemd.org/wp-content/uploads/2025/10/Steve-Sabia-and-Lamin-Yilla-scaled.jpg
ORGANIZER;CN="Hayley Dutton":MAILTO:admissions@jubileemd.org
END:VEVENT
BEGIN:VEVENT
DTSTART;TZID=America/New_York:20251102T130000
DTEND;TZID=America/New_York:20251102T160000
DTSTAMP:20260423T223401
CREATED:20250829T193202Z
LAST-MODIFIED:20250829T193244Z
UID:10008083-1762088400-1762099200@jubileemd.org
SUMMARY:Road to Independence Resource Fair
DESCRIPTION:Meet Jubilee’s admissions and Breaking Barriers team at a county-wide resource fair and learn how we can help your loved one with disabilities live independently.
URL:https://jubileemd.org/event/transitioning-work-group-resource-fair/
LOCATION:College Living Experience Office\, 401 N. Washington Street\, Rockville\, 20850\, United States
CATEGORIES:Administration
ATTACH;FMTTYPE=image/jpeg:https://jubileemd.org/wp-content/uploads/2025/08/Hayley-at-fair-scaled.jpg
ORGANIZER;CN="Hayley Dutton":MAILTO:admissions@jubileemd.org
END:VEVENT
BEGIN:VEVENT
DTSTART;TZID=America/New_York:20251022T183000
DTEND;TZID=America/New_York:20251022T203000
DTSTAMP:20260423T223401
CREATED:20250829T192806Z
LAST-MODIFIED:20250829T192806Z
UID:10008082-1761157800-1761165000@jubileemd.org
SUMMARY:MCPS Transitioning Youth Fair
DESCRIPTION:Meet Jubilee’s admissions and Breaking Barriers team at a county-wide resource fair and learn how we can help your loved one with disabilities live independently.
URL:https://jubileemd.org/event/mcps-transitioning-youth-fair/
LOCATION:Richard Montgomery High School\, 250 Richard Montgomery Drive\, Rockville\, 20852\, United States
CATEGORIES:Administration
ATTACH;FMTTYPE=image/jpeg:https://jubileemd.org/wp-content/uploads/2025/08/Hayley-at-fair-scaled.jpg
ORGANIZER;CN="Hayley Dutton":MAILTO:admissions@jubileemd.org
END:VEVENT
BEGIN:VEVENT
DTSTART;TZID=America/New_York:20250924T183000
DTEND;TZID=America/New_York:20250924T193000
DTSTAMP:20260423T223401
CREATED:20250829T192527Z
LAST-MODIFIED:20250829T192527Z
UID:10008081-1758738600-1758742200@jubileemd.org
SUMMARY:Virtual Community Service Provider Information Night | Meet Jubilee
DESCRIPTION:Meet Jubilee’s admissions and Breaking Barriers team at this virtual event and learn how we can help your loved one with disabilities live independently. \nHosted by the MoCo Non-public Coalition for Transitioning Youth with High Support Needs. 
URL:https://jubileemd.org/event/virtual-community-service-provider-information-night-meet-jubilee/
CATEGORIES:Administration
ATTACH;FMTTYPE=image/jpeg:https://jubileemd.org/wp-content/uploads/2025/08/Hayley-at-fair-scaled.jpg
ORGANIZER;CN="Hayley Dutton":MAILTO:admissions@jubileemd.org
END:VEVENT
BEGIN:VEVENT
DTSTART;TZID=America/New_York:20250904T170000
DTEND;TZID=America/New_York:20250904T180000
DTSTAMP:20260423T223401
CREATED:20250829T191249Z
LAST-MODIFIED:20250829T191438Z
UID:10008079-1757005200-1757008800@jubileemd.org
SUMMARY:County Resource Fair | Meet Jubilee
DESCRIPTION:Meet Jubilee’s admissions and Breaking Barriers team at a county-wide resource fair and learn how we can help your loved one with disabilities live independently. \nThe fair is in the school gym.
URL:https://jubileemd.org/event/dsp-celebration-dinner-2/
LOCATION:Rock Terrace School\, 11400 Marcliff Road\, Rockville\, MD\, 20851\, United States
CATEGORIES:Administration
ATTACH;FMTTYPE=image/jpeg:https://jubileemd.org/wp-content/uploads/2025/08/Hayley-at-fair-scaled.jpg
ORGANIZER;CN="Hayley Dutton":MAILTO:admissions@jubileemd.org
END:VEVENT
END:VCALENDAR