BEGIN:VCALENDAR
VERSION:2.0
PRODID:-//Jubilee - ECPv6.15.20//NONSGML v1.0//EN
CALSCALE:GREGORIAN
METHOD:PUBLISH
X-ORIGINAL-URL:https://jubileemd.org
X-WR-CALDESC:Events for Jubilee
REFRESH-INTERVAL;VALUE=DURATION:PT1H
X-Robots-Tag:noindex
X-PUBLISHED-TTL:PT1H
BEGIN:VTIMEZONE
TZID:America/New_York
BEGIN:DAYLIGHT
TZOFFSETFROM:-0500
TZOFFSETTO:-0400
TZNAME:EDT
DTSTART:20250309T070000
END:DAYLIGHT
BEGIN:STANDARD
TZOFFSETFROM:-0400
TZOFFSETTO:-0500
TZNAME:EST
DTSTART:20251102T060000
END:STANDARD
BEGIN:DAYLIGHT
TZOFFSETFROM:-0500
TZOFFSETTO:-0400
TZNAME:EDT
DTSTART:20260308T070000
END:DAYLIGHT
BEGIN:STANDARD
TZOFFSETFROM:-0400
TZOFFSETTO:-0500
TZNAME:EST
DTSTART:20261101T060000
END:STANDARD
BEGIN:DAYLIGHT
TZOFFSETFROM:-0500
TZOFFSETTO:-0400
TZNAME:EDT
DTSTART:20270314T070000
END:DAYLIGHT
BEGIN:STANDARD
TZOFFSETFROM:-0400
TZOFFSETTO:-0500
TZNAME:EST
DTSTART:20271107T060000
END:STANDARD
END:VTIMEZONE
BEGIN:VEVENT
DTSTART;TZID=America/New_York:20260417T093000
DTEND;TZID=America/New_York:20260417T163000
DTSTAMP:20260422T132617
CREATED:20260305T172049Z
LAST-MODIFIED:20260305T172049Z
UID:10008305-1776418200-1776443400@jubileemd.org
SUMMARY:Mandt Technical
DESCRIPTION:Trauma-informed training teaches crisis prevention and de-escalation skills proven to create an environment where everyone can say\, In this place\, and with these people\, I feel safe. \nThis is a two-part course. You may register to take only one part (Relational or Technical) if that is all you need to complete. If you only register for Mandt Technical\, please submit proof that you are current on Mandt Relational and be prepared to take a written test. \nCourse length: Typically 7 hours for Mandt Technical. Lunch is provided. \nRecertification: Required for DSPs every year. \nCost: $150.00
URL:https://jubileemd.org/event/mandt-technical-11/
LOCATION:The Academy at Jubilee\, 10408 Montgomery Avenue\, Kensington\, MD\, 20895\, United States
CATEGORIES:Academy Courses,Mandt Technical
ATTACH;FMTTYPE=image/jpeg:https://jubileemd.org/wp-content/uploads/2024/09/Jubilee-Environmental-6-scaled-1.jpg
END:VEVENT
BEGIN:VEVENT
DTSTART;TZID=America/New_York:20260411T093000
DTEND;TZID=America/New_York:20260411T163000
DTSTAMP:20260422T132617
CREATED:20260302T194357Z
LAST-MODIFIED:20260302T194357Z
UID:10008296-1775899800-1775925000@jubileemd.org
SUMMARY:Mandt Relational
DESCRIPTION:Trauma-informed training teaches crisis prevention and de-escalation skills proven to create an environment where everyone can say\, “In this place\, and with these people\, I feel safe.” \nThis is a two-part course. You may register to take only one part (Relational or Technical) if that is all you need to complete. \nCourse length: Typically 7 hours for Mandt Relational. Lunch is provided each day of training. \nRecertification: Required for DSPs every year. \nCost: $150.00
URL:https://jubileemd.org/event/mandt-relational-4/
LOCATION:The Academy at Jubilee\, 10408 Montgomery Avenue\, Kensington\, MD\, 20895\, United States
CATEGORIES:Academy Courses,Mandt Relational
ATTACH;FMTTYPE=image/jpeg:https://jubileemd.org/wp-content/uploads/2024/09/Jubilee-Environmental-6-scaled-1.jpg
ORGANIZER;CN="Melanie Moore":MAILTO:academy@jubileemd.org
END:VEVENT
BEGIN:VEVENT
DTSTART;TZID=America/New_York:20260409T093000
DTEND;TZID=America/New_York:20260409T163000
DTSTAMP:20260422T132617
CREATED:20260325T135250Z
LAST-MODIFIED:20260325T135250Z
UID:10008329-1775727000-1775752200@jubileemd.org
SUMMARY:Mandt Technical
DESCRIPTION:Trauma-informed training teaches crisis prevention and de-escalation skills proven to create an environment where everyone can say\, In this place\, and with these people\, I feel safe. \nThis is a two-part course. You may register to take only one part (Relational or Technical) if that is all you need to complete. If you only register for Mandt Technical\, please submit proof that you are current on Mandt Relational and be prepared to take a written test. \nCourse length: Typically 7 hours for Mandt Technical. Lunch is provided. \nRecertification: Required for DSPs every year. \nCost: $150.00
URL:https://jubileemd.org/event/mandt-technical-15/
LOCATION:The Academy at Jubilee\, 10408 Montgomery Avenue\, Kensington\, MD\, 20895\, United States
CATEGORIES:Academy Courses,Mandt Technical
ATTACH;FMTTYPE=image/jpeg:https://jubileemd.org/wp-content/uploads/2024/09/Jubilee-Environmental-6-scaled-1.jpg
END:VEVENT
BEGIN:VEVENT
DTSTART;TZID=America/New_York:20260408T093000
DTEND;TZID=America/New_York:20260408T163000
DTSTAMP:20260422T132617
CREATED:20260325T135457Z
LAST-MODIFIED:20260325T135457Z
UID:10008330-1775640600-1775665800@jubileemd.org
SUMMARY:Mandt Relational
DESCRIPTION:Trauma-informed training teaches crisis prevention and de-escalation skills proven to create an environment where everyone can say\, “In this place\, and with these people\, I feel safe.” \nThis is a two-part course. You may register to take only one part (Relational or Technical) if that is all you need to complete. \nCourse length: Typically 7 hours for Mandt Relational. Lunch is provided each day of training. \nRecertification: Required for DSPs every year. \nCost: $150.00
URL:https://jubileemd.org/event/mandt-relational-5/
LOCATION:The Academy at Jubilee\, 10408 Montgomery Avenue\, Kensington\, MD\, 20895\, United States
CATEGORIES:Academy Courses,Mandt Relational
ATTACH;FMTTYPE=image/jpeg:https://jubileemd.org/wp-content/uploads/2024/09/Jubilee-Environmental-6-scaled-1.jpg
ORGANIZER;CN="Melanie Moore":MAILTO:academy@jubileemd.org
END:VEVENT
BEGIN:VEVENT
DTSTART;TZID=America/New_York:20260401T093000
DTEND;TZID=America/New_York:20260401T133000
DTSTAMP:20260422T132617
CREATED:20260302T193818Z
LAST-MODIFIED:20260302T193818Z
UID:10008293-1775035800-1775050200@jubileemd.org
SUMMARY:Adult CPR\, First Aid\, AED
DESCRIPTION:Learn how to recognize and respond to medical emergencies. \nCourse length: 4 hours \nRecertification: Required every two years. \nCost: $85.00
URL:https://jubileemd.org/event/adult-cpr-first-aid-aed-5/
LOCATION:The Academy at Jubilee\, 10408 Montgomery Avenue\, Kensington\, MD\, 20895\, United States
CATEGORIES:Academy Courses,Adult CPR, First Aid, and AED
ATTACH;FMTTYPE=image/jpeg:https://jubileemd.org/wp-content/uploads/2024/09/Jubilee-Environmental-13-scaled-1-e1749822396141.jpg
ORGANIZER;CN="Melanie Moore":MAILTO:academy@jubileemd.org
END:VEVENT
BEGIN:VEVENT
DTSTART;TZID=America/New_York:20260327T093000
DTEND;TZID=America/New_York:20260327T163000
DTSTAMP:20260422T132617
CREATED:20260120T173001Z
LAST-MODIFIED:20260317T125742Z
UID:10008251-1774603800-1774629000@jubileemd.org
SUMMARY:Mandt Technical
DESCRIPTION:Trauma-informed training teaches crisis prevention and de-escalation skills proven to create an environment where everyone can say\, In this place\, and with these people\, I feel safe. \nThis is a two-part course. You may register to take only one part (Relational or Technical) if that is all you need to complete. If you only register for Mandt Technical\, please submit proof that you are current on Mandt Relational and be prepared to take a written test. \nCourse length: Typically 7 hours for Mandt Technical. Lunch is provided. \nRecertification: Required for DSPs every year. \nCost: $150.00
URL:https://jubileemd.org/event/mandt-technical-10/
LOCATION:The Academy at Jubilee\, 10408 Montgomery Avenue\, Kensington\, MD\, 20895\, United States
CATEGORIES:Academy Courses,Mandt Technical
ATTACH;FMTTYPE=image/jpeg:https://jubileemd.org/wp-content/uploads/2024/09/Jubilee-Environmental-6-scaled-1.jpg
END:VEVENT
BEGIN:VEVENT
DTSTART;TZID=America/New_York:20260326T093000
DTEND;TZID=America/New_York:20260326T163000
DTSTAMP:20260422T132617
CREATED:20260120T172243Z
LAST-MODIFIED:20260120T172243Z
UID:10008247-1774517400-1774542600@jubileemd.org
SUMMARY:Mandt Relational
DESCRIPTION:Trauma-informed training teaches crisis prevention and de-escalation skills proven to create an environment where everyone can say\, “In this place\, and with these people\, I feel safe.” \nThis is a two-part course. You may register to take only one part (Relational or Technical) if that is all you need to complete. \nCourse length: Typically 7 hours for Mandt Relational. Lunch is provided each day of training. \nRecertification: Required for DSPs every year. \nCost: $150.00
URL:https://jubileemd.org/event/mandt-relational-27/
LOCATION:The Academy at Jubilee\, 10408 Montgomery Avenue\, Kensington\, MD\, 20895\, United States
CATEGORIES:Academy Courses,Mandt Relational
ATTACH;FMTTYPE=image/jpeg:https://jubileemd.org/wp-content/uploads/2024/09/Jubilee-Environmental-6-scaled-1.jpg
END:VEVENT
BEGIN:VEVENT
DTSTART;TZID=America/New_York:20260224T093000
DTEND;TZID=America/New_York:20260224T133000
DTSTAMP:20260422T132617
CREATED:20251224T122359Z
LAST-MODIFIED:20251224T122359Z
UID:10008201-1771925400-1771939800@jubileemd.org
SUMMARY:Adult CPR\, First Aid\, AED
DESCRIPTION:Learn how to recognize and respond to medical emergencies. \nCourse length: 4 hours \nRecertification: Required every two years. \nCost: $85.00
URL:https://jubileemd.org/event/adult-cpr-first-aid-aed-4/
LOCATION:The Academy at Jubilee\, 10408 Montgomery Avenue\, Kensington\, MD\, 20895\, United States
CATEGORIES:Academy Courses,Adult CPR, First Aid, and AED
ATTACH;FMTTYPE=image/jpeg:https://jubileemd.org/wp-content/uploads/2024/09/Jubilee-Environmental-13-scaled-1-e1749822396141.jpg
ORGANIZER;CN="Melanie Moore":MAILTO:academy@jubileemd.org
END:VEVENT
BEGIN:VEVENT
DTSTART;TZID=America/New_York:20260220T100000
DTEND;TZID=America/New_York:20260220T120000
DTSTAMP:20260422T132617
CREATED:20251224T152514Z
LAST-MODIFIED:20260106T210347Z
UID:10008212-1771581600-1771588800@jubileemd.org
SUMMARY:Transformative Communication
DESCRIPTION:Learn how to successfully manage crucial\, highly charged conversations using emotional intelligence\, cultural humility\, and language that invites partnership. \nCourse length: 2 hours \nRecertification: Not required. \nCost: $45.00
URL:https://jubileemd.org/event/transformative-communication/
LOCATION:The Academy at Jubilee\, 10408 Montgomery Avenue\, Kensington\, MD\, 20895\, United States
CATEGORIES:Academy Courses,Transformative Communication
ATTACH;FMTTYPE=image/jpeg:https://jubileemd.org/wp-content/uploads/2024/09/Jubilee-Environmental-18-scaled-1.jpg
ORGANIZER;CN="Melanie Moore":MAILTO:academy@jubileemd.org
END:VEVENT
BEGIN:VEVENT
DTSTART;TZID=America/New_York:20260203T093000
DTEND;TZID=America/New_York:20260203T133000
DTSTAMP:20260422T132617
CREATED:20251224T121921Z
LAST-MODIFIED:20251224T121921Z
UID:10008199-1770111000-1770125400@jubileemd.org
SUMMARY:Adult CPR\, First Aid\, AED
DESCRIPTION:Learn how to recognize and respond to medical emergencies. \nCourse length: 4 hours \nRecertification: Required every two years. \nCost: $85.00
URL:https://jubileemd.org/event/adult-cpr-first-aid-aed-2/
LOCATION:The Academy at Jubilee\, 10408 Montgomery Avenue\, Kensington\, MD\, 20895\, United States
CATEGORIES:Academy Courses,Adult CPR, First Aid, and AED
ATTACH;FMTTYPE=image/jpeg:https://jubileemd.org/wp-content/uploads/2024/09/Jubilee-Environmental-13-scaled-1-e1749822396141.jpg
ORGANIZER;CN="Melanie Moore":MAILTO:academy@jubileemd.org
END:VEVENT
END:VCALENDAR